BEGIN:VCALENDAR
VERSION:2.0
PRODID:-//https://techplay.jp//JP
CALSCALE:GREGORIAN
METHOD:PUBLISH
X-WR-CALDESC:セキュリティ x IoT縛りの勉強会! SecurityIoTLT#1
X-WR-CALNAME:セキュリティ x IoT縛りの勉強会! SecurityIoTLT#1
X-WR-TIMEZONE:Asia/Tokyo
BEGIN:VTIMEZONE
TZID:Asia/Tokyo
BEGIN:STANDARD
DTSTART:19700101T000000
TZOFFSETFROM:+0900
TZOFFSETTO:+0900
TZNAME:JST
END:STANDARD
END:VTIMEZONE
BEGIN:VEVENT
UID:693732@techplay.jp
SUMMARY:セキュリティ x IoT縛りの勉強会! SecurityIoTLT#1
DTSTART;TZID=Asia/Tokyo:20180914T190000
DTEND;TZID=Asia/Tokyo:20180914T220000
DTSTAMP:20260420T110018Z
CREATED:20180831T021305Z
DESCRIPTION:イベント詳細はこちら\nhttps://techplay.jp/event/69373
 2?utm_medium=referral&utm_source=ics&utm_campaign=ics\n\n\n8/31 登壇者
 募集 立候補される方はこちらにコメントお願いします
 。\nセキュリティ×IoTでライトニングトーク！\nIoTの取
 り組みで忘れちゃいけないのがセキュリティ!!\n何度も
 聞いたこのセリフ...\n\nでもセキュリティ×IoTテーマのL
 T大会ってなかなか聞かないのが現状...\nそれなら開催
 するしかない！\n\nと言うわけでSecurityIoTLTの場を用意
 しました!!\n\n遅れてきた場合、立ち見になる可能性が
 あります。\nこの会で何ができるか\n\nセキュリティ x I
 oTの知見が広がる\nセキュリティ x IoT界隈の人と仲間に
 なれる（かも）\nLTをきっかけにビジネス開拓につなが
 る（かも）\n\n開催前後の交流ためのFBグループもあり
 ます！\nhttps://www.facebook.com/groups/IoTLT \n情報はこちらで
 流れてるので是非ご参加下さい！\nLT登壇希望者はFBグ
 ループにてコメントください！\n8/30 まだ募集開始して
 いません。~~\n会場はオシャレスペースInnovation Space DEJI
 MA\nアクセス\n◆場所：東京都品川区東五反田2-10-2 東五
 反田スクエア13階 「Innovation Space DEJIMA」\n◆最寄駅\n　
 五反田駅 徒歩5分\n　大崎駅 徒歩7分\n入館方法\n\nビル
 は入館カードは不要ですので、直接DEJIMAまでいらして
 ください。\n尚、20時以降ビルの正面・裏面玄関が閉ま
 りますので、ビル横（タワーマンション側）の通用口
 から入館となります。\n22時以降入館は要連絡（22時に
 通用口が施錠されます）\n\n【重要】お願い事項\n\n来
 場者管理として受付にてお名刺を頂戴いたします。（
 来場者管理以外の目的では使用致しません）\n\nタイム
 テーブル\nLTは一人5分を予定しています。\n\n\n\n時間\n
 発表者\n内容\n\n\n\n\n\n19:00\n開場\n\n\n\n\n19:30\n主催あい
 さつ\nLumin Hacker\n\n\n\nLT開始\n\n\n\n\n\n\nスポンサーLT : CTC
  渡邊様\n会場案内 / Innovation Space DEJIMAについて\n\n\n\n\nL
 T :上松 亮介\nIoT × 無線のセキュリティ\n\n\n\n\nLT :宮本 
 浩二\nBrickerBotの解説\n\n\n\n\nLT : Yuki\n(車の) スマートキ
 ー、リプレイ攻撃\n\n\n\n\nLT :勝原 達也\nIoTデバイス診
 断であった怖い話 - AWS IoT編 -\n\n\n\n\nLT : 黒林檎\n怪し
 いIoT機器の見つけ方\n\n\n\n小休憩\n\n\n\n\n\n\nスポンサー
 LT :日本ハッカー協会\nIoTの法的リスクのある活動\n\n\n\
 n\nLT :河野 悦昌\nBadUSBとソーシャルハック\n\n\n\n\nLT : 眞
 崎康平\n魔改造PCで移動できるパスワード解析ハードを
 作りました\n\n\n\n\nLT :\n\n\n\n\n\nLT :\n\n\n\n\n\nLT :\n\n\n\n\n21
 :00\n主催まとめ\nLumin Hacker\n\n\n\n懇親会\n\n\n\n\n\n\nセキ
 ュリティやIoTに興味のある方なら初心者、熟練者問わ
 ずどなたでもご参加できます！\n主催\nLumin Hacker\n諸注
 意\n\nイベント内容は一部変更になる可能性がございま
 す。\nイベント当日の様子は後日何らかの媒体にて公
 開させていただくことがございます。\nお申込後運営
 都合によりご参加をキャンセルさせて頂く場合がござ
 います。予めご了承頂けますようお願いいたします。\
 n
LOCATION:DEJIMA 東京都品川区東五反田2-10-2 東五反田スクエ
 ア13階
URL:https://techplay.jp/event/693732?utm_medium=referral&utm_source=ics&utm
 _campaign=ics
END:VEVENT
END:VCALENDAR
