BEGIN:VCALENDAR
VERSION:2.0
PRODID:-//https://techplay.jp//JP
CALSCALE:GREGORIAN
METHOD:PUBLISH
X-WR-CALDESC:CoderDojo Kurashiki 第四回
X-WR-CALNAME:CoderDojo Kurashiki 第四回
X-WR-TIMEZONE:Asia/Tokyo
BEGIN:VTIMEZONE
TZID:Asia/Tokyo
BEGIN:STANDARD
DTSTART:19700101T000000
TZOFFSETFROM:+0900
TZOFFSETTO:+0900
TZNAME:JST
END:STANDARD
END:VTIMEZONE
BEGIN:VEVENT
UID:694122@techplay.jp
SUMMARY:CoderDojo Kurashiki 第四回
DTSTART;TZID=Asia/Tokyo:20180909T130000
DTEND;TZID=Asia/Tokyo:20180909T170000
DTSTAMP:20260420T024541Z
CREATED:20180901T020907Z
DESCRIPTION:イベント詳細はこちら\nhttps://techplay.jp/event/69412
 2?utm_medium=referral&utm_source=ics&utm_campaign=ics\n\nCoderDojo Kurash
 iki 第四回\n場所：倉敷市倉敷公民館 1F第一会議室　倉
 敷市本町2-21　(http://www.kurashiki-oky.ed.jp/kurashiki-ph/index.htm
 l\n) 　※今回は公民館です。駐車場はありますが、数
 が限られているのでご注意お願いします。地図はこち
 らを参考ください http://www.kurashiki-oky.ed.jp/kurashiki-ph/acce
 ss.html\n持ち物：ノートPC（持ち込みの方）、USBメモリ
 ー(PCレンタルの方)、参考書（持っている人）など プ
 ログラミングを始めてみたい！という初心者さんはス
 クラッチというソフトで始めてみましょう。 キーボー
 ドで入力しなくても画面上でブロックを組み合わせれ
 ばゲームが作れます。\n※注意事項　見学について：
 見学に行って参加するかもという方は事前参加申込く
 ださい。基本的に見学の方にはPC貸出できません。\n会
 議室の開場について：会議室は12時45分から入れます。
 それ以前は開いていませんのでよろしくお願いします
 。\n参加費：無料\n対象：小中学/高校生\n当日のスケジ
 ュール ※15時から希望者のみ自主勉強、それか「知育
 玩具で遊んでみよう」\n13:00〜　スクラッチ勉強会の説
 明、自己紹介\n13:15〜　スクラッチ勉強会の開始\n14:30
 〜　スクラッチ勉強会発表タイム\n15:00　　スクラッチ
 勉強会終了 17時まで自主勉強\n17時前に片付けて終了\n
 お問い合わせ、ご質問は以下までお願いします。\nた
 くみクラフト　電話：086-421-7100 　Eメール：info☆takumik
 ai.org　☆を@に変更してください\n※記録や告知用に会
 の様子を撮影します。参加者の名前を公表することは
 ありませんが、画像の公開を望まれない方はお知らせ
 下さい。第一部の体験会は別ページから申込みお願い
 します。
LOCATION:倉敷市倉敷公民館 倉敷市本町2-21
URL:https://techplay.jp/event/694122?utm_medium=referral&utm_source=ics&utm
 _campaign=ics
END:VEVENT
END:VCALENDAR
