BEGIN:VCALENDAR
VERSION:2.0
PRODID:-//https://techplay.jp//JP
CALSCALE:GREGORIAN
METHOD:PUBLISH
X-WR-CALDESC:ブロックチェーンもくもく会
X-WR-CALNAME:ブロックチェーンもくもく会
X-WR-TIMEZONE:Asia/Tokyo
BEGIN:VTIMEZONE
TZID:Asia/Tokyo
BEGIN:STANDARD
DTSTART:19700101T000000
TZOFFSETFROM:+0900
TZOFFSETTO:+0900
TZNAME:JST
END:STANDARD
END:VTIMEZONE
BEGIN:VEVENT
UID:694788@techplay.jp
SUMMARY:ブロックチェーンもくもく会
DTSTART;TZID=Asia/Tokyo:20180909T130000
DTEND;TZID=Asia/Tokyo:20180909T150000
DTSTAMP:20260423T002413Z
CREATED:20180904T100922Z
DESCRIPTION:イベント詳細はこちら\nhttps://techplay.jp/event/69478
 8?utm_medium=referral&utm_source=ics&utm_campaign=ics\n\n日曜日にHash
 Hubでもくもく会を開催します。ブロックチェーン/暗号
 通貨に関することならリサーチでもコードを書くので
 もホワイトペーパー読み漁りでも、なんでも構いませ
 ん。主体的にやりたいテーマを持ち寄って黙々と作業
 をする会です。\nイベントに参加するのもよいですが
 プレゼンを聞いて満足して帰宅後に内容が記憶から消
 えてしまったりしていませんか？やりたいことがたま
 っている人、みんながいる方がやる気が出る人、一緒
 に生産的な時間を過ごしましょう！\n対象者\nブロック
 チェーンや暗号通貨に関する作業や勉強をしたい人\n
 スケジュール\n13:00―13:10　自己紹介\n13:10－14:45　もく
 もくタイム\n14:45－15:00　成果発表   \n15：00－　　　 自
 由解散  \n＊スペースの営業時間は10：00～19：00です。
 フライングでもくもくしたり、残って作業するのもOK
 です。\n持ち物\n・本、ノートパソコン、電源など、作
 業に必要なもの\n・やる気\n・飲みもの (ウォーターサ
 ーバーは会場にあります)  \nオフィスへの入り方\n休日
 は正面玄関が閉まってしまいます。建物左手にまわっ
 て、駐車場のドアから 701の呼び鈴を押してください。
 \n詳しくはこちらをご覧ください。https://drive.google.com/f
 ile/d/1TVvFt1Jv7YjfAQXjUNp4Unzk3lPXfn5h/view\n注意事項\n・イベン
 ト内容は一部変更になる可能性がございます。\n・投
 資・投資勧誘が目的でのご来場はご遠慮ください。会
 場内にてそのような行為を発見した場合はご退場いた
 だく場合があります。
LOCATION:HashHub 東京都文京区本郷3–38–1本郷信徳ビル7階
URL:https://techplay.jp/event/694788?utm_medium=referral&utm_source=ics&utm
 _campaign=ics
END:VEVENT
END:VCALENDAR
