BEGIN:VCALENDAR
VERSION:2.0
PRODID:-//https://techplay.jp//JP
CALSCALE:GREGORIAN
METHOD:PUBLISH
X-WR-CALDESC:NuxtMeetUp#5(再度枠増加)
X-WR-CALNAME:NuxtMeetUp#5(再度枠増加)
X-WR-TIMEZONE:Asia/Tokyo
BEGIN:VTIMEZONE
TZID:Asia/Tokyo
BEGIN:STANDARD
DTSTART:19700101T000000
TZOFFSETFROM:+0900
TZOFFSETTO:+0900
TZNAME:JST
END:STANDARD
END:VTIMEZONE
BEGIN:VEVENT
UID:695772@techplay.jp
SUMMARY:NuxtMeetUp#5(再度枠増加)
DTSTART;TZID=Asia/Tokyo:20181018T193000
DTEND;TZID=Asia/Tokyo:20181018T220000
DTSTAMP:20260421T210850Z
CREATED:20180910T061221Z
DESCRIPTION:イベント詳細はこちら\nhttps://techplay.jp/event/69577
 2?utm_medium=referral&utm_source=ics&utm_campaign=ics\n\n概要\nNuxt.js
 に関する勉強会です。(非公式)\nNuxt.jsに関して、お酒
 飲みながらわいわいLTしていきます！\n当日は19:00より
 受付開始19:30スタートを予定しております。\nLT終了後
 に親睦会もありますのでぜひご参加ください！\nスケ
 ジュール\n\n\n\n開始\n終了\n内容\n発表者\n時間\n\n\n\n\n19
 :00\n19:30\n受付\n\n0:30\n\n\n19:30\n19:40\nはじめの挨拶\nhiroki\
 n0:10\n\n\n19:40\n19:50\nスポンサーLT\nCyberAgent\n0:10\n\n\n19:50\n
 20:00\nLT1\nhiroki_yoshitugu\n0:10\n\n\n20:00\n20:10\nLT2\nmasaakikunsan\
 n0:10\n\n\n20:10\n20:20\nLT3\nかめぽん\n0:10\n\n\n20:20\n20:30\n休
 憩\n\n0:10\n\n\n20:30\n20:40\nLT4\nYuki Terashima\n0:10\n\n\n20:40\n20:5
 0\nLT5\nodan\n0:10\n\n\n20:50\n21:00\nLT6\nTame\n0:10\n\n\n21:00\n22:00\n
 親睦会\n\n1:00\n\n\n\n会場\n株式会社サイバーエージェン
 ト 東京都渋谷区円山町19番1号渋谷プライムプラザ4階\n
 渋谷駅から徒歩10分\n山手線、東急東横線、副都心線、
 銀座線、半蔵門線、田園都市線など\n（メトロからお
 越しの場合、地下から地上までが少し距離があるので
 、お時間に余裕をもってお越しください）\nhttps://www.cy
 beragent.co.jp/corporate/access/detail/id=20008\n会場までの入館方
 法\nエレベーターで4階までおあがりください\n諸注意\n
 \n欠席のご連絡は connpass 上でお早めにお願いいたしま
 す（繰り上げ当選された方に発表のご準備が必要にな
 るため）\n繰り上げ当選された方で準備が間に合わな
 い場合は、発表なしでご参加いただいて構いません\n
 宣伝や採用のみを目的とした方のご参加はご遠慮くだ
 さい\n
LOCATION:CyberAgent 東京都渋谷区円山町19-1 (渋谷プライムプ
 ラザ)
URL:https://techplay.jp/event/695772?utm_medium=referral&utm_source=ics&utm
 _campaign=ics
END:VEVENT
END:VCALENDAR
