BEGIN:VCALENDAR
VERSION:2.0
PRODID:-//https://techplay.jp//JP
CALSCALE:GREGORIAN
METHOD:PUBLISH
X-WR-CALDESC:【今すぐWEBから成果が出る】 サイトリニュー
 アル＆SEMの成功法を学べるセミナー
X-WR-CALNAME:【今すぐWEBから成果が出る】 サイトリニュー
 アル＆SEMの成功法を学べるセミナー
X-WR-TIMEZONE:Asia/Tokyo
BEGIN:VTIMEZONE
TZID:Asia/Tokyo
BEGIN:STANDARD
DTSTART:19700101T000000
TZOFFSETFROM:+0900
TZOFFSETTO:+0900
TZNAME:JST
END:STANDARD
END:VTIMEZONE
BEGIN:VEVENT
UID:695806@techplay.jp
SUMMARY:【今すぐWEBから成果が出る】 サイトリニューアル
 ＆SEMの成功法を学べるセミナー
DTSTART;TZID=Asia/Tokyo:20180926T160000
DTEND;TZID=Asia/Tokyo:20180926T183000
DTSTAMP:20260423T053500Z
CREATED:20180910T062259Z
DESCRIPTION:イベント詳細はこちら\nhttps://techplay.jp/event/69580
 6?utm_medium=referral&utm_source=ics&utm_campaign=ics\n\n【今すぐWEB
 から成果が出る】 サイトリニューアル＆SEMの成功法を
 学べるセミナー\n\n\n\n概要\n\n企業のWeb担当者様必見！
 ！\nWebサイトのリニューアルから運用（SEM）まで学べ
 るセミナーが開催決定！！\n\n\n\n数々のWebコンサル・
 サイトリニューアル案件をこなしてきた【株式会社ア
 リウープ】と、 \nSEMのプロである【株式会社ジオコー
 ド】がコラボセミナーを開催！\n\nこんな方へおすすめ
 です！\n\n「サイトリニューアルの注意点を把握してお
 きたい」\n\n「リニューアルをして成果を出したい。」
 \n\n「リニューアル後にSEOやリスティング広告を考えて
 いる」\n\n「SEOやリスティング広告がうまくいっていな
 い」\n\n「WEBから売上を上げるミッションを与えられて
 いるが、動き出せていない」\n\nとお悩みのWEBサイト担
 当者様、責任者様\n\nタイムスケジュール\n\n\n\n\n  時間
 \n  内容\n\n\n\n\n  15:30〜\n  受付開始\n\n\n  16:00～16:05\n  
 ご挨拶・諸注意\n\n\n  16:05〜17:05\n  【第一部】サイトリ
 ニューアルの成功の鍵はWeb担当者だった！５つのコツ
 を押さえよう株式会社アリウープ　代表取締役　河野 
 吉雄\n\n\n  17:05〜17:15\n  休憩\n\n\n  17:15～18:15\n  【第二
 部】SEM成功の10のコツ～SEMで『これから客』『今すぐ
 客』の両方を取り込もう～株式会社ジオコード Webマー
 ケティング部 マーケティング課長　富安 洋平\n\n\n  18:
 15～\n  質疑応答(自由退出)\n\n\n\n\n※ 当日予告なく時間
 配分・内容が変更になる可能性がございます。\n\n登壇
 者\n\n\n\n河野 吉雄\n\n株式会社アリウープ　代表取締役
 \n\n弊社が多くのお客様のお手伝いをする中から得た、
 Webリニューアルを成功させるためのWeb担当者様の役割
 と影響力を、事例を交えながらご紹介します。\n役割
 と影響力を知っていただくことで、リニューアルプロ
 ジェクトの成果はもちろん、Web担当者様自身の評価や
 キャリアプランなどにも良い影響を与えることができ
 ます。\n\n\n\n\n\n\n富安 洋平\n\n株式会社ジオコード Web
 マーケティング部 マーケティング課長\n\n検索エンジ
 ンマーケティングの略称であるSEM。\n時代の流れに沿
 って急激に変化する領域がゆえに敬遠している担当者
 様も多いのではないでしょうか。\n10年以上SEMを分析し
 、サービス提供をしてきたジオコードが、今のSEMを実
 施する上で忘れてはいけないコツを解説いたします。\
 n\n\n\n\n参加対象\n\n\n企業のWeb責任者\n企業のWeb担当者\n
 \n\n※ リクルーティング、勧誘など、採用目的でのイ
 ベント参加はお断りしております。\n※ 競合他社様の
 ご参加は、ご遠慮いただいておりますのでご了承くだ
 さい。\n※ 欠席される場合は、お手数ですが速やかに
 キャンセル処理をお願い致します。\n\n持ち物\n\n名刺
 ２枚\n※ 受付時にお渡し下さい。\n\n参加費\n\n無料\n\n
 注意事項\n\n※定員を超えた場合は先着順とさせて頂き
 ます。\n※当日は会場受付まで名刺2枚をご持参くださ
 い。\n※競合他社様のご参加は、ご遠慮いただいてお
 りますのでご了承ください。\n※講演の内容は予告な
 く変更となる場合がございます。\n\nご協力のお願い\n\
 n・申込後のキャンセルについては、前日までにご連絡
 ください。\n・セミナー進行の都合上、10分前のご着席
 をお願いしております。\n・セミナー風景を写真撮影
 して利用させて頂きます。\n　万が一個人が特定でき
 る画像の場合、モザイク等で特定できない状態へ\n　
 加工を行った上で、利用させて頂く事がございます。\
 n　何卒ご理解・ご了承くださいますようお願いいたし
 ます。\n\n個人情報保護方針について\n\n今回ご提供い
 ただく個人情報は、株式会社アリウープと本セミナー
 の共催企業が取り扱い、\n各社の個人情報保護方針に
 基づき厳重に管理いたします。\n
LOCATION:株式会社ジオコード　セミナールーム （JR新宿ミ
 ライナタワー10F） 東京都新宿区新宿4-1-6 JR新宿ミライ
 ナタワー10F
URL:https://techplay.jp/event/695806?utm_medium=referral&utm_source=ics&utm
 _campaign=ics
END:VEVENT
END:VCALENDAR
