BEGIN:VCALENDAR
VERSION:2.0
PRODID:-//https://techplay.jp//JP
CALSCALE:GREGORIAN
METHOD:PUBLISH
X-WR-CALDESC:「チャットボット活用セミナー」NTTドコモの
 チャットボットプラットフォーム「Repl-AI」で変わる 
 マーケティングの今と未来
X-WR-CALNAME:「チャットボット活用セミナー」NTTドコモの
 チャットボットプラットフォーム「Repl-AI」で変わる 
 マーケティングの今と未来
X-WR-TIMEZONE:Asia/Tokyo
BEGIN:VTIMEZONE
TZID:Asia/Tokyo
BEGIN:STANDARD
DTSTART:19700101T000000
TZOFFSETFROM:+0900
TZOFFSETTO:+0900
TZNAME:JST
END:STANDARD
END:VTIMEZONE
BEGIN:VEVENT
UID:695808@techplay.jp
SUMMARY:「チャットボット活用セミナー」NTTドコモのチャ
 ットボットプラットフォーム「Repl-AI」で変わる マー
 ケティングの今と未来
DTSTART;TZID=Asia/Tokyo:20180927T153000
DTEND;TZID=Asia/Tokyo:20180927T171000
DTSTAMP:20260422T185749Z
CREATED:20180910T081826Z
DESCRIPTION:イベント詳細はこちら\nhttps://techplay.jp/event/69580
 8?utm_medium=referral&utm_source=ics&utm_campaign=ics\n\nチャットボ
 ット活用セミナーNTTドコモのチャットボットプラット
 フォーム「Repl-AI」で変わるマーケティングの今と未来
 \n\n概要\n\nユーザーからの質問に自動で対応するチャ
 ットボットは、カスタマーサポート業務をはじめ営業
 支援、社内ヘルプデスクなど多様な用途で導入が進ん
 でいます。中でもBtoCでのやり取りにおいては、チャッ
 トツールでのコミュニケーションが主流となりユーザ
 ー導線が変化した今、チャットボットを採用する企業
 が増えております。\n今回はチャットボットプラット
 フォーム「Repl-AI」を展開する株式会社NTTドコモより、
 同事業のチームリーダーである小林拓也氏をお招きし
 て、チャットボットの可能性についてお話いただきま
 す。\n\nタイムスケジュール\n\n\n\n\n  時間\n  内容\n\n\n\n
 \n  15:15〜\n  受付開始\n\n\n  15:30〜15:35\n  オープニング\n
 \n\n  15:35〜16:20\n  ビジネスでのチャットボット活用と
 今後の発展株式会社NTTドコモ / イノベーション統括部 
 クラウドソリューション担当　小林 拓也docomo Developer s
 upport の運営を経て、現在はチャットボット作成・実行
 プラットフォーム「Repl-AI」のチームリーダー。・NTT 
 ドコモがチャットボットになぜ取り組むのかその理由
 について・現状、実際に活用されているチャットボッ
 トの現状・他のサービスや技術などと組合せて、どの
 ような展開が考えらえるのか　チャットボットのこれ
 からについて\n\n\n  16:20〜16:25\n  休憩\n\n\n  16:25〜16:50\n 
  チャットボット導入事例のご紹介日本エンタープライ
 ズ / 取締役　技術本部長　杉山 浩一「Repl-AI」ビジネ
 スパートナーである、日本エンタープライズからチャ
 ットボット活用事例についてご紹介します。\n\n\n  16:50
 〜17:10\n  質疑応答・アンケート回答\n\n\n\n\n※ 当日予
 告なく時間配分・内容が変更になる可能性がございま
 す。\n\n参加対象\n\n\nチャットボットを導入したい企業
 様\nチャットボットの活用事例が知りたい企業様\nチャ
 ットボットの情報収集をしたい企業様\n\n\n※ リクルー
 ティング、勧誘など、採用目的でのイベント参加はお
 断りしております。\n※ 欠席される場合は、お手数で
 すが速やかにキャンセル処理をお願い致します。\n\n持
 ち物\n\n名刺1枚\n※ 受付時にお渡し下さい。\n\n参加費\
 n\n無料\n
LOCATION:日本エンタープライズ株式会社 東京都渋谷区渋
 谷1-17-8 松岡渋谷ビル 7F
URL:https://techplay.jp/event/695808?utm_medium=referral&utm_source=ics&utm
 _campaign=ics
END:VEVENT
END:VCALENDAR
