BEGIN:VCALENDAR
VERSION:2.0
PRODID:-//https://techplay.jp//JP
CALSCALE:GREGORIAN
METHOD:PUBLISH
X-WR-CALDESC:【オブジェクト指向編】C++クラス入門＆演習
X-WR-CALNAME:【オブジェクト指向編】C++クラス入門＆演習
X-WR-TIMEZONE:Asia/Tokyo
BEGIN:VTIMEZONE
TZID:Asia/Tokyo
BEGIN:STANDARD
DTSTART:19700101T000000
TZOFFSETFROM:+0900
TZOFFSETTO:+0900
TZNAME:JST
END:STANDARD
END:VTIMEZONE
BEGIN:VEVENT
UID:696145@techplay.jp
SUMMARY:【オブジェクト指向編】C++クラス入門＆演習
DTSTART;TZID=Asia/Tokyo:20181006T130000
DTEND;TZID=Asia/Tokyo:20181006T160000
DTSTAMP:20260420T055504Z
CREATED:20180911T153852Z
DESCRIPTION:イベント詳細はこちら\nhttps://techplay.jp/event/69614
 5?utm_medium=referral&utm_source=ics&utm_campaign=ics\n\n【オブジェ
 クト指向編】C++クラス入門＆演習\n\n概要\n\n「基本的
 なCやC++の文法は触ったことがある方」を対象とし、「
 オブジェクト指向型言語としてC++の中核であるクラス
 をマスターしていただくこと」をコンセプトにした講
 座です。\nC++の文法に自信がない方は、【初心者歓迎
 】C++入門を受講後に当講座を受講していただければと
 思います。\nレベル感としては、CまたはC++の入門レベ
 ルの基本文法がわかる方であればついてこれる内容に
 なっております。\nまた当講座を受講後、さらに実用
 的なレベルへとステップアップしたい方は、下記の講
 座の受講もお勧めいたします。\n\n関連講座\nレベル1:
 【初心者歓迎】C++入門\nレベル2:【オブジェクト指向編
 】C++クラス入門＆演習\nレベル3:【実用レベル】C++中級
 \nレベル4:【コードを書きまくれ！】C++徹底演習\n\nC++
 は、強力なライブラリを含む多機能を備えたC言語の上
 位互換言語です。その演算速度と言語としての強力さ
 ゆえ長年人気言語ランキングのトップクラスに君臨し
 続けています。実際にnumpy\, tensorflowなど多くのライブ
 ラリはC++によって実装されており、競技プログラミン
 グの世界ではほとんどの人がC++を使用しています。\n\n
 しかし、その強力さと引き換えに、C++はトップレベル
 に難しいと言われています。特にオブジェクト指向が
 絡んだ「クラス」周りの文法や考え方は特に入門者が
 苦労しやすい部分です。\n\n当講座はC++を理解する上で
 避けては通れないクラスの入門から実用レベルの内容
 までマスターするお手伝いをさせていただきます。\n\n
 当日は実戦形式で、演習問題を交えつつ進めていきま
 すので、C++のコンパイル環境をインストールしたPCの
 持参をお願い致します。\n※講座の進行は「VSCode」を
 使います。同じ実行環境で受講したい方は、インスト
 ールをお勧めします。\n\nこの講座で得られること\n\n\n
 C++クラスの徹底習得\nオブジェクト指向の基礎の習得\n
 \n\nカリキュラム\n\n\nクラスとは\nオブジェクトとは\n
 メンバ変数とメンバ関数\nコンストラクタとデストラ
 クタ\nprivateとpublic\nカプセル化\n継承\n関数オブジェク
 ト\n\n\n※ 項目別に演習問題を設けていますので、理解
 度を確認しながら受講いただけます。※ 当日予告なく
 時間配分・内容が変更になる可能性がございます。\n\n
 こんな人におすすめ\n\n\nC++を最短ルートでマスターし
 たい方\nC++のクラスをまとめて勉強したい方\n\n\n講師\n
 \n吉田　拓真\n東京大学大学院にてシステム開発の研究
 に従事。C++を用いて、ライブラリを使わずに独自に深
 層強化学習を実装したことをきっかけに機械学習に携
 わっている。現在は、C++やPythonを用いてニューラルネ
 ットワークと機械学習によるFXの変動予測及び自動取
 引ツールを開発している。\n\n崔　一鳴\n全人類がわか
 る統計学の管理人。大学にて統計学を専攻。サイトで
 はPython、R、仮説検定、統計の基礎の記事を中心に担当
 。現在は、PythonやRを使い、都内の私立大学医学部で統
 計解析の助手やDSコンペへの参加などの活動をしてい
 る。また東京工業大学大学院にて自然言語処理の研究
 にも従事。\n\n\n\n\n\n持ち物\n\n\nPC（C++のコンパイル環
 境インストール済み）\n※ インストールでお困りの方
 はinfo@to-kei.netまでご連絡いただければ、可能な範囲で
 対応致します。 ※ 講座の進行は「VSCode」を使います
 。同じ実行環境で受講したい方は、インストールをお
 勧めします。\n\n\n下記のサイトの手順でC++のコンパイ
 ラとVSCodeをインストール頂けます。\n\nC++の実行環境を
 Windowsにインストールする手順\nC++の実行環境をmacにイ
 ンストールする手順\n\n\n参加費\n\n前払い\n3500円\n\n※
 前払いの方で、やむを得ずキャンセルされる場合は、
 開催日の3日前までのご連絡に限り、払い戻し手数料を
 差し引いた金額を払い戻し致します。以降は払い戻し
 をできませんのでご注意ください。\n\n当日現金払い\n4
 000円 (受付時にお支払いください)\n\n領収書\n\n前払い
 の方\n 決済処理後にPaypalから送付されるメール内容、
 またはPaypalの取引履歴から該当項目を確認の上、「詳
 細」をご覧ください。それらが領収書の代わりとなり
 ます。また、クレジットカード会社発行の利用明細書
 も領収書としてご利用いただけます。（当社より重複
 しての発行は行えません)\n\n\n当日払いの方\n講座後の
 アンケートにて、「領収書が必要」にチェックを入れ
 るようにお願いいたします。領収書をメールにて送付
 させていただきます。\n\n受付・入場時間\n\n開始の15分
 前から\n\n問い合わせ\n\nイベントに関するお問い合わ
 せはinfo@to-kei.netまでご連絡ください。\n\n注意事項\n\n\n
 講義のコンテンツは全て「全人類がわかる統計学」に
 帰属していますので、複製はご遠慮ください。\n個人
 ブログへの講義コンテンツの掲載はご遠慮ください。\
 nリクルーティング、勧誘、採用活動など、目的に沿わ
 ない行為につきまして、主催者が相応しくないと判断
 した場合は即刻退出処分とします。全員が気持ちよく
 過ごすことが出来るよう、ご協力をお願い致します。\
 n\n\n全人類がわかる統計学とは\n\n統計学の学習サイト
 、全人類がわかる統計学を運営、管理している団体で
 す。統計学とその関連分野について、出来るだけわか
 りやすく多くの人々に届けるということを目指して活
 動しています。\n
LOCATION:秋葉原徒歩5分 台東区台東１丁目11番4号 誠心Oビ
 ル 3F
URL:https://techplay.jp/event/696145?utm_medium=referral&utm_source=ics&utm
 _campaign=ics
END:VEVENT
END:VCALENDAR
