BEGIN:VCALENDAR
VERSION:2.0
PRODID:-//https://techplay.jp//JP
CALSCALE:GREGORIAN
METHOD:PUBLISH
X-WR-CALDESC:YOKOGUSHI　VOL.3　～IT・通信　各社が仕掛けるオ
 ープンイノベーションを徹底討論！～
X-WR-CALNAME:YOKOGUSHI　VOL.3　～IT・通信　各社が仕掛けるオ
 ープンイノベーションを徹底討論！～
X-WR-TIMEZONE:Asia/Tokyo
BEGIN:VTIMEZONE
TZID:Asia/Tokyo
BEGIN:STANDARD
DTSTART:19700101T000000
TZOFFSETFROM:+0900
TZOFFSETTO:+0900
TZNAME:JST
END:STANDARD
END:VTIMEZONE
BEGIN:VEVENT
UID:697420@techplay.jp
SUMMARY:YOKOGUSHI　VOL.3　～IT・通信　各社が仕掛けるオープ
 ンイノベーションを徹底討論！～
DTSTART;TZID=Asia/Tokyo:20181023T190000
DTEND;TZID=Asia/Tokyo:20181023T210000
DTSTAMP:20260424T134314Z
CREATED:20180919T010215Z
DESCRIPTION:イベント詳細はこちら\nhttps://techplay.jp/event/69742
 0?utm_medium=referral&utm_source=ics&utm_campaign=ics\n\n\n\n◆概要\n\
 n「企業内部と外部のアイデア・技術を組み合わせるこ
 とで、革新的で新しい価値を創り出す」イノベーショ
 ン手法、オープンイノベーションが騒がれ始めた昨今
 。各界の雄たちが続々と動き始めている。\n『YOKOGUSHI
 』プロジェクトは、そんな同業界の雄が集い、それぞ
 れの仕掛けや狙いをディスカッション形式でお届けし
 ます。\n\n登壇企業との共創を希望するスタートアップ
 の皆さまや、テーマ業界にて事業を考えられている企
 業さま、是非ご参加ください。\n\n第三回目のテーマは
 、『IT・通信』。\n\n【YOKOGUSHI　VOL.3　～IT/通信各社が
 仕掛けるオープンイノベーションを徹底討論！～】\n\n
 ●日時：10月23日(火)19:00～（受付開始18:30）\n\n●場所
 ：SPACES\n\n●アクセス：大手町駅直結ビル　大手町ビル
 1階\n\n●参加費（飲食費　1500円）　※当日受付で頂戴
 致します。\n\n●お持ち物　\n\n名刺　　※当日受付で
 頂戴致します。\n\n当日スケジュール\n\n18:30 　受付開
 始\n\n19:00-19:15   　各社紹介\n\n19:15-20:30　パネルディス
 カッション\n\n20:30-21:15 　ネットワーキング\n\n■登壇
 者紹介\n\n\n\nKDDI株式会社\n\nライフデザイン事業企画本
 部\n\nビジネスインキュベーション推進部長／KDDI∞Labo
 長　中馬　和彦氏\n\n平成8年、国際電信電話株式会社
 （現KDDI株式会社）入社、\nINFOBARをはじめとしたライフ
 スタイルブランドiidaや、au Smart Sports等手がける。\n平
 成26年からジュピターテレコム株式会社商品企画副本
 部長として、4K-STBやJ:COM Mobileを立ち上げ。\nその後、
 ジュピターショップチャンネル株式会社執行役員を経
 て、\n現在はKDDI株式会社ライフデザイン事業企画本部
 ビジネスインキュベーション推進部長として、\nベン
 チャー支援プログラムKDDI∞Laboやベンチャー投資ファ
 ンドKDDI Open Innovation Fundを統括。\n\n\n\n\n\nソフトバンク
 株式会社\n\n新規事業開発室　\n\n新規事業推進部・イ
 ノベーション推進課　課長　原 勲氏\n\n2006年に入社、
 商品戦略・サービス企画・新規事業開発を担当。\nそ
 の後、2013年にUSシリコンバレーに赴任し、事業開発を
 担当。\n2015年に帰任後、オープンイノベーションの運
 営体である\nSoftBank Innovation Program を立ち上げ。\n現在
 、同プログラムの運営業務及び、SoftBank Vision Fundが\n出
 資した海外企業の国内事業化も推進中。\n\n\n\n\n\nNTTド
 コモ・ベンチャーズ\n\nSenior Director　西本　暁洋氏\n\n
 入社後、法人系サービス部門を経てR&D部門にて「はな
 して翻訳」等の新サービス立ち上げ、商用化をリード
 。\nその後、「dポイント」をはじめとしたサービス横
 断でのマーケティング関連業務に従事し、\n現在はNTT
 ドコモ・ベンチャーズにて、投資業務およびオープン
 イノベーション推進のプログラム、ドコモ・イノベー
 ションビレッジを運営\nhttps://www.nttdocomo-v.com/div/\n\n\n\n
 ■モデレーター\n\n\n\neiicon founder 中村 亜由子\n\n2008年
 インテリジェンスに入社。正社員の転職支援領域にお
 ける営業を経験する。最速で営業マネージャーに昇進
 、約1000名の転職をサポート、MVP他社内表彰受賞歴多数
 。2015年育休中にeiiconを単独起案。0to1という社内新規
 事業制度第1回目で単独＆唯一通過。2016年４月に育休
 から復職後、予算取りに駆け回り7月から本格的に立ち
 上げを開始。地の利に関係なく地方含めた日本企業の
 オープンイノベーション実践をアシストするオープン
 イノベーションのための企業検索プラットフォームeiic
 on（エイコン）を担う。\n\n\n\n参加対象\n\n●テーマ業
 界で共創を検討しているスタートアップやパートナー
 企業\n\n●新規事業に関わるプロジェクトリーダー、メ
 ンバー\n\n●イノベーション部門の責任者、リーダー、
 メンバー\n\n主催\n\nオープンイノベーションプラット
 フォーム『eiicon』\n\n\n\neiiconへ☞\n\nロケーションスポ
 ンサー\n\n日本リージャス\n\n詳細はコチラから\n
LOCATION:SPACES 〒100-0004　東京都千代田区大手町 1－6－1　
 大手町ビル１F
URL:https://techplay.jp/event/697420?utm_medium=referral&utm_source=ics&utm
 _campaign=ics
END:VEVENT
END:VCALENDAR
