BEGIN:VCALENDAR
VERSION:2.0
PRODID:-//https://techplay.jp//JP
CALSCALE:GREGORIAN
METHOD:PUBLISH
X-WR-CALDESC:WordPressもくもく勉強会@本庄 #5
X-WR-CALNAME:WordPressもくもく勉強会@本庄 #5
X-WR-TIMEZONE:Asia/Tokyo
BEGIN:VTIMEZONE
TZID:Asia/Tokyo
BEGIN:STANDARD
DTSTART:19700101T000000
TZOFFSETFROM:+0900
TZOFFSETTO:+0900
TZNAME:JST
END:STANDARD
END:VTIMEZONE
BEGIN:VEVENT
UID:697560@techplay.jp
SUMMARY:WordPressもくもく勉強会@本庄 #5
DTSTART;TZID=Asia/Tokyo:20181011T190000
DTEND;TZID=Asia/Tokyo:20181011T220000
DTSTAMP:20260421T001458Z
CREATED:20180919T121908Z
DESCRIPTION:イベント詳細はこちら\nhttps://techplay.jp/event/69756
 0?utm_medium=referral&utm_source=ics&utm_campaign=ics\n\nWordPressもく
 もく勉強会@本庄 #5\n\n概要\n\nWordPressについて、ただた
 だ「黙々」と勉強や作業をするもくもく会です。\n\nセ
 ミナーのように、登壇者の話を聞くような会ではなく
 、その時間に会場に集ってひたすら作業をしたり、そ
 の場にいる人にわからないことを質問してみる…とい
 った気軽な会です！\n\nWordPress初心者の方でもお気軽に
 ご参加下さい！\n\n「もくもく会」ですが、ずっと黙々
 と作業するだけでなく、参加者同士でお話をしたり、
 名刺交換したり…交流を深めていただければと思いま
 す！\n\n参加条件\n\n\nWordPressに興味がある方\n\n\nWordPress
 に興味がある方なら誰でもご参加頂けます。\n\nWordPress
 のサイトを持っていない！・WordPressを触ったこともな
 い！…といった方でもOKです！\n\nもくもく会でやるこ
 と\n\nWordPressに関わることに各自もくもくと取り組んで
 みて下さい。\n\n\nブログの記事を書く\n新しいWordPress
 サイトを作る\nテーマやプラグインについて調べる\n運
 営しているWordPressサイトのカスタマイズをする\nテー
 マを作る\nプラグインを作る\n\n\nなどなど…\n特にお題
 は用意しませんので各自「今日のやること」を考えて
 きて下さい。\n\n持ち物\n\nノートPC、書籍など各自作業
 に必要な物をご持参ください。\n\n※会場では有線LANが
 利用できます。\n※主催者私物の無線LANルーターでWi-Fi
 環境を用意致しますが、家庭用の機器のため大人数の
 接続に耐えられない恐れがあります。ご了承ください
 。\n※通信環境が心配な方はご自身でモバイルWi-Fiなど
 をご用意下さい。\n\n会場\n\nはにぽんプラザ 3F 「IT活
 動室」\nhttp://www.city.honjo.lg.jp/haniponplaza/index.html\n\n住所
 ：埼玉県本庄市銀座1丁目1番1号\n\n※駐車場につきまし
 ては、はにぽんプラザの駐車場・臨時駐車場、もしく
 は近隣のコインパーキングをご利用下さい。\n※会場
 内での食事（お菓子等含む）は禁止されております。
 食事をする場合は建物外でお願い致します。\n※飲み
 物についてもペットボトルや水筒など、フタが閉まる
 ものをご持参下さい。（建物内に自動販売機もござい
 ます）\n※会場の都合上、19:00ちょうどに部屋が使える
 ようになります。19:00前では会場となる部屋には入れ
 ませんのでご了承ください。\n\nタイムスケジュール\n\
 n\n\n\n  時間\n  内容\n\n\n\n\n  19:00〜\n  受付開始・各自作
 業開始\n\n\n  19:30〜19:40\n  この会についての説明 / 自己
 紹介\n\n\n  19:40〜21:00\n  各自もくもくと作業\n\n\n  21:00
 〜21:30\n  成果発表\n\n\n  21:30〜22:00\n  片付け・撤収\n\n\n
 \n\n※ 当日予告なく時間配分・内容が変更になる可能
 性がございます。\n※ 懇親会はありません。\n\n自己紹
 介について\n\n会の最初に簡単な自己紹介を予定してい
 ます。\n\n\nお名前（ハンドルネームでも可）\nWordPress
 とどのように付き合っているか\n\n例) ブログを書いて
 いる、Webサイト制作している、これから始めようと思
 う…などなど\n\n\n\n本日のもくもく会でやろうとして
 いること\n\n\nプロジェクターもあるので、3分くらいで
 あればプロジェクターを使って発表頂くことも可能で
 す。\n※HDMIケーブルは主催者側で用意しますが、PCと
 の接続コネクタ（HDMI端子とPCをつなぐ変換コネクタ）
 は各自ご用意下さい。\n※USB-C - HDMIの変換コネクタに
 ついては主催者私物をお貸しすることができます。\n\n
 成果発表について\n\nもくもく会でやったことなどを簡
 単に発表していただきます。\n（5分程度・希望者のみ
 ）\n\n躓いたとこなどを発表すると、参加者からアドバ
 イスを頂くことも出来るのでぜひ発表してみて下さい
 。\n\n発表希望者が多い場合は5\,6人までで発表したい
 方を抽選させていただきます。\n\n参加費\n\n200円\n※会
 場代として。\n\nハッシュタグ\n\n#mkmkwphonjo\n\nお問い合
 わせ\n\nイベントに関するお問い合わせはこちら(主催
 者ブログ)からお願いします。\n\n注意事項\n\nリクルー
 ティング、勧誘、採用活動、営業活動など、目的に沿
 わない行為につきまして、主催者が相応しくないと判
 断した場合は即刻退出処分とします。\n全員が気持ち
 よく過ごすことが出来るよう、ご協力をお願い致しま
 す。\n
LOCATION:はにぽんプラザ 3F 「IT活動室」 埼玉県本庄市銀
 座1丁目1番1号
URL:https://techplay.jp/event/697560?utm_medium=referral&utm_source=ics&utm
 _campaign=ics
END:VEVENT
END:VCALENDAR
