BEGIN:VCALENDAR
VERSION:2.0
PRODID:-//https://techplay.jp//JP
CALSCALE:GREGORIAN
METHOD:PUBLISH
X-WR-CALDESC:AI時代に備えるための機械学習学び方入門
X-WR-CALNAME:AI時代に備えるための機械学習学び方入門
X-WR-TIMEZONE:Asia/Tokyo
BEGIN:VTIMEZONE
TZID:Asia/Tokyo
BEGIN:STANDARD
DTSTART:19700101T000000
TZOFFSETFROM:+0900
TZOFFSETTO:+0900
TZNAME:JST
END:STANDARD
END:VTIMEZONE
BEGIN:VEVENT
UID:697814@techplay.jp
SUMMARY:AI時代に備えるための機械学習学び方入門
DTSTART;TZID=Asia/Tokyo:20180929T170000
DTEND;TZID=Asia/Tokyo:20180929T180000
DTSTAMP:20260420T091026Z
CREATED:20180921T012432Z
DESCRIPTION:イベント詳細はこちら\nhttps://techplay.jp/event/69781
 4?utm_medium=referral&utm_source=ics&utm_campaign=ics\n\n内容概要\n\n
 本イベントは、AI領域、データサイエンス領域でキャ
 リアを積みたいエンジニアの向けのイベントです。\n
 また、「現場で使える機械学習・データ分析基礎講座 
 」　の説明会(講座紹介)も兼ねておりますので、「何
 からAIを学んでいけば体系が理解できて、どうやって
 キャリアにAIを取り入れるのか」「データサイエンス
 の現場の実際」をお話しいたします。\n\nhttps://www.skillu
 pai.com/machine-learning\n「現場で使える機械学習・データ
 分析基礎講座」\n\n巷でよく見かけるデータサイエンテ
 ィストの求人情報はハードルが非常に高く見え（一時
 期、世界で最もセクシーな職業などと言われておりま
 した）、応募に尻込みしてしまうのではないでしょう
 か？\n我々が様々な規模のクライアントとAI案件に取り
 組む中で日々感じるのは、どこの会社も、社内にデー
 タサイエンスの分かる人を抱えたいというニーズで、
 必ずしもマスター・ドクターまでコンピューターサイ
 エンスを学んだことが必須ではないということです。\
 n\n本イベントでは、現在データサイエンティストでは
 ないが、AI領域、データサイエンス領域でのキャリア
 を検討中の方を対象に、AI案件の基本的な考え方や、
 どのようなスキルセットを持てば、データサイエンス
 領域に踏み出せるのか？といったお話ができればと考
 えています。\n\nこの講座で得られること\n\n・最短距
 離でAIを学ぶ勉強法\n\n・現場のディープな話\n\n・機械
 学習エンジニアとして必要なスキルセット\n\n・機械学
 習エンジニアとしてキャリアのはじめ方\n\nカリキュラ
 ム\n\n・データサイエンス周りの市況\n\n・効率的なデ
 ータサイエンスの勉強の進め方\n\n・AIキャリアの一歩
 目\n\n・講座紹介\n\n・質疑応答\n\n対象者\n\n・これから
 、機械学習を学びたい方\n\n・データサイエンティスト
 \n\n・機械学習エンジニアになりたい人\n・データサイ
 エンス、AI領域でプロジェクトをリードされたい方\n\n
 ・Pythonを使って仕事をされたい方\n\n・データ分析領域
 でキャリアをつみたい方\n\n・データサイエンス、AI領
 域への転職をお考えの方\n\nスピーカー\n\nS Ogata\n\nスキ
 ルアップAI講師。建築環境に関する数値シミュレーシ
 ョン、電力量や温湿度などのセンサーデータに関する
 分析が専門。1級建築士、エネルギー管理士。2013年、
 国土交通省国土技術政策総合研究所 優秀技術者賞受賞
 。最近は、需要予測や異常検知などのモデル開発に取
 り組んでいる。\n\n会場へのアクセス方法\n\n会場：大
 阪工業大学　梅田OITタワー3階  会議室３０１\n住所：
 大阪市北区茶屋町1番45号\nhttp://www.oit.ac.jp/institution/img/a
 ccess/img_index_01.gif\n\nＯＩＴ梅田タワーです。\nエスカレ
 ーター　もしくは　エレベーターにて３階にお上がり
 下さい。\n\n備考\n\n\n勉強会内容を撮影もしくは録音す
 ることは、ご遠慮ください\n個人ブログへの記述につ
 いては、良識の範囲内でお願いいたします\n講演資料
 は後ほどメールアドレスに送付させていただく予定で
 す\n```\n\n\n運営団体\n\nhttps://www.skillupai.com/\n
LOCATION:大阪工業大学　梅田OITタワー3階  会議室３０１ 
 大阪市北区茶屋町1番45号
URL:https://techplay.jp/event/697814?utm_medium=referral&utm_source=ics&utm
 _campaign=ics
END:VEVENT
END:VCALENDAR
