BEGIN:VCALENDAR
VERSION:2.0
PRODID:-//https://techplay.jp//JP
CALSCALE:GREGORIAN
METHOD:PUBLISH
X-WR-CALDESC:API Meetup Tech Deep Dive #2: GraphQL
X-WR-CALNAME:API Meetup Tech Deep Dive #2: GraphQL
X-WR-TIMEZONE:Asia/Tokyo
BEGIN:VTIMEZONE
TZID:Asia/Tokyo
BEGIN:STANDARD
DTSTART:19700101T000000
TZOFFSETFROM:+0900
TZOFFSETTO:+0900
TZNAME:JST
END:STANDARD
END:VTIMEZONE
BEGIN:VEVENT
UID:698814@techplay.jp
SUMMARY:API Meetup Tech Deep Dive #2: GraphQL
DTSTART;TZID=Asia/Tokyo:20181012T190000
DTEND;TZID=Asia/Tokyo:20181012T210000
DTSTAMP:20260420T185955Z
CREATED:20180927T021442Z
DESCRIPTION:イベント詳細はこちら\nhttps://techplay.jp/event/69881
 4?utm_medium=referral&utm_source=ics&utm_campaign=ics\n\nAPI Meetup Tech 
 Deep Dive #2: GraphQL\n\nAPI Meetupは、APIエコノミーの発展を
 目的に、Web APIを支える様々な要素技術やビジネスユー
 スケースなどを一緒に学び、共有するオープンコミュ
 ニティです。\n\nTech Deep Diveシリーズは本編とは別に不
 定期に開催するエンジニア向け特別編。第二回の今回
 は「ポストREST」などとも言われるWeb APIの問い合わせ
 言語、GraphQLをテーマに、4名のエンジニアの方々にお
 話いただきます。入門編から実際のオープンAPIでの適
 用例、RESTとの比較、そして問題点や実装技術まで、Gra
 phQLの全体像をつかみましょう！\n\nなお、今回の会場
 は株式会社インターネットイニシアティブさんのご厚
 意によりご提供いただいています。\n\n主催\n\nAPI Meetup
 運営チーム\n\nプログラム\n\n\n\n時間\nタイトル\nスピー
 カー\n\n\n\n18:30\n開場\n\n\n\n19:00〜19:10\nオープニング\nAPI
  Meetup運営チーム 関谷\n\n\n19:10〜19:40\nGitHub GraphQL 入門\n
 GitHub 池田さん\n\n\n19:40〜19:55\n初心者がほぼ知識ゼロで
 作ってみたGraphQLのデモ\n岡村さん\n\n\n19:55〜20:15\nShopify
 's GraphQL APIs（仮）\nAlex Karpovさん\n\n\n20:15〜20:55\nGraphQL
 とSQLのいいとこ取りをしたHasura GraphQL Engine\ndevMeTokyo 天
 野さん\n\n\n20:55〜21:00\nクロージング\n\n\n\n21:00〜\n懇親
 会（任意参加）\n\n\n\n\nセッション概要\n\nGitHub GraphQL 
 入門\n\nGitHub Solutions engineer 池田尚史 さん\n\nGitHubはREST
 に続く新しいAPIとして、GraphQLを採用しています。\nこ
 のトークではGraphQLの持つ特色とGitHubが採用するに至っ
 た経緯などに軽く触れた上で、GitHub GraphQLの使い方に
 ついて簡単に紹介します。\n\n初心者がほぼ知識ゼロで
 作ってみたGraphQLのデモ\n\n岡村純一 さん\n\n何はともあ
 れ触ってみるのが一番早いので、同じ内容のウェブア
 プリをREST APIとGraphQLで実装してみて、実装コスト、パ
 フォーマンス、コード量と可読性、メンテナンス性と
 か考察してみようと思います。\n\nGraphQLとSQLのいいと
 こ取りをしたHasura GraphQL Engine\n\ndevMeTokyo CEO 天野たけし
  さん\n\n天野がGraphQLを少し触ってみて分かったのは、G
 raphQLにはメリットもあるがデメリットも多くある事。
 特に集合関数(COUNTとか)SQLでできる事をGraphQLでは再実
 装しなければいけないのには参ってしまいました。\n
 こんな問題を解決するPostgresベースでGraphQLが扱えるよ
 うになるHasura GraphQL Engineの紹介をします。\n\n懇親会に
 ついて\n\n終了後、会場で懇親会を開催します（任意参
 加）。スピーカーの方々も参加される予定ですので、
 みなさん奮ってご参加ください！参加費は￥1\,000を予
 定しています（軽食、飲み物代）。\n※領収書の発行
 はできません。また受付後の返金はできかねます。\n\n
 キャンセル処理についてのお願い\n\n最近は多くの参加
 登録をいただき短時間に満席となることが多いのです
 が、当日来場されない方が増えており、実際には空席
 があるのに参加したい方が参加できないケースが増え
 てきています。\n本コミュニティは商業的なものでは
 なく、講演者の方も運営もすべて無償・有志で開催し
 ています。\nできるだけ多くの方に参加いただくため
 にはコミュニティのみなさんの協力も不可欠です。\n\n
 もし登録後に参加が難しくなった場合、必ずキャンセ
 ル処理を行っていただきますよう改めてお願いいたし
 ます！
LOCATION:Internet Initiaitive Japan 東京都千代田区富士見2-10-2　
 飯田橋グラン・ブルーム
URL:https://techplay.jp/event/698814?utm_medium=referral&utm_source=ics&utm
 _campaign=ics
END:VEVENT
END:VCALENDAR
