BEGIN:VCALENDAR
VERSION:2.0
PRODID:-//https://techplay.jp//JP
CALSCALE:GREGORIAN
METHOD:PUBLISH
X-WR-CALDESC:静的解析ツール「Coverity」と高品質・セキュア
 ・スピーディな ソフトウェア開発
X-WR-CALNAME:静的解析ツール「Coverity」と高品質・セキュア
 ・スピーディな ソフトウェア開発
X-WR-TIMEZONE:Asia/Tokyo
BEGIN:VTIMEZONE
TZID:Asia/Tokyo
BEGIN:STANDARD
DTSTART:19700101T000000
TZOFFSETFROM:+0900
TZOFFSETTO:+0900
TZNAME:JST
END:STANDARD
END:VTIMEZONE
BEGIN:VEVENT
UID:698830@techplay.jp
SUMMARY:静的解析ツール「Coverity」と高品質・セキュア・
 スピーディな ソフトウェア開発
DTSTART;TZID=Asia/Tokyo:20181018T153000
DTEND;TZID=Asia/Tokyo:20181018T170000
DTSTAMP:20260421T115651Z
CREATED:20180927T055311Z
DESCRIPTION:イベント詳細はこちら\nhttps://techplay.jp/event/69883
 0?utm_medium=referral&utm_source=ics&utm_campaign=ics\n\n静的解析ツ
 ール「Coverity」と高品質・セキュア・スピーディなソ
 フトウェア開発\n\n \n\n高品質でセキュアなソフトウェ
 アが求められる一方で、納期に対する要求もますます
 厳しくなってきています。\n数万行におよぶソースコ
 ードから不具合や脆弱性をスピーディに取り除くには
 、静的解析ツールは必須です。\n中でもシノプシスの
 「Coverity (コベリティ)」は、解析精度の高さと誤検知
 の低さ、管理者にも開発者にも使い\nやすいGUIやレポ
 ートなどから、自動車、組み込み、医療、金融、Webサ
 ービス、モバイル、ゲームなど世界中の\nあらゆるソ
 フトウェア開発の現場で広く支持されています。\n静
 的解析をどの様に使えば、その効果を最大化できるか
 。\n静的解析ツールは、どの様な基準で選ぶべきか。\n
 成功している企業は、どの様に静的解析を活用してい
 るか。\n高品質・セキュア・スピーディなソフトウェ
 ア開発に、ぜひこのセミナーをお役立てください。\n\n
 内容\n\nソフトウェア開発の品質・セキュリティ向上と
 開発スピードを両立する方法\n静的解析の効果的な利
 用方法とツール選定のポイント\n静的解析ツール「Cover
 ity」の特長とユーザー事例\n製品デモ\nQ&A\n\n登壇者\n\n
 佐藤 大樹\n\n日本シノプシス合同会社\nソフトウェア 
 インテグリティ グループ\nシニア・セールス・エンジ
 ニア\n\nソフトウェア開発エンジニア、テクニカルサポ
 ートの経験を生かし、日本シノプシス合同会社にて静
 的解析やファジング、ソフトウェア・コンポジション
 解析などのツールやペネトレーション・テスト等のサ
 ービスのプリセールスエンジニアに従事\n\n\n\n\n参加対
 象\n\nソフトウェア開発に携わる方\nソフトウェアの品
 質・セキュリティ向上に課題をお持ちの方\n静的解析
 ツールの利用を検討されている方\n現在お使いの静的
 解析ツールに課題をお持ちの方\n\n※ リクルーティン
 グ、勧誘など、採用目的でのイベント参加はお断りし
 ております。\n※ 飲食のみを目的としたご応募・ご来
 場はご遠慮ください。\n※ 欠席される場合は、お手数
 ですが速やかにキャンセル処理をお願い致します。\n\n
 持ち物\n\n名刺2枚\n※ 受付時にお渡し下さい。\n\n参加
 費\n\n無料\n
LOCATION:日本シノプシス セミナールーム (二子玉川) 東京
 都世田谷区玉川2-21-1 二子玉川ライズ オフィス15F
URL:https://techplay.jp/event/698830?utm_medium=referral&utm_source=ics&utm
 _campaign=ics
END:VEVENT
END:VCALENDAR
