BEGIN:VCALENDAR
VERSION:2.0
PRODID:-//https://techplay.jp//JP
CALSCALE:GREGORIAN
METHOD:PUBLISH
X-WR-CALDESC:IoTハンズオン応用編  :  赤外線リモコンの受信
 、送信、外出先から操作
X-WR-CALNAME:IoTハンズオン応用編  :  赤外線リモコンの受信
 、送信、外出先から操作
X-WR-TIMEZONE:Asia/Tokyo
BEGIN:VTIMEZONE
TZID:Asia/Tokyo
BEGIN:STANDARD
DTSTART:19700101T000000
TZOFFSETFROM:+0900
TZOFFSETTO:+0900
TZNAME:JST
END:STANDARD
END:VTIMEZONE
BEGIN:VEVENT
UID:698970@techplay.jp
SUMMARY:IoTハンズオン応用編  :  赤外線リモコンの受信、
 送信、外出先から操作
DTSTART;TZID=Asia/Tokyo:20181028T140000
DTEND;TZID=Asia/Tokyo:20181028T170000
DTSTAMP:20260425T032143Z
CREATED:20180928T021421Z
DESCRIPTION:イベント詳細はこちら\nhttps://techplay.jp/event/69897
 0?utm_medium=referral&utm_source=ics&utm_campaign=ics\n\n開催概要\n\n
 日時 　:  2018年10月28日(日) 14:00〜17:00\n場所　 : ギーク
 オフィス恵比寿 (東京都渋谷区恵比寿4-7-6 KTビル3F)\n参
 加費 : 3\,000円（当日現金でお支払いください、お釣り
 の必要のないようにお願いします）\n持ち物：1. ノー
 トPC [Mac (El Capitan以降)  あるいは Windows (Windows7 以降)] (U
 SB端子がtype-cしかない場合は標準サイズが接続できる
 アダプタもご持参ください）2. (オプション）赤外線リ
 モコンが使える機器をお持ちいただいてもかまいませ
 ん。\n\n対象者\nソフトウェアエンジニアがIoTに入門す
 るためのハンズオンです。\n\nプログラミングの経験は
 あるが、IoT機器に触れたことのない人\nPCへの開発環境
 のインストールやプログラムの変更ができる人\n\nハン
 ズオンの内容\nArduinoの開発環境(IDE)でプログラミング
 できるIoTボード(ESP WROOM-02)を使って、下記の回路を組
 み立ててプログラムの動作を確認します。\n\n赤外線リ
 モコンの通信を受信してデータを解析\n受信したデー
 タを赤外線LEDで送信\nクラウド上のMQTTブローカーと連
 携し、外出先から赤外線リモコン信号を送信\n\nハンズ
 オンに必要なIoT機器は主催者から貸し出します。主な
 機器は下記のとおりです。\n\nIoTボード ESP-WROOM-02 ( ス
 イッチサイエンス ESPr Developer ) \n赤外線受信素子、赤
 外線LED\n赤外線リモコンで操作する機器（LEDキャンド
 ルライト＋赤外線リモコン）\nトランジスタ\nブレッド
 ボード\nジャンパーケーブル\n電源&通信用USBケーブル(m
 icro<->標準)   [注：標準サイズUSB以外の端子(例えばtype-c
 )が付いたPCをお使いの方は、標準サイズへのアダプタ
 を持参してください。]\n\nタイムテーブル\n\n\n\n時間\n
 内容\n\n\n\n\n13:30-14:00\n受付\n\n\n14:00-14:15\nイントロダク
 ション(講義)IoTの概要と、このハンズオンがカバーす
 る範囲について説明します。\n\n\n14:15-16:45\nハンズオン
 (実習) 例題の回路を順番にブレッドボード上に組み、
 プログラムの動作を確認します。\n\n\n16:45-17:00\n関連ト
 ピックス(講義)時間の許す範囲で最近話題のIoTボード
 （M5Stack\, obnizなど）やクラウドサービスを紹介します
 。\n\n\n\n事前準備\nPCに開発環境をインストールしてお
 いてください。インストール作業は２段階あります。\
 n\nArduino IDE（ver.1.8以降）のインストール\nESP8266のボー
 ドマネージャのインストールとパラメータ設定\n\n現在
 の最新版はver.1.8.7です。既にArduino IDEをインストール
 されている方は、Ver.1.8.0以降であるかチェックしてく
 ださい。古いバージョンの場合は最新版をインストー
 ルしなおしてください。また、ESP8266ボードマネージャ
 のインストールとパラメータの設定も行なってくださ
 い。\nインストールと設定方法はこちらに記載してい
 ます。\n\nMacでのインストール方法\nWindowsでのインスト
 ール方法\n\n注意事項\n\n会場まではJR恵比寿駅東口から
 徒歩5分ですが少し迷いやすいです。\n写真による会場
 までの道順を参照して気をつけてお越しください。\n\n
 \n\n飲み物など必要であればご持参ください。\n会場到
 着されたら、扉に向かって右側の壁にある呼び鈴を鳴
 らしてください。\n
LOCATION:ギークオフィス恵比寿 東京都 渋谷区恵比寿4-7-6(K
 Tビル３階)
URL:https://techplay.jp/event/698970?utm_medium=referral&utm_source=ics&utm
 _campaign=ics
END:VEVENT
END:VCALENDAR
