BEGIN:VCALENDAR
VERSION:2.0
PRODID:-//https://techplay.jp//JP
CALSCALE:GREGORIAN
METHOD:PUBLISH
X-WR-CALDESC:GPU Deep Learning Community #9
X-WR-CALNAME:GPU Deep Learning Community #9
X-WR-TIMEZONE:Asia/Tokyo
BEGIN:VTIMEZONE
TZID:Asia/Tokyo
BEGIN:STANDARD
DTSTART:19700101T000000
TZOFFSETFROM:+0900
TZOFFSETTO:+0900
TZNAME:JST
END:STANDARD
END:VTIMEZONE
BEGIN:VEVENT
UID:699803@techplay.jp
SUMMARY:GPU Deep Learning Community #9
DTSTART;TZID=Asia/Tokyo:20181026T190000
DTEND;TZID=Asia/Tokyo:20181026T213000
DTSTAMP:20260420T231014Z
CREATED:20181001T020823Z
DESCRIPTION:イベント詳細はこちら\nhttps://techplay.jp/event/69980
 3?utm_medium=referral&utm_source=ics&utm_campaign=ics\n\nGPU Deep Learnin
 g Community #9を開催致します!!\n5ヶ月ぶりのGDLC、第9回を
 開催致します。 今回も先進的な取り組みを行う各社に
 登壇して頂くのに加えて、LT枠も募集します。\nセミナ
 ー終了後には同会場で懇親会も行います。なんと今回
 は無料！軽食と飲物をご用意しますので登壇者への質
 問やご参加者様の交流の場としてぜひご参加下さい。
 イベント申込時のアンケートから事前にお申し込みい
 ただけると幸いですが、当日飛び入り参加も大歓迎で
 すので是非！\n\n日時/場所\n日時: 10/26(金) 19:00-20:30 (懇
 親会 20:35-21:30)\n場所: アマゾン新目黒オフィス 目黒セ
 ントラルスクエア 21F ( 東京都品川区上大崎3-1-1 ) \n\nLT
 発表者募集!!\nLT発表者を募集します。\n持ち時間は10分
 。GPU DLの活用事例や、実際に導入してみて見えてきた
 こと、苦労したこと、DLに望むこと、なんでも結構で
 す。\n遠慮は不要、ぜひ発表して下さい!! ハンドルネ
 ームやニックネームでの発表も可能です!\n10/12までに
 、LT枠に発表タイトルと合わせてご応募下さい。（応
 募締め切りました）\n\n主催\nGPU Deep Learning Community\n\nア
 ジェンダ\n\n\n\n時間\nセッションタイトル\nスピーカー\
 n\n\n\n\n18:30-19:00\n開場/受付\n受付にて、名刺と受付票(Co
 nnpass受付番号)をご提示下さい\n\n\n19:00-19:05\nオープニ
 ング＋お知らせ\n事務局（マクニカ）\n\n\n19:05-19:25\nAWS 
 Machine Learning サービスのご紹介（SageMaker等MLサービスと
 お客様ご活用事例について）\nアマゾン ウェブ サービ
 ス ジャパン(株) 宇都宮聖子 様\n\n\n19:25-19:45\n外観検査
 設計の自動化とディープラーニングの有効性を本気で
 検証\n(株)マクニカ　馬場勇気 様\n\n\n19:45-19:55\n休憩\n\n
 \n\n19:55-20:15\nディープラーニングを活用した実用事例
 のご紹介（Semantic Segmentation、異常検知など）\n(株)Ridge-
 i　市來和樹 様\n\n\n20:20-20:30\nRAPIDSの紹介\nエヌビディ
 ア　佐々木邦暢 様\n\n\n20:35-21:30\n懇親会\n今回はなんと
 無料！軽食と飲物をご用意します\n\n\n21:30\n終了/解散\n
 \n\n\n\n※会場内での飲食は可能です。（セッション時
 間中も若干のお菓子などご用意する予定です）\n※セ
 ッションの順番や内容は変更になる可能性があります
 。\n※対象外のお客様には、イベントへのご参加をご
 遠慮いただく場合がございます。\n※名刺1枚と参加票
 を持参下さい。必要に応じて運営メンバーからコンタ
 クトするケースがあります。ご了承下さい。
LOCATION:アマゾン新目黒オフィス 目黒セントラルスクエ
 ア 21F 東京都品川区上大崎3-1-1 
URL:https://techplay.jp/event/699803?utm_medium=referral&utm_source=ics&utm
 _campaign=ics
END:VEVENT
END:VCALENDAR
