BEGIN:VCALENDAR
VERSION:2.0
PRODID:-//https://techplay.jp//JP
CALSCALE:GREGORIAN
METHOD:PUBLISH
X-WR-CALDESC:第7回CoderDojo戸部
X-WR-CALNAME:第7回CoderDojo戸部
X-WR-TIMEZONE:Asia/Tokyo
BEGIN:VTIMEZONE
TZID:Asia/Tokyo
BEGIN:STANDARD
DTSTART:19700101T000000
TZOFFSETFROM:+0900
TZOFFSETTO:+0900
TZNAME:JST
END:STANDARD
END:VTIMEZONE
BEGIN:VEVENT
UID:701584@techplay.jp
SUMMARY:第7回CoderDojo戸部
DTSTART;TZID=Asia/Tokyo:20181028T133000
DTEND;TZID=Asia/Tokyo:20181028T153000
DTSTAMP:20260424T232436Z
CREATED:20181009T211134Z
DESCRIPTION:イベント詳細はこちら\nhttps://techplay.jp/event/70158
 4?utm_medium=referral&utm_source=ics&utm_campaign=ics\n\nCoderDojo は7
 〜17歳の子どもを対象にした無償のプログラミング道
 場です。\nCoderDojo戸部は、横浜市西区のにしとも広場
 で毎月一回最終日曜に活動します。\n[参加者の方へ]\n
 コーダー道場 Japan https://coderdojo.jp/ をご覧頂き、CoderDoj
 oの趣旨などご参照下さい。\n[持ち物]\n・インターネッ
 トに接続可能な、PC若しくはタブレット\n※ お持ちで
 ない方は、PCレンタル枠でお申込み下さい。\n[その他]\
 n・未就学児のご弟妹の参加も歓迎です。※アンケート
 にその旨記載下さい。\n・CoderDojo戸部は、誰もが参加
 出来るようボランティアで運営されています。\n・活
 動費は趣旨にご賛同いただける方からの寄付によって
 賄います。
LOCATION:にしとも広場 横浜市西区中央1-5-10
URL:https://techplay.jp/event/701584?utm_medium=referral&utm_source=ics&utm
 _campaign=ics
END:VEVENT
END:VCALENDAR
