BEGIN:VCALENDAR
VERSION:2.0
PRODID:-//https://techplay.jp//JP
CALSCALE:GREGORIAN
METHOD:PUBLISH
X-WR-CALDESC:Unity × ARもくもく会　#1
X-WR-CALNAME:Unity × ARもくもく会　#1
X-WR-TIMEZONE:Asia/Tokyo
BEGIN:VTIMEZONE
TZID:Asia/Tokyo
BEGIN:STANDARD
DTSTART:19700101T000000
TZOFFSETFROM:+0900
TZOFFSETTO:+0900
TZNAME:JST
END:STANDARD
END:VTIMEZONE
BEGIN:VEVENT
UID:702053@techplay.jp
SUMMARY:Unity × ARもくもく会　#1
DTSTART;TZID=Asia/Tokyo:20181028T123000
DTEND;TZID=Asia/Tokyo:20181028T173000
DTSTAMP:20260425T214650Z
CREATED:20181012T021240Z
DESCRIPTION:イベント詳細はこちら\nhttps://techplay.jp/event/70205
 3?utm_medium=referral&utm_source=ics&utm_campaign=ics\n\nUnity × ARも
 くもく会　#1\nイベント内容\nUnityでARKit ARCoreを使って
 いる方を対象としたもくもく会です。\n各自、自分の
 開発や勉強を進めましょう！\nこんな人にオススメ！\n
 ・Unity × ARKit ARCoreの開発者仲間を増やしたい方\n・普
 段と違う環境で作業したい方\nスケジュール\n・12:30~13:
 00　受付\n・13:00~13:30　自己紹介・今日の作業内容\n・13
 :30~15:00　もくもく\n・15:00~15:15　休憩\n・15:15~17:00　も
 くもく\n・17:00~17:30　進捗報告\n持ち物・あれば良いも
 の\n・ノートパソコン\n・名刺\n※お菓子飲み物などの
 差し入れ歓迎です！\n参加費\n・500円\n※予めお釣りの
 ないようご協力お願いします。\n会場\n渋谷プライムプ
 ラザ 4F  (東京都渋谷区円山町19番1号)\nWi-Fiあります！\n
 その他\n当日はSlackを使ったコミュニケーションを取り
 ますので、分からない事があれば他の参加者に聞くこ
 とも可能です。\nご意見・ご質問等ございましたら、
 やえがしのTwitterまでDMをお願いします。\nTwitter: @Gassy_k
 k
LOCATION:渋谷プライムプラザ 4F 東京都渋谷区円山町19番1
 号
URL:https://techplay.jp/event/702053?utm_medium=referral&utm_source=ics&utm
 _campaign=ics
END:VEVENT
END:VCALENDAR
