BEGIN:VCALENDAR
VERSION:2.0
PRODID:-//https://techplay.jp//JP
CALSCALE:GREGORIAN
METHOD:PUBLISH
X-WR-CALDESC:DBを10分間で1000個構築するDB仮想化テクノロジ
 ーとは？ ~Database as code in Devops~
X-WR-CALNAME:DBを10分間で1000個構築するDB仮想化テクノロジ
 ーとは？ ~Database as code in Devops~
X-WR-TIMEZONE:Asia/Tokyo
BEGIN:VTIMEZONE
TZID:Asia/Tokyo
BEGIN:STANDARD
DTSTART:19700101T000000
TZOFFSETFROM:+0900
TZOFFSETTO:+0900
TZNAME:JST
END:STANDARD
END:VTIMEZONE
BEGIN:VEVENT
UID:702747@techplay.jp
SUMMARY:DBを10分間で1000個構築するDB仮想化テクノロジーと
 は？ ~Database as code in Devops~
DTSTART;TZID=Asia/Tokyo:20181105T140000
DTEND;TZID=Asia/Tokyo:20181105T163000
DTSTAMP:20260424T195351Z
CREATED:20181015T093018Z
DESCRIPTION:イベント詳細はこちら\nhttps://techplay.jp/event/70274
 7?utm_medium=referral&utm_source=ics&utm_campaign=ics\n\nDBを10分間で
 1000個構築するDB仮想化テクノロジーとは？\n~Database as c
 ode in Devops~\n\n\n概要\n開発・テスト速度の向上において
 ポイントになるのはテストデータです。テストデータ
 （Database）の容量、セキュリティ、データ複製速度は
 、制約事項として開発および、テストを実施しなけれ
 ばなりません。開発・テストの効率、速度がUPしても
 高速にテストデータが準備できなければ全体最適は不
 可能です。\n当セミナでは、Database as code をキーワード
 に、Oracle\,SQL Server\,PostgreSQLのテストデータをワンクリ
 ックで仮想することでDevops全体最適化した事例、メリ
 ット、テクノロジーを紹介します。\n対象者\n\nシステ
 ム開発時のテストデータの用意に課題を抱えている方\
 n“データベース仮想化”に興味のある方\n“DevopsとDB
 のベストプラクティス”に興味のある方\n\n\nタイムス
 ケジュール\n\n    \n        \n            時間\n            タイ
 トル・概要\n        \n        \n            13:30〜\n            
 受付開始\n        \n        \n            14:00〜14:50\n            
 「” What is DevOps “」講師：Adam Bowen  氏Devopsとは何か？
 DevopsにおけるDB環境はどうあるべきか？Facebook\,ebay\,Wall
 martのDevpos事例を交えて、DevopsとDBのベストプラクティ
 スを解説します。\n        \n        \n            15:00〜15:50\n
             「” Database as Code “」講師：Adam Bowen 氏(株式
 会社インサイトテクノロジー　取締役CTO)DBMSシステム
 の開発速度を上げろといつも無茶ぶりされているあな
 たへ。日々、「新しいDBMSシステムの開発速度を上げろ
 !! 品質は落とすな!!」「うちはDevOpsでアジャイル開発
 ができているのか!!」と無茶ぶりばかりされている、
 そこのあなた!答えがここにあります\n         \n\n    \n\n
 ※プログラム内容、タイトルは予告なしに変更する可
 能性があります。\n\n お申込み・詳細\n※参加申込は以
 下のURLからお願いいたします　TechPlayでは受け付けて
 おりません。https://www.insight-tec.com/events-seminars/20181105_de
 lphix_seminar\n\n開催概要日 程：2018年11月5日(月)　14:00 - 16
 :30 (受付開始 13:30)会 場：TKPガーデンシティPREMIUM京橋 
 東京都中央区京橋２丁目２−１ 京橋エドグラン 22Fhttps
 ://goo.gl/maps/eLsNApYjDXB2参加費：無料
LOCATION:TKPガーデンシティPREMIUM京橋  〒104-0031 東京都中央
 区京橋２丁目２−１ 京橋エドグラン 22F
URL:https://techplay.jp/event/702747?utm_medium=referral&utm_source=ics&utm
 _campaign=ics
END:VEVENT
END:VCALENDAR
