BEGIN:VCALENDAR
VERSION:2.0
PRODID:-//https://techplay.jp//JP
CALSCALE:GREGORIAN
METHOD:PUBLISH
X-WR-CALDESC:週刊Railsウォッチ 公開つっつき会 第4回
X-WR-CALNAME:週刊Railsウォッチ 公開つっつき会 第4回
X-WR-TIMEZONE:Asia/Tokyo
BEGIN:VTIMEZONE
TZID:Asia/Tokyo
BEGIN:STANDARD
DTSTART:19700101T000000
TZOFFSETFROM:+0900
TZOFFSETTO:+0900
TZNAME:JST
END:STANDARD
END:VTIMEZONE
BEGIN:VEVENT
UID:703080@techplay.jp
SUMMARY:週刊Railsウォッチ 公開つっつき会 第4回
DTSTART;TZID=Asia/Tokyo:20181101T193000
DTEND;TZID=Asia/Tokyo:20181101T210000
DTSTAMP:20260420T110940Z
CREATED:20181017T011009Z
DESCRIPTION:イベント詳細はこちら\nhttps://techplay.jp/event/70308
 0?utm_medium=referral&utm_source=ics&utm_campaign=ics\n\n週刊Railsウ
 ォッチ 公開つっつき会 第4回\n\n概要\n\nBPS株式会社が
 お送りするWebマガジン「週刊Railsウォッチ」では、毎
 月第一木曜日にどなたでも無料でご参加いただける「
 公開つっつき会」を開催しています。次回の第4回は11/
 1（木）に開催いたします。週刊Railsウォッチのコンテ
 ンツにいち早く触れられるチャンスです。学生の方も
 歓迎です。\n\nRuby / Railsに関する情報を中心に日々発信
 している TechRacho では、毎週にRuby / Rails関連を中心と
 する技術情報をサーベイする「週刊Railsウォッチ」を
 配信しています。\n\n普段の「つっつき会」は、毎週木
 曜夜に「週刊Railsウォッチ」の公開前エントリを社内
 及び関係会社のみでチェックしつつ、肩の凝らない技
 術雑談や自由な質問のできる場として、2年近く継続し
 ています。他社のWeb/Railsエンジニア・学生の皆様から
 も広くフィードバックが得られるといいなという思い
 もあり、「公開つっつき会」を今後も続けていきたい
 と思いますので、皆さまのご参加をお待ちしておりま
 す。\n\n参考（最近の週刊Railsウォッチ）\n\n\n週刊Rails
 ウォッチ（20181015）Rails初心者と一発でバレる書き方、
 次のVue.js構想、RubyのOpenStruct、Twilioほか\n週刊Railsウォ
 ッチ（20181009）Rails 6の新機能:WYSIWYGエディタ「Action Text
 」、Rails 6の青写真スライド、Apache POIはスゴイほか\n週
 刊Railsウォッチ（20181001）Railsアップグレード記事と各
 種支援ツール、CLI向けRubyワンライナー集、Rubyアプリ
 をワンバイナリ化ほか\n他バックナンバーはこちらか
 らご参照下さい\n\n\nタイムスケジュール\n\n\n\n\n  時間\
 n  内容\n\n\n\n\n  19:15〜\n  開場\n\n\n  19:30〜21:00\n  週刊Rai
 lsウォッチつっつき会\n\n\n  21:00〜22:00\n  懇親会（軽食
 程度）\n\n\n  22:30\n  完全撤収\n\n\n\n\n※ 当日予告なく時
 間配分・内容が変更になる可能性がございます。 \n※ 
 懇親会の参加は自由です。話したいネタやこの機会に
 質問してみたいことなどありましたらお気軽にお尋ね
 ください。\n\n\n\n参加対象\n\n\nWeb / Ruby / Rails開発者、
 及びそれらに興味のある学生\n\n\n※ リクルーティング
 、勧誘など、弊社以外の採用目的でのイベント参加は
 お断りしております。\n※ 飲食のみを目的としたご応
 募・ご来場はご遠慮ください。\n※ 補欠者の方はご入
 場いただけませんのでご了承ください。\n※ 欠席され
 る場合は、お手数ですが速やかにキャンセル処理をお
 願いいたします。\n\n参加費\n\n無料（懇親会の軽食・
 ソフトドリンクは無料です）\n\n＊酒類のみカンパ運用
 を予定しています（飲食持ち込み可）寄付も歓迎です\
 n\n会場までの交通\n\n\n会場最寄り駅は次の通りです: 
 駅から歩くとやや距離があるため、お時間に余裕を持
 ってお越し下さい\n\n都営大江戸線:「西新宿五丁目」
 駅A1出口 徒歩5分\n都営大江戸線:「都庁前」駅A5出口 徒
 歩7分\n東京メトロ丸ノ内線:「西新宿」駅2番出口 徒歩1
 1分\n\n\n\n渋谷駅・新宿駅西口からのバスでは「十二社
 池の下」が最寄りとなります。渋谷からお越しになる
 場合こちらが便利です\n会場のすぐ近くにコンビニが
 あります（ファミリーマート、セブンイレブン）\n場
 所がわからないなどありましたら、Twitterで@hachi8833ま
 たは@morimorihogeまでお知らせください\n\n\n持ち物\n\n必
 要なものは特にありませんが、ノートPC持参をおすす
 めします（つっつき中の検索など何かと便利です）\n\n
 その他\n\n\n会場では電源およびPublic Wi-Fiをご利用いた
 だけます\n記事向けの音声起こしのため録画しており
 ます\n記事で使う遠景写真を撮らせていただく場合が
 ありますので、不都合がありましたらお申し付けくだ
 さい\n\n
LOCATION:BPS株式会社 会議スペース 新宿区西新宿6-20-7 コン
 シェリア西新宿TOWER’S WEST 2F
URL:https://techplay.jp/event/703080?utm_medium=referral&utm_source=ics&utm
 _campaign=ics
END:VEVENT
END:VCALENDAR
