BEGIN:VCALENDAR
VERSION:2.0
PRODID:-//https://techplay.jp//JP
CALSCALE:GREGORIAN
METHOD:PUBLISH
X-WR-CALDESC:「データサイエンティスト養成読本 ビジネス
 活用編」刊行記念イベント〜著者が語るデータ分析組
 織のいま〜
X-WR-CALNAME:「データサイエンティスト養成読本 ビジネス
 活用編」刊行記念イベント〜著者が語るデータ分析組
 織のいま〜
X-WR-TIMEZONE:Asia/Tokyo
BEGIN:VTIMEZONE
TZID:Asia/Tokyo
BEGIN:STANDARD
DTSTART:19700101T000000
TZOFFSETFROM:+0900
TZOFFSETTO:+0900
TZNAME:JST
END:STANDARD
END:VTIMEZONE
BEGIN:VEVENT
UID:703213@techplay.jp
SUMMARY:「データサイエンティスト養成読本 ビジネス活用
 編」刊行記念イベント〜著者が語るデータ分析組織の
 いま〜
DTSTART;TZID=Asia/Tokyo:20181106T183000
DTEND;TZID=Asia/Tokyo:20181106T213000
DTSTAMP:20260420T110916Z
CREATED:20181017T101545Z
DESCRIPTION:イベント詳細はこちら\nhttps://techplay.jp/event/70321
 3?utm_medium=referral&utm_source=ics&utm_campaign=ics\n\n概要\n10月30
 日に発売される『データサイエンティスト養成読本 ビ
 ジネス活用編』（技術評論社）の出版記念イベントを
 開催します。\nイベントでは執筆者によるパネルディ
 スカッションを予定します。\n※10/23(Tue) 追記、参加枠
 を120→140に変更\n登壇者予定\n\n\n矢部章一\nコニカミノ
 ルタジャパン株式会社 データサイエンス推進室 室長\n
 \n\n奥村 エルネスト 純\n株式会社ディー・エヌ・エー A
 I研究開発エンジニア 強化学習チームリーダー\n\n\n樫
 田 光\n株式会社メルカリ BIチームマネージャ\n\n\n伊藤
 徹郎\nClassi株式会社 AI室 データサイエンティスト\n\n\n
 津田真樹\nテクノスデータサイエンスエンジニアリン
 グ株式会社 シニアコンサルタント\n\n\n大成弘子\nデー
 タサイエンティスト・ピープルアナリスト\n\n\n加藤 エ
 ルテス 聡志\n株式会社日本データサイエンス研究所 代
 表取締役\nRISU Japan株式会社 共同創業者 取締役\n\n\n※11
 /2（Fri）追記、高橋威知郎様ご都合により欠席\nパネル
 ディスカッション\n執筆者による「データ分析組織」
 をテーマにしたパネルディスカッションの3本立てです
 。\n申し込み時に質問を受け付けますので、登壇者に
 聞きたいことがあればご記入ください。\nタイムテー
 ブル\n\n18:30　受付開始\n19:00　開催にあたって、諸注意
 \n19:10　パネルディスカッション1（津田さま、矢部さ
 ま）\n19:40　休憩（10分）\n19:50　パネルディスカッショ
 ン2（伊藤さま、樫田さま、奥村さま）\n20:20　パネル
 ディスカッション3（大成さま、加藤さま）\n21:00　懇
 親会\n22:00　閉会\n\n会場について\nDeNA渋谷 ヒカリエオ
 フィス\n入館受付は  18:30 ~ 19:15 まで  です。オフィス
 フロア入口（11F）にお越しください。\nオフィスフロ
 ア入口（11F）オフィス総合受付の側に本イベント用の
 特設受付を設置しています。\nそちらで  connpassの受付
 番号  を提示後、受付の案内に従ってください。\n※ヒ
 カリエビル内の地下フロアB3FやJRとの連絡通路がある2F
 などに、11Fへの直通エレベータが数ヶ所設置されてい
 ます。\n19:15 以降は入館することができませんので、
 参加される方は必ずこの時間までにお越し下さるよう
 、よろしくお願いします。\n当日の遅刻について\n当日
 の混雑状況により遅刻された方の入場をお断りするこ
 とがあります。19:15以降で会場に余裕がある場合のみ
 ご対応させていただきますので、遅刻しないようご注
 意ください。\n書籍購入について\nイベントでの書籍販
 売は行いません。最寄りの書店にてお求めください。\
 n書籍の詳細は以下を参照してください。\nhttps://gihyo.jp
 /book/2018/978-4-297-10108-4\nその他\n■注意事項\n・当日は、
 来場者を含む会場の様子等の動画、写真を撮影し、公
 開する場合があります。\n・悪天候等により、運営事
 務局の判断にてイベントを中止する場合があります。\
 n・会場内は禁煙です。\n・懇親会ではアルコールの提
 供がありますが、未成年者の方や車を運転される方の
 飲酒は法律で禁止されています。\n・貴重品の管理は
 各自でお願いいたします。万一盗難・紛失等の事故が
 発生しても、主催者は一切責任を負えません。
LOCATION:株式会社ディー・エヌ・エー 21F 東京都渋谷区渋
 谷2-21-1 ヒカリエ21F
URL:https://techplay.jp/event/703213?utm_medium=referral&utm_source=ics&utm
 _campaign=ics
END:VEVENT
END:VCALENDAR
