BEGIN:VCALENDAR
VERSION:2.0
PRODID:-//https://techplay.jp//JP
CALSCALE:GREGORIAN
METHOD:PUBLISH
X-WR-CALDESC:東京Node学園祭2018 1日目
X-WR-CALNAME:東京Node学園祭2018 1日目
X-WR-TIMEZONE:Asia/Tokyo
BEGIN:VTIMEZONE
TZID:Asia/Tokyo
BEGIN:STANDARD
DTSTART:19700101T000000
TZOFFSETFROM:+0900
TZOFFSETTO:+0900
TZNAME:JST
END:STANDARD
END:VTIMEZONE
BEGIN:VEVENT
UID:704942@techplay.jp
SUMMARY:東京Node学園祭2018 1日目
DTSTART;TZID=Asia/Tokyo:20181123T100000
DTEND;TZID=Asia/Tokyo:20181123T210000
DTSTAMP:20260421T045810Z
CREATED:20181025T141559Z
DESCRIPTION:イベント詳細はこちら\nhttps://techplay.jp/event/70494
 2?utm_medium=referral&utm_source=ics&utm_campaign=ics\n\nこちらは1日
 目 11/23 (金) のみのイベント登録ページとなります。2
 日目 11/24 (土) 分は以下のリンクからお申し込みくださ
 い。\nThis event registration is for Day 1 (Nov 23th). To register for 
 the Day 2 event\, please refer to the following page.\n東京Node学園
 祭2018 2日目 / Tokyo Node Festival 2018 Day 2\n東京Node学園祭 201
 8 / Tokyo Node Festival 2018\nイベントの詳細は下記オフィシ
 ャルサイトをご覧ください。\nPlease refer to the following of
 ficial website for the event details.\n東京Node学園祭 2018 / Tokyo N
 ode Festival 2018\nセッション / Sessions\nスケジュール / Sched
 ule\n最新スケジュール (Google Calendar) / Recent Schedule on Goog
 le Calendar\n\nセッションの内容／時間は変更になる可能
 性があります。\n    Sessions and schedules may be changed.\nセッ
 ションは日本語・英語で行われます。\n    Sessions will be
  held in either Japanese or English.\n\n懇親会 / After Party\n懇親
 会の詳細は後日オフィシャルサイトに掲載します。\nAf
 ter party information will be posted at a later date official website.\n
 参加要項 / Guidelines for Admission\n\n受付票または受付票に
 記載された受付番号の控えをお持ちください。\n    Plea
 se bring your event ticket or a copy of your event ticket number.\n当日
 17時をもって受付は終了させていただきます。 \n    The 
 registration will be closed at 5 pm at the day of the event.  \n登壇者
  (セッション、LT 含む) の方は登録不要です。 \n    Speak
 ers (including Sessions and Lightning Talks speakers) DO NOT need registr
 ation.\n２日目にメンターとして参加される方の参加費
 は両日ともに不要です（※応募者多数の場合先着順と
 なります）\n    If you attend as a mentor\, you do not have to pay f
 or both event (Note: First come\, first served)\n\n会場について / V
 enue\n本イベントは ヤフー株式会社 にて開催します。\n
 The event will be hosted at Yahoo Japan Corporation.\n公共交通機関
 を利用してお越しになられる方は、下記の最寄り駅を
 ご利用ください。\nThe closest stations to the venue follows:\n\n\
 n\n路線Rail Line\n最寄り駅Closest Station\n\n\n\n\n東京メトロ 
 半蔵門線Tokyo Metro Hanzomon Line\n永田町駅 9a出口直結 Direct
 ly connected to exit the 9a at 'Nagatacho Station'\n\n\n東京メトロ 
 南北線Tokyo Metro Nanboku Line\n永田町駅 9a出口直結 Directly c
 onnected to exit the 9a at 'Nagatacho Station'\n\n\n東京メトロ 有
 楽町線Tokyo Metro Yurakucho Line\n永田町駅 9a出口直結 Directly
  connected to exit the 9a at 'Nagatacho Station'\n\n\n東京メトロ 
 丸の内線Tokyo Metro Marunouchi Line\n赤坂見附駅 D出口徒歩1
 分 One minute walk from the D exit at 'Akasakamitsuke Station'\n\n\n\n
 ヤフー株式会社 / Yahoo Japan Corporation\n\n所在 / Location: 東
 京都千代田区紀尾井町1-3 東京ガーデンテラス紀尾井町
  紀尾井タワー / Tokyo Garden Terrace Kioicho / Kioicho 1-3\, Chiyod
 a-ku\, Tokyo\n会場アクセス / Access Guide\n\nお支払い方法に
 ついて / Payment\nこちらの申し込みページではPayPalによ
 る支払いのみを受け付けています。もしクレジットカ
 ードをお持ちでないなどPayPalによるお支払いに問題が
 ある場合は nodefest@nodejs.jp までご相談ください。でき
 る限りのサポートをします。 \nThe registration form on this p
 age only accepts payment through PayPal. Please contact us at nodefest@no
 dejs.jp if you have an issue with PayPal payment or you do not hold a cre
 dit card that PayPal supports. We'll try to provide you an alternative wa
 y for registration/payment.\n領収書について / Receipt\nPayPalが
 発行する受領書をプリントアウトするか、クレジット
 カード会社発行の利用明細書を領収書としてご利用く
 ださい。\nYou can take a receipt issued by PayPal and/or your credit 
 card bank.\nPayPalの受領書は、支払い手続き完了後にPayPal
 のウェブサイト上で発行されます。\nPayPay receipt will be 
 issued on their website after payment.\n正式な領収書の発行をご
 希望の場合は、宛名等を明記の上 nodefest@nodejs.jp 宛に
 ご連絡ください。\nIf you need an official receipt\, please contac
 t at nodefest@nodejs.jp with the detail including the receipt address.\n
 その他 / Etc.\n無線LANと電源はありますが、タップを持
 参するとモテます。 \nWe will provide WiFi and power outlets\, ho
 wever other attendees would (probably) appreciate if you could bring and 
 share a power strip.
LOCATION:Yahoo! JAPAN 〒102-8282 東京都千代田区紀尾井町1-3 東
 京ガーデンテラス紀尾井町 紀尾井タワー
URL:https://techplay.jp/event/704942?utm_medium=referral&utm_source=ics&utm
 _campaign=ics
END:VEVENT
END:VCALENDAR
