BEGIN:VCALENDAR
VERSION:2.0
PRODID:-//https://techplay.jp//JP
CALSCALE:GREGORIAN
METHOD:PUBLISH
X-WR-CALDESC:11/26（月）スタートアップ起業セミナー≪無料
 ≫
X-WR-CALNAME:11/26（月）スタートアップ起業セミナー≪無料
 ≫
X-WR-TIMEZONE:Asia/Tokyo
BEGIN:VTIMEZONE
TZID:Asia/Tokyo
BEGIN:STANDARD
DTSTART:19700101T000000
TZOFFSETFROM:+0900
TZOFFSETTO:+0900
TZNAME:JST
END:STANDARD
END:VTIMEZONE
BEGIN:VEVENT
UID:704996@techplay.jp
SUMMARY:11/26（月）スタートアップ起業セミナー≪無料≫
DTSTART;TZID=Asia/Tokyo:20181126T193000
DTEND;TZID=Asia/Tokyo:20181126T210000
DTSTAMP:20260421T175824Z
CREATED:20181026T015520Z
DESCRIPTION:イベント詳細はこちら\nhttps://techplay.jp/event/70499
 6?utm_medium=referral&utm_source=ics&utm_campaign=ics\n\n一般社団法
 人グローバル･ベンチャー協会ならびにＩＴサービス
 企業の株式会社うえじま企画は、\n\n「ＩＴを活用して
 社会に貢献する」という経営理念のもと共催で、ベン
 チャー企業の創業と成長を支援するため、「スタート
 アップ起業セミナ」を開催致しております。\n\n「スタ
 ートアップ起業セミナー」では、会社設立、販路開拓
 、資金調達、成功ノウハウの提供など、オープンイノ
 ベーションで、情報共有や連携を深め、参加者の起業
 支援や参加企業の成長支援を致しております。また、
 グローバルで活躍するベンチャー企業との協業を支援
 しております。\n\n是非、「スタートアップ起業セミナ
 ー」にお気軽にご参加ください。\n\n背景\n\n平成２９
 年２月経済産業省「イノベーション・ベンチャー政策
 について」で\nべンチャー企業に関して下記の課題と
 政策が報告されています。\n\n　(1)世界のトップ企業に
 ついて、⽶国では約1/3が1980年以降に設⽴されている\n\
 n　　⼀⽅、⽇本では約1/6に留まっており、グローバル
 で通⽤するベンチャー\n\n　　企業の創出・育成も課題
 。\n\n　(2)国内市場がある程度の規模があるため、⼩さ
 くまとまるビジネスモデルが\n\n　　多い。また、グロ
 ーバルな市場や拠点とのつながりが⼩さく、グローバ
 ルな\n\n　　視野を持った⼈材が少ない。\n\n　(3)我が
 国社会においては、起業が職業の選択肢となっておら
 ず、\n\n　　新しいことに挑戦する起業家精神が低調。
 また、⼤企業を含め、\n\n　　新たな事業を⽣み出すノ
 ウハウを持つ⼈材の層が薄い。\n\n　(4)シリコンバレー
 と⽇本の起業家・企業をつなぐことで、世界市場で\n\n
 　　打ち勝つベンチャー企業等の創出及びグローバル
 に通⽤しロールモデルと\n\n　　なるイノベーターの基
 礎集団の形成及びグローバルで活躍するベンチャーの\
 n\n　　創出を促進する。\n\n　(5)今後の⽇本経済を⽀え
 、グローバルにインパクトを⽣み出す起業家や\n\n　　
 ベンチャー企業、イノベーション企業が⾃律的・連続
 的に⽣み出す社会を\n\n　　構築し、より便利でより豊
 かな国⺠⽣活を実現するため、様々な政策を\n\n　　統
 合的に実施する。\n\nタイムスケジュール\n\n１９：３
 ０～　セミナー\n\n　　　　　　　・一般社団法人グロ
 ーバル・ベンチャー協会のご紹介\n\n　　　　　　　・
 ベンチャー企業の課題について\n\n　　　　　　　・起
 業支援プログラムのご紹介\n\n　　　　　　　・アクセ
 ラレータ起業家学校(ＩＴビジネス大学)のご案内\n\n　
 　　　　　　・スタートアップＣａｆｅのご案内\n\n　
 　　　　　　・参加企業のご紹介\n\n　　　　　　　・
 ベンチャー企業の成功の秘訣　\n\n　　　　　　　・起
 業についてのお悩み相談\n\n＊ 当日予告なく時間配分
 ・内容が変更になる可能性がございます。\n\n参加対象
 \n\n・ベンチャー経営者の方、またはこれから起業を目
 指す方\n\n・創業５年で年商１０億円超を目指す方\n\n
 ・オープンイノベーションで事業を展開した方\n\n※上
 記以外の方ならびに経営者以外の営業、人事の方は対
 象外です。参加をご遠慮いただいております。\n\n定員
 \n\n２５名様（先着順）\n\n◇名刺をお持ちの方は受付
 で1枚頂戴します\n\n主催者\n\n一般社団法人グローバル
 ･ベンチャー協会\n\n株式会社うえじま企画　ITビジネ
 ス大学\n\n代表者　略歴\n\n注意事項\n\n・イベント当日
 の様子は後日なんらかの媒体に掲載させていただく場
 合がございます。\n\n・勧誘などの目的に沿わない行為
 につきまして、主催者が相応しくないと判断した場合
 は退場して頂くことが御座います。全員が気持ちよく
 過ごすことが出来るよう、ご協力をお願い致します。\
 n\n・参加希望者が５名様以上集まらない場合はイベン
 トの開催を見送らせて頂きますので、ご了承ください
 。\n\n(他サイトでも募集しております。本サイトが５
 名様に満たない場合でも、実施致します)\n
LOCATION:田端オフィス５F 東京都北区東田端１－１３－１
 ０　ツインビル田端A棟 
URL:https://techplay.jp/event/704996?utm_medium=referral&utm_source=ics&utm
 _campaign=ics
END:VEVENT
END:VCALENDAR
