BEGIN:VCALENDAR
VERSION:2.0
PRODID:-//https://techplay.jp//JP
CALSCALE:GREGORIAN
METHOD:PUBLISH
X-WR-CALDESC:【増枠】RPA勉強＆LT会！RPALT 大阪 vol.01
X-WR-CALNAME:【増枠】RPA勉強＆LT会！RPALT 大阪 vol.01
X-WR-TIMEZONE:Asia/Tokyo
BEGIN:VTIMEZONE
TZID:Asia/Tokyo
BEGIN:STANDARD
DTSTART:19700101T000000
TZOFFSETFROM:+0900
TZOFFSETTO:+0900
TZNAME:JST
END:STANDARD
END:VTIMEZONE
BEGIN:VEVENT
UID:705317@techplay.jp
SUMMARY:【増枠】RPA勉強＆LT会！RPALT 大阪 vol.01
DTSTART;TZID=Asia/Tokyo:20181207T183000
DTEND;TZID=Asia/Tokyo:20181207T210000
DTSTAMP:20260425T165605Z
CREATED:20181028T021647Z
DESCRIPTION:イベント詳細はこちら\nhttps://techplay.jp/event/70531
 7?utm_medium=referral&utm_source=ics&utm_campaign=ics\n\n業界初の完
 全なユーザー主体のRPAコミュニティ「RPA Community」が主
 催するRPA勉強会＆LT会です！\n関東で大好評を受け、初
 の関西開催！\nまず最初に一言\nRPAユーザー同士でRPAを
 学び、情報を共有し、悩みを共有することで、\n各々
 が求めるRPAで目指す目標を実現させましょう！\nすで
 にRPAに取り組んでいる方、これから学ぼうとしている
 方、バズワードだからちょっと興味がある方、どんな
 方でも大歓迎です。\n前半はセミナー形式でRPAを学ぶ
 。(※1)\n後半はRPAに関するネタや悩みや言いたい事を
 、狭くはRPAですが広くは自動化＜業務改善＜働き方改
 革に繋がるネタをLT(※2)で楽しむ。\nという２本立てで
 進めます。\n※1 セミナーでは、ツールを作成している
 企業と、本格導入した企業の担当者からお話しを伺い
 ます。\n※2 LTとは「Lightning Talk(s)」の頭文字を取った
 もので5分間程度の短い時間で行われる発表を連続して
 続けていく形式のプレゼンテーションです。\nお知ら
 せ！！\n大阪での初開催ということもあり、まずはRPA
 の概要が掴めるセミナー内容を予定しています！\n詳
 細は追って更新いたしますが、タイムテーブルをご参
 照ください。\n参加メリット\nユーザー主体イベントな
 らでは。営業トークも宣伝トークもありません。RPAに
 関する情報を得ながら、拡くは業務改善・働き方改革
 に至る様々な情報を参加者同士で楽しく交換し合える
 イベントです\n参考 第５回オープニング資料\n参考 第
 ２回実施／リアルタイムアンケート結果\n参考 前回ツ
 イートまとめ\n参考 第４回web記事\n参考 第３回web記事\
 n開催前後の交流のためのFBグループもあります！\nhttps
 ://www.facebook.com/groups/129896620983650/ \n是非ご参加下さい！
 \n初開催の記念すべき会場はbillage OSAKAさん！\nアクセ
 ス\n◆場所\n　会場　billage OSAKA（ビレッジオオサカ）\n
 　住所　大阪市中央区本町4丁目2番12号 東芝大阪ビル8F
 \n◆最寄\n　大阪メトロ御堂筋線・中央線・四つ橋線『
 本町駅』より徒歩にてお越しの方\n　　　大阪メトロ
 御堂筋線・中央線・四つ橋線「本町」駅 徒歩1分\n入館
 方法\n確定次第更新いたします。\nタイムテーブル\n\n\n
 \n時間\n内容\n発表タイトル\n\n\n\n\n18:30\n開場（受付開
 始）\n\n\n\n19:00\nオープニング： Mitz&さき\nコミュニテ
 ィ趣旨説明\n\n\n19:15\n説明： Morisea\n大阪初開催と今後
 の展開について説明\n\n\n19:25\nセミナー１:ソフトバン
 ク RPA推進室\n働き方改革を切り口としたRPA活用\n\n\n20:0
 5\nセミナー２: Mitz&さき feat. RPA Bank\nRPA利用などの最新
 状況\n\n\n20:15\n休憩\n\n\n\n20:20\n後半ＬＴ開始\n（順不同
 ）\n\n\n\nＬＴ: みずほ総研\n\n\n\n\nＬＴ: 宮 知秀氏\n\n\n\n
 \nＬＴ: 田中 聡 氏\n\n\n\n\nＬＴ: 田中 優介 氏\n\n\n\n\nＬ
 Ｔ: 左手 氏 ＆ 阪田 氏\n\n\n\n20:50\nクロージング：\n総
 括\n\n\n20:55\n集合記念写真\n\n\n\n21:00\n撤収\n\n\n\n\n参加
 費\n無料\n参加方法\n本イベントページ上記の”このイ
 ベントに申し込む”ボタンよりおすすみください。\n
 また、下記リンクからも必ずお申し込みください。\n
 当日の会場入場時に必要になりますので、\nイベント
 に参加される方は両方とも登録のご協力をお願いいた
 します。\nhttps://billage.space/events/5be8db6b118916887fd24828\n受
 付\n受付にて名刺を一枚お渡しください。\nまた、connpa
 ssの参加画面をお見せください。\n主催\n東京本体主催 
 チャラ電Mitz ／ web記事\n仕事とは関係なく個人的にRPA
 推進に精進中。IoT界隈ではチャラい見た目でちょっと
 だけ有名？らしい。\n「コミュニティ運営芸人」と呼
 ばれ10以上のコミュニティを主催・運営し、各種イベ
 ントの司会から雑用まで何でもこなしてます。\nこの
 イベントに申し込まれたりご興味のある方はお気軽に
 友達申請どうぞ。\n関西主催 Morisea（もりしー）  \n関
 西のRPACommunity イベント主催者 \n元は某大手メーカーで
 時間当たり生産性を重視した業務改善を推進。現在は
 、関西の人手不足の解消を念頭に、ユーザーの教育を
 始めRPAを推進している。関西愛が強すぎる土着エンジ
 ニア。\n関西主催 宮  \n関西のRPACommunity イベント主催
 者 \n業務効率化系のシステムを中心にゴリゴリエンジ
 ニアとして、現在はRPAエンジニアとして開発中。\nRPA
 は「めちゃ楽しい」をモットーに現場のビジネス担当
 者からのあれやこれやに日々対応中。\n共催\nりそなグ
 ループ（ビジネスプラザおおさか）\nビジネスプラザ
 おおさか \n株式会社MJE（billage OSAKA）\nbillage OSAKA \n諸注
 意\n\nイベント内容は一部変更になる可能性がございま
 す。\nイベント当日の様子は後日何らかの媒体にて公
 開させていただくことがございます。\nお申込後運営
 都合によりご参加をキャンセルさせて頂く場合がござ
 います。予めご了承頂けますようお願いいたします。\
 n
LOCATION:ビレッジ大阪 〒541-0053 大阪市中央区本町4丁目2番
 12号
URL:https://techplay.jp/event/705317?utm_medium=referral&utm_source=ics&utm
 _campaign=ics
END:VEVENT
END:VCALENDAR
