BEGIN:VCALENDAR
VERSION:2.0
PRODID:-//https://techplay.jp//JP
CALSCALE:GREGORIAN
METHOD:PUBLISH
X-WR-CALDESC:RPA勉強＆LT会！RPALT 特別編@RPA DIGITAL WORLD 2018
X-WR-CALNAME:RPA勉強＆LT会！RPALT 特別編@RPA DIGITAL WORLD 2018
X-WR-TIMEZONE:Asia/Tokyo
BEGIN:VTIMEZONE
TZID:Asia/Tokyo
BEGIN:STANDARD
DTSTART:19700101T000000
TZOFFSETFROM:+0900
TZOFFSETTO:+0900
TZNAME:JST
END:STANDARD
END:VTIMEZONE
BEGIN:VEVENT
UID:705378@techplay.jp
SUMMARY:RPA勉強＆LT会！RPALT 特別編@RPA DIGITAL WORLD 2018
DTSTART;TZID=Asia/Tokyo:20181122T160000
DTEND;TZID=Asia/Tokyo:20181122T180000
DTSTAMP:20260421T104145Z
CREATED:20181028T141354Z
DESCRIPTION:イベント詳細はこちら\nhttps://techplay.jp/event/70537
 8?utm_medium=referral&utm_source=ics&utm_campaign=ics\n\n業界初の完
 全なユーザー主体のRPAコミュニティ「RPA Community」が主
 催するRPA勉強会＆LT会です！今回は特別編！\nまず最初
 に一言\nRPAユーザー同士で情報や悩みを共有し合いな
 がらRPAを学び、各々が目指す業務改善・働き方改革をR
 PAで実現しましょう！\nすでにRPAに取り組んでいる方、
 これから学ぼうとしている方、バズワードだからちょ
 っと興味がある方、どんな方でも大歓迎です。\n今回
 はスペシャル版！RPA最大級イベント「RPA DIGITAL WORLD 2018
 」内での開催！\nRPAに関するネタ、悩みや、言いたい
 事を、狭くはRPAですが広くは自動化＜業務改善＜働き
 方改革に繋がるテーマでLT(※)を楽しみましょう！\n※ 
 LTとは「Lightning Talk(s)」の頭文字を取ったもので5分間
 程度の短い時間で行われる発表を連続して続けていく
 形式のプレゼンテーション。\n【重要】お知らせ！！
 必読！！\n今回、RPA BANK主催のRPA DIGITAL WORLD 2018内での
 開催となります。参加にあたり、当connpassの申込みと
 合わせて以下以下２点実施いただけますと幸いです！\
 n①RPA BANKへの登録\nこちらから無料登録をお願い致し
 ます。\n②RPA DIGITAL WORLD 2018への参加申し込み\nこちら
 から参加お申込みをお願い致します。\n参加メリット\n
 ユーザー主体イベントならでは。営業トークも宣伝ト
 ークもありません。RPAに関する情報を得ながら、拡く
 は業務改善・働き方改革に至る様々な情報を参加者同
 士で楽しく交換し合えるイベントです\n参考 前回オー
 プニング資料\n参考 第２回実施／リアルタイムアンケ
 ート結果\n参考 前回ツイートまとめ\n参考 第４回web記
 事\n参考 第３回web記事\n開催前後の交流ためのFBグルー
 プもあります！\nhttps://www.facebook.com/groups/129896620983650/ \
 n是非ご参加下さい！\nアクセス\n◆場所\n　会場　ヒル
 トン東京お台場 １F\n　住所　東京都 港区台場 1-9-1\n◆
 最寄駅\n　新交通ゆりかもめ　「台場駅」直結\n　りん
 かい線 「東京テレポート駅」 徒歩約10分\n　※無料シ
 ャトルバス（東京ベイシャトル）をご利用いただけま
 す。\nタイムテーブル\n\n\n\n時間\n内容\n発表タイトル\n
 \n\n\n\n16:10\nオープニング： Mitz＆さき\n趣旨説明\n\n\n\n
 高橋@Twilio\nTwilioで決済を自動化しちゃう話\n\n\n\n三宅
 立悟\n業務可視化ツール「CICERO（シセロ）」ご紹介\n\n\
 n\n震明徹也\nRPAの社内浸透をRPAで助ける\n\n\n\n村山毅@sw
 eeep\nRPAとAIの共演ですと！１社に１台、超優秀な経理
 ロボ\n\n\n\n慈永さん@SoftBank\n本音で語る、失敗しないRPA
 のお作法　-現場主導編-\n\n\n\n吉田晴香と鎌田猛＠MinoRo
 bo元中の人\n普段使いのRPAとは？\n\n\n\n伊藤英明@ヴァル
 研究所\nカレンダー登録をトリガーに移動予定も交通
 費精算も自動化するRODEM\n\n\n\nみや@メットライフ生命\n
 RPAででかい業務をバシッと自動化しようとしたハナシ\
 n\n\n\n井手拓人@RPA Community\n下〇ロケット ～デジタル革
 命編～\n\n\n17:45\nクロージング： 呉\n総括\n\n\n17:50\n集
 合写真\n\n\n\n\n参加費\n無料\n主催\n呉\nRPACommunityファウ
 ンダー。RPAをはじめとした業務効率化マニア。\nRPAの
 教育プログラムを展開しています。\nチャラ電Mitz ／ we
 b記事\nRPA、業務改善、働き方改革に精進中。IoT界隈で
 はチャラい見た目でちょっとだけ有名？らしい。\n「
 コミュニティ運営芸人」と呼ばれ10以上のコミュニテ
 ィを主催・運営し、各種イベントの司会から雑用まで
 何でもこなしてます。\nこのイベントに申し込まれた
 りご興味のある方はお気軽に友達申請どうぞ。\n諸注
 意\n\nイベント内容は一部変更になる可能性がございま
 す。\nイベント当日の様子は後日何らかの媒体にて公
 開させていただくことがございます。\nお申込後運営
 都合によりご参加をキャンセルさせて頂く場合がござ
 います。予めご了承頂けますようお願いいたします。\
 n
LOCATION:ヒルトン東京お台場 1F 東京都 港区台場 1-9-1
URL:https://techplay.jp/event/705378?utm_medium=referral&utm_source=ics&utm
 _campaign=ics
END:VEVENT
END:VCALENDAR
