BEGIN:VCALENDAR
VERSION:2.0
PRODID:-//https://techplay.jp//JP
CALSCALE:GREGORIAN
METHOD:PUBLISH
X-WR-CALDESC:【11月大阪開講！】日本ディープラーニング協
 会認定プログラム！無料説明会 @大阪
X-WR-CALNAME:【11月大阪開講！】日本ディープラーニング協
 会認定プログラム！無料説明会 @大阪
X-WR-TIMEZONE:Asia/Tokyo
BEGIN:VTIMEZONE
TZID:Asia/Tokyo
BEGIN:STANDARD
DTSTART:19700101T000000
TZOFFSETFROM:+0900
TZOFFSETTO:+0900
TZNAME:JST
END:STANDARD
END:VTIMEZONE
BEGIN:VEVENT
UID:705407@techplay.jp
SUMMARY:【11月大阪開講！】日本ディープラーニング協会
 認定プログラム！無料説明会 @大阪
DTSTART;TZID=Asia/Tokyo:20181107T193000
DTEND;TZID=Asia/Tokyo:20181107T203000
DTSTAMP:20260420T105136Z
CREATED:20181028T205005Z
DESCRIPTION:イベント詳細はこちら\nhttps://techplay.jp/event/70540
 7?utm_medium=referral&utm_source=ics&utm_campaign=ics\n\n内容概要\n\n
 本イベントは、日本初の日本ディープラーニング協会
 認定プログラム『現場で使えるディープラーニング基
 礎講座』の説明会です。ディープラーニングの理論を
 理解し、実装する能力を持つ人材を定義するE資格に対
 応した講座です。\n\n更新情報はこちら をフォローい
 ただければと思います。\n\nシーズン1(2018年5月〜9月)で
 は全国で8講座実施し、第1回E資格受験者の約半数を『
 現場で使えるディープラーニング基礎講座』から輩出
 しています。\n\n圧倒的コンテンツの充実度、フォロー
 体制のもと、最高レベルの実技力を身につけることが
 できます。\n\n本講座の概要\n\n​本講座は、ディープ
 ラーニングの基礎・原理を理解し、ディープラーニン
 グを支える最先端の技術を実装レベルでマスターする
 ことをゴールとした講座です。\n\n高度なDeep Learning（DL
 ）技術者の証明である日本ディープラーニング協会のE
 資格（第2回は2019年2月23日実施予定）の受験に必要な
 、協会認定の講座プログラムに対応しています。E検定
 を受験するためには、本プログラムの受講と、期日ま
 でに修了基準を満たす必要があります。\n\nまた、資格
 のためならず、ディープラーニングの基礎・原理を理
 解し、スキルを磨きたい方にも考慮した設計となって
 います。\n\n開講の背景と講座のゴール\n\n第3次AIブー
 ムを牽引してきたディープラーニング（深層学習）は
 、様々な産業での応用事例が喧伝され、データ分析に
 関わる人以外も知る一般的な言葉となってきました。
 ​\n\n近頃では数式を用いないで説明を試みる書籍の出
 版であったり、外部のライブラリに頼れば、原理を理
 解せずとも動くものが作れるなど、"ディープラーニン
 グの民主化"は加速しています。\n\nこうした民主化の
 流れの中では、ディープラーニングについて全く知ら
 なくてよい利用者と、原理を理解し、実装力のあるス
 ペシャリストの二極化が進むと考えられ、今ディープ
 ラーニングを学ぶのであれば、基礎から体系的に学び
 、スペシャリストを目指すことが、唯一のゴールでは
 ないかと思います。\n\n上記理由から、本プログラムは
 、単なる資格合格のための講座ではなく、あくまで実
 務者としてのスキルアップを目指す講座とし、DLフレ
 ームワークの利用だけで終わらない構造的理解を目指
 すハンズオン重視の設計としています。\n\n実践的なハ
 ンズオンを中心とした演習、毎回の理解度チェック、
 講師のオンラインでの質問対応など、様々な角度から
 のスキルアップが可能です。\n\nカリキュラム\n\n・日
 本ディープラーニング協会・E資格とは？\n\n・認定プ
 ログラム紹介\n\n・質疑応答\n\n対象者\n\n・受講をお考
 えの方\n\n・カリキュラム内容にご興味のある方\n\n会
 場へのアクセス方法\n\n◆アットビジネスセンター大阪
 梅田（西梅田MIDビル）903号室\n\n〒530-0002\n大阪府大阪
 市北区曽根崎新地2-2-16　西梅田MIDビル7・9階\n\n※建物
 の外観：桜橋の交差点にあるビル。1階に三菱東京UFJ銀
 行が入っているビルです。\n\n備考\n\n\n勉強会内容を撮
 影もしくは録音することは、ご遠慮ください\n個人ブ
 ログへの記述については、良識の範囲内でお願いいた
 します\n\n\n運営団体\n\nスキルアップAI\n\nhttps://www.skillu
 pai.com/\n
LOCATION:アットビジネスセンター大阪梅田 大阪府大阪市
 北区曽根崎新地2-2-16 (西梅田MIDビル)
URL:https://techplay.jp/event/705407?utm_medium=referral&utm_source=ics&utm
 _campaign=ics
END:VEVENT
END:VCALENDAR
