BEGIN:VCALENDAR
VERSION:2.0
PRODID:-//https://techplay.jp//JP
CALSCALE:GREGORIAN
METHOD:PUBLISH
X-WR-CALDESC:第二回ボトムアップドメイン駆動設計
X-WR-CALNAME:第二回ボトムアップドメイン駆動設計
X-WR-TIMEZONE:Asia/Tokyo
BEGIN:VTIMEZONE
TZID:Asia/Tokyo
BEGIN:STANDARD
DTSTART:19700101T000000
TZOFFSETFROM:+0900
TZOFFSETTO:+0900
TZNAME:JST
END:STANDARD
END:VTIMEZONE
BEGIN:VEVENT
UID:706080@techplay.jp
SUMMARY:第二回ボトムアップドメイン駆動設計
DTSTART;TZID=Asia/Tokyo:20181204T193000
DTEND;TZID=Asia/Tokyo:20181204T220000
DTSTAMP:20260422T121831Z
CREATED:20181031T141741Z
DESCRIPTION:イベント詳細はこちら\nhttps://techplay.jp/event/70608
 0?utm_medium=referral&utm_source=ics&utm_campaign=ics\n\n第二回開催
 決定しました！\n第一回はこちら→https://ddd-community-jp.c
 onnpass.com/event/103428/\nご注意\nこちらのイベントは第一
 回の内容と同じです。\n前回キャパシティの都合上参
 加できなかった方を優先したく、第一回に参加された
 方には大変申し訳ございませんがご遠慮いただきたく
 、ご理解願います。  \n概要\nドメイン駆動設計（DDD）
 に出てくる実装寄りの用語やパターンについて、その
 実装サンプルを用いて解説を行うセミナー形式の勉強
 会です。  \nドメイン駆動設計の学習は難しいと思った
 方は多いのではないでしょうか。\nその難しさの一端
 に「用語のイメージがつかない」というものがあると
 思います。  \nユビキタス言語、コンテキストマップ、
 値オブジェクト、リポジトリ。  \n書籍ドメイン駆動設
 計のページをパラパラめくるだけでも多くの用語が出
 てきます。\nこれらの用語は特に初学者にとっては初
 めて見聞きするものばかりでしょう。\nイメージなど
 出来るはずもありません。\n必然、その用語の理解に
 多くの時間を費やすことになるので、学習は遅々とし
 たものになってしまいます。  \nこういった背景もあっ
 て学習が難しいものになっているドメイン駆動設計で
 すが、実はこれらの用語のいくつかは実装パターンに
 落とし込むことができます。\nつまり明確な実装サン
 プルを用いて解説することができるということです。 
  \nこの勉強会では、簡単な用語から難しい用語までボ
 トムアップに実装ベースで解説を行います。\nその解
 説を通して用語と実装イメージを結びつけ、またパタ
 ーン同士の組み合わせ方を理解して頂けたらと思いま
 す。  \n目標はドメイン駆動設計に従った実装が出来る
 ようになり、ドメイン駆動設計の本質に集中できる下
 地を作ることです。  \n興味のある方は是非ご参加くだ
 さい！  \nなお、ボトムアップドメイン駆動設計という
 記事がこのイベントの発端となっています。\n記事: htt
 ps://nrslib.com/bottomup-ddd/\n内容的に被ることもあるかと思
 いますがご了承ください。\n（予習は必要ないです）  
 \nこんな人にお勧め\n\nドメイン駆動設計について学ん
 でみたい\nEric Evans の本を読んでみて挫折した\nドメイ
 ン駆動設計のコードのイメージを掴んでみたい\nより
 良い設計をしてみたい\n\n参加費\n無料  \nお水のペット
 ボトルをご用意する予定です。  \n会場\n会場：GMO Yours\
 n住所： 東京都渋谷区桜丘町26番1号 (セルリアンタワー
 11F)  \nアジェンダ\n\n値オブジェクト\nエンティティ\nド
 メインサービス\nリポジトリ\nアプリケーションサービ
 ス\nファクトリ\nトランザクション\n集約\n\nサンプルコ
 ードは C# を予定しています。\n※極力 C# 特有の構文は
 利用しないようにするのでオブジェクト指向言語を知
 っていれば問題ないと思います。もしわかりづらいも
 のがあればその場で解説しますのでお気軽にどうぞ。\
 n登壇者\n成瀬 允宣（なるせ まさのぶ）\nGMOインターネ
 ット株式会社 所属  \n社内勉強会や新卒研修等でオブ
 ジェクト指向の講師をしたりしています。\nタイムス
 ケジュール\n\n\n\n時間\n内容\n\n\n\n\n19:00\n開場\n\n\n19:30\n
 セッション前半\n\n\n20:40\n休憩\n\n\n20:50\nセッション後
 半\n\n\n22:00\n終了\n\n\n\n入館方法\n入館にはセキュリテ
 ィカードが必要です。\nセルリアンタワーのロビー階
 にて、19時00分から19時30分ぐらいまで受付を出します
 ので、そこでセキュリティカードを受取、11Fへお上が
 り下さい。  \n19時30分以降にお越しの方は、#bu_ddd のハ
 ッシュタグつきでツイート頂ければお迎えに伺います
 。B1階(セルリアンタワーのエスカレーターを登らず、
 その先の車寄せ入り口から入ったところにある自動ド
 アの中)でお待ちください。\nアクセスマップもござい
 ます。併せてご確認いただければと思います。\n受付
 時間（19:00～19:30）\nhttps://www.gmo.jp/company-profile/access-map/
 day/\n受付時間外（19:30以降）\nhttps://www.gmo.jp/company-profil
 e/access-map/night/  \n会場提供と運営協力\n会場提供：GMO Yo
 urs　運営協力：GMOホスコン\n住所: 東京都渋谷区桜丘町
 26番1号 (セルリアンタワー11F)  \n\n本イベント実施に際
 し、GMOインターネットグループにて会場提供・運営サ
 ポートをさせていただいています。  \nGMOインターネッ
 トグループ内でクラウド・ホスティングサービスを運
 営するグループ4社が集結し「GMOホスコン」と題し、エ
 ンジニア向けセミナーやハンズオンを定期開催してい
 ます。
LOCATION:GMO Yours 東京都渋谷区桜丘町26番1号 セルリアンタ
 ワー
URL:https://techplay.jp/event/706080?utm_medium=referral&utm_source=ics&utm
 _campaign=ics
END:VEVENT
END:VCALENDAR
