BEGIN:VCALENDAR
VERSION:2.0
PRODID:-//https://techplay.jp//JP
CALSCALE:GREGORIAN
METHOD:PUBLISH
X-WR-CALDESC:【東京】Oracle Code One 2018 報告会
X-WR-CALNAME:【東京】Oracle Code One 2018 報告会
X-WR-TIMEZONE:Asia/Tokyo
BEGIN:VTIMEZONE
TZID:Asia/Tokyo
BEGIN:STANDARD
DTSTART:19700101T000000
TZOFFSETFROM:+0900
TZOFFSETTO:+0900
TZNAME:JST
END:STANDARD
END:VTIMEZONE
BEGIN:VEVENT
UID:706479@techplay.jp
SUMMARY:【東京】Oracle Code One 2018 報告会
DTSTART;TZID=Asia/Tokyo:20181117T130000
DTEND;TZID=Asia/Tokyo:20181117T200000
DTSTAMP:20260422T165809Z
CREATED:20181102T021346Z
DESCRIPTION:イベント詳細はこちら\nhttps://techplay.jp/event/70647
 9?utm_medium=referral&utm_source=ics&utm_campaign=ics\n\nJavaOne改め" O
 racle Code One"となりましたが、今年も報告会セミナーを
 開催します！\n\n"Oracle Code One 2018 報告会"\n\n毎年恒例の
 JavaOneの報告会も、装い新たに"Oracle Code One 2018 報告会
 ”として開催します。\n10月22日から25日にかけて米国
 サンフランシスコで開催されたOracle Code One 2018に参加
 された方々より、Java関連技術の最新動向について共有
 していただく情報共有セミナーです。\n\nセッション終
 了後、懇親会兼LT大会・お土産プレゼント大抽選会・
 フォトセッションを実施します！参加される方は、事
 前支払い枠へご登録ください。\n\nタイムテーブル\n\n\n
 \n時間\n内容\n\n\n\n12:30～13:00\n開場、受付\n\n\n13:00～13:10
 \nはじめに：Code One 2018 Introduction / 伊藤 敬さん (@itakash)
 \n\n\n13:10～14:00\nCode One Overview & Java in Container / いとうち
 ひろさん (@chiroito)\n\n\n14:00～14:30\nVector API from Project Pana
 ma / 吉田 真也さん(@bitter_fox)\n\n\n14:30～15:00\nGraal Update（
 仮題）/ きしだなおきさん (@kis)\n\n\n15:00～15:15\n休憩\n\n
 \n15:15～16:00\nJakarta EE and Microservices / 西川 彰広さん [日
 本オラクル]\n\n\n16:00～16:30\nJDKライセンスモデルの変更
 （三たび） / 伊藤 敬さん\n\n\n16:30～16:45\n休憩\n\n\n16:45
 ～17:00\nTwitter4j: Duke's choice Award 2018受賞記念セッション 
 / 山本 ユースケさん (@yusuke)\n\n\n17:00～17:30\nHelidon demo by
  Oracle\n\n\n17:30～18:00\nゆるふわ! Comminity Activities @ OC1 / JJ
 UG幹事\n\n\n18:15～20:00\n懇親会兼ビール片手にCode One 2018
 参加者によるLT大会・お土産プレ大抽選会とフォトセ
 ッション\n\n\n20:00\nクロージング\n\n\n\nOracle Code One とは
 \n\n年に一度、秋に行われるJavaと情報系テクノロジー
 に関する世界的なカンファレンスです。これまで20年
 以上に渡って毎年開催されて来た「JavaOne」が関連する
 情報テクノロジーも巻き込み、様々なITに関する最先
 端を知ることができるカンファレンスに生まれ変わり
 ました。\n会場はサンフランシスコ、モスコーニセン
 ター。朝から晩までカンファレンスが行われ、最新情
 報はもちろん各国のシステム事例、コミュニティにま
 つわるセッションなど多種多様な情報を仕入れること
 ができます。カンファレンスだけでなく、夜に行われ
 るパーティで各国のJavaエンジニアと交流したり、AT&T
 パークで行われるライブイベントに参加できたりと盛
 りだくさんに楽しめる4日間です。\n\n今年のサイトは
 こちら\nhttps://www.oracle.com/code-one/index.html
LOCATION:日本オラクル株式会社 本社 13階  東京都港区北青
 山2-5-8
URL:https://techplay.jp/event/706479?utm_medium=referral&utm_source=ics&utm
 _campaign=ics
END:VEVENT
END:VCALENDAR
