BEGIN:VCALENDAR
VERSION:2.0
PRODID:-//https://techplay.jp//JP
CALSCALE:GREGORIAN
METHOD:PUBLISH
X-WR-CALDESC:BlockChain x IoT縛りの勉強会! BIoTLT#3
X-WR-CALNAME:BlockChain x IoT縛りの勉強会! BIoTLT#3
X-WR-TIMEZONE:Asia/Tokyo
BEGIN:VTIMEZONE
TZID:Asia/Tokyo
BEGIN:STANDARD
DTSTART:19700101T000000
TZOFFSETFROM:+0900
TZOFFSETTO:+0900
TZNAME:JST
END:STANDARD
END:VTIMEZONE
BEGIN:VEVENT
UID:706660@techplay.jp
SUMMARY:BlockChain x IoT縛りの勉強会! BIoTLT#3
DTSTART;TZID=Asia/Tokyo:20181127T191500
DTEND;TZID=Asia/Tokyo:20181127T220000
DTSTAMP:20260420T185133Z
CREATED:20181103T061040Z
DESCRIPTION:イベント詳細はこちら\nhttps://techplay.jp/event/70666
 0?utm_medium=referral&utm_source=ics&utm_campaign=ics\n\nBlockChain x IoT
 でライトニングトーク！\nブロックチェーンとIoTは相
 性が良い!!\n何度も聞いたこのセリフ…。\nしかしその
 活用事例はごくわずか。\n掛け算の可能性は議論しな
 がらも、実際に手を動かしていないのが現状です。\n
 もちろん、ブロックチェーン×IoTのコミュニティも０
 に等しい。\nそんな中作ることをこよなく愛するIoTLTの
 皆さんに衝撃を受けました。\n「これは、できるので
 はないか…。」\n実際に手を動かして、ブロックチェ
 ーンとIoTでひたすら遊ぶ。\n今回は事例が少ない現状
 への挑戦として、BIoTLTの場を用意しました!!\n(by HAYATA S
 ATOMI)\n遅れてきた場合、立ち見になる可能性がありま
 す。\nこの会で何ができるか\n\nブロックチェーン x IoT
 の知見が広がる\nブロックチェーン x IoT界隈の人と仲
 間になれる（かも）\nLTをきっかけにビジネス開拓につ
 ながる（かも）\n世界初の事例を作れる（かも）\n記念
 すべき１回目の参加者に\n\n開催前後の交流のためのFB
 グループもあります！\nhttps://www.facebook.com/groups/IoTLT \n
 情報はこちらで流れてるので是非ご参加下さい！\n登
 壇希望者はFBコメントください！\nこの投稿にコメント
 ください！ → https://www.facebook.com/groups/IoTLT/permalink/10739
 84312772682/\n会場は 株式会社LIFULL セミナールーム8F\n本
 イベント実施に際し、株式会社LIFULL様に会場提供・運
 営サポートをしていただいています。\nhttps://lifull.com/c
 ompany/?fbclid=IwAR1PKZ-0IgRTejiWH1Y8FilBfYkRthwwk1XRGlsRr8Zz3jbEmwmXn3g0
 cBE\n住所：\n〒102-0083\n東京都千代田区麹町1-4-4\n遅れて
 きた場合、立ち見になる可能性があります。\nアクセ
 ス\n東京メトロ半蔵門線 「半蔵門駅」、東京メトロ有
 楽町線「麹町駅」\n受付\n19:15から開場します。\nタイ
 ムテーブル\nLTは一人5分です。\n\n\n\n時間\n内容\n発表
 者\n\n\n\n\n\n19:15\n開場\n\n\n\n\n19:40\nオープニング（BIoTLT
 導入）\n\n\n\n\n19:55\nLT開始\n\n\n\n\n\nスポンサーLT :\n会場
 LIFULL\n5分枠\n\n\n\nLT : B*IoT Hello world\nサトミハヤタ\n5分
 枠\n\n\n\nLT : リアル連動型デジタルお賽銭\nHiroki Sato\n5
 分枠\n\n\n\nLT :\nPeihong Wu\n5分枠\n\n\n\nスポンサーLT :\n株
 式会社withB\n5分枠\n\n\n\nLT :\n加藤 明洋\n5分枠\n\n\n\nLT : 
 白詰草算法~Clover Algorithm~\n藤田優介\n5分枠\n\n\n\nLT :\n\n5
 分枠\n\n\n20:45\n懇親会\n\n\n\n\n21:30\n中締め\n\n\n\n\n22:00\n
 完全撤収\n\n\n\n\n22:00\n撤収\n\n\n\n\n\nBlockChain・IoTに興味
 のある、ハードウェア/Webエンジニアの方を中心にどな
 たでもご参加できます！\n参加費【無料!!】 株式会社wi
 thB 様に懇親会のご支援をいただきました。\n\n本編 無
 料\n懇親会 無料\n\n懇親会スポンサーとして、株式会社
 withB 様にご協力をいただいております。\n仮想通貨・
 ブロックチェーン業界に特化した転職支援会社です。\
 n業界特化の転職フェアを開催する企業です。\nhttps://wi
 thb.co.jp/lp/jobfair03/\n次回11月24日(土)開催。bitFlyer、メタ
 ップス、ビットポイントジャパンなどの注目企業が多
 数出展予定。\nイベント内では注目コミュニティのセ
 ッションも開催されます。\nhttps://withb.connpass.com/event/10
 9740/\n仮想通貨・ブロックチェーン業界への転職や、業
 界情報が気になる方はぜひチェックしてみてください
 。\n主催\n株式会社ISSHO サトミハヤタ\nIT革新が進む上
 海在住時に、ブロックチェーンと出会いその可能性に
 惹かれノンプログラマーから技術の習得を開始。\n2018
 年3月にブロックチェーン技術を使った「物語が宿る指
 輪」ISSHOをリリース。\n現在はISSHOの運営をしながら、
 ブロックチェーン×国際開発コミュニティ「BLOCKCHAIN4D 
 研究所」や、ブロックチェーンへの参入ハードルを低
 くする「G’s BLOCKCHAIN GUILD」に参画、活動中。\n諸注意\
 n\nイベント内容は一部変更になる可能性がございます
 。\nイベント当日の様子は後日何らかの媒体にて公開
 させていただくことがございます。\nお申込後運営都
 合によりご参加をキャンセルさせて頂く場合がござい
 ます。予めご了承頂けますようお願いいたします\n
LOCATION:株式会社LIFULL 8F 〒102-0083 東京都千代田区麹町1-4-4
URL:https://techplay.jp/event/706660?utm_medium=referral&utm_source=ics&utm
 _campaign=ics
END:VEVENT
END:VCALENDAR
