BEGIN:VCALENDAR
VERSION:2.0
PRODID:-//https://techplay.jp//JP
CALSCALE:GREGORIAN
METHOD:PUBLISH
X-WR-CALDESC:スマートスピーカーを遊びたおす会 vol.4
X-WR-CALNAME:スマートスピーカーを遊びたおす会 vol.4
X-WR-TIMEZONE:Asia/Tokyo
BEGIN:VTIMEZONE
TZID:Asia/Tokyo
BEGIN:STANDARD
DTSTART:19700101T000000
TZOFFSETFROM:+0900
TZOFFSETTO:+0900
TZNAME:JST
END:STANDARD
END:VTIMEZONE
BEGIN:VEVENT
UID:707833@techplay.jp
SUMMARY:スマートスピーカーを遊びたおす会 vol.4
DTSTART;TZID=Asia/Tokyo:20181217T190000
DTEND;TZID=Asia/Tokyo:20181217T214500
DTSTAMP:20260422T041122Z
CREATED:20181112T061240Z
DESCRIPTION:イベント詳細はこちら\nhttps://techplay.jp/event/70783
 3?utm_medium=referral&utm_source=ics&utm_campaign=ics\n\nはじめに\n
 スマートスピーカー全体をテーマにした開発寄りの勉
 強会です！\nこれから遊びたおしてみたい方や、既に
 遊びたおされている方も是非ご参加下さい！  \n ※今
 回配信はございませんので、是非とも会場にいらして
 セッションをご覧ください！ \n IoTLT放送部の方々のご
 協力により、配信（もしかしたらアーカイブ）して頂
 けることとなりました！   \n※会場にWi-Fiを用意してお
 ります。 持ち込みのWi-Fiルータのご使用は混線の原因
 となりますのでお控え頂きますようお願い致します。\
 n※電源タップは数台貸出可能ですが数に限りがござい
 ますのでご持参頂けると助かります。  \nタイムテーブ
 ル\n\n\n\n時間\n内容\n\n\n\n\n18:30\n受付開始\n\n\n18:55\n会場
 案内\n\n\n19:00\n田中みそGoogle HomershowスポンサーLT（IIJ）
 \n\n\n19:55\n休憩\n\n\n20:05\nスポンサーLT（Forkwell）USASHIROUi
 majo清野 剛史\n\n\n21:00\n懇親会（LTあり）\n\n\n21:45\n解散\
 n\n\n\nセッション\n■（クリスマスネタで攻めるかも）\
 n田中みそ（@miso_develop）\nGoogle Home購入を機にITに目覚
 めた初心者非エンジニア。\n好きな食べ物はRaspberry Pi
 とバナナ。  \n\nスマートスピーカーを遊びたおす会 主
 催\nスマートスピーカーを遊びたおす本 著者\nAlexaスキ
 ルアワード2018 ファイナリスト\nLINE BOOT AWARDS 2018 obniz賞
 受賞（チーム受賞）\nMashup Awards 2018 VUI部門 Organizer\n\n
 ■Echo ShowでAPLを使って美少女から告白されて、Clovaで
 屋外でVoiceデートする\nshow（@surumegohan）\nVUIプロデュー
 サー兼エンジニア。\nAlexaでduelをしたり、美少女から
 告白されたりする傍ら、スマスピグッズを創ったりし
 ている。\n\nスマートスピーカーを遊びたおす会　準主
 催\nスマートスピーカーを遊びたおす本　著者・編集
 者 \nNOID公認アンバサダー \nMashup Awards 2018 VUI部門 Organiz
 er\n「音声レビュー・ログデータ収集・分析システム」
 の発明者として特許出願中\n\n■テクノロジーでモテる
 \nimajo\nスマートクリエイターを名乗ってます。スマー
 トスピーカーに恋する学生エンジニアです。Clovaスキ
 ルハンズオン講師とかしてます\n■Google Homeをネイティ
 ブ機能で遊びたおしてみた!!\nGoogle Homer\n昔、Z80/8255、
 コモドールPET、PC98使い。Sire定年退職組。VUIとの出会
 いで、長年の経営管理職で退化していたエンジニア脳
 が突然再覚醒。\n現在、フリーランスCTO職2割、趣味のV
 UI8割と、VUIに入れ込む日々。うんこカウンター・エヴ
 ァンジェリストとobnizerのタイトルを保有。  \n■キラ
 ーコンテンツはスマートスピーカー？～これからの数
 年を語る15分間～\nUSASHIROU\n16歳でフィギュアメーカー
 を起業し、その後、モバイルオーディオの製造立ち上
 げや、製品企画からNC加工機や成形機を動かすまで多
 岐にわたる経験を有する。\n現職は金属加工屋の営業
 マン。  \n■タイトル未定\n清野 剛史\nクラスメソッド
 株式会社AIソリューション部 Alexaエバンジェリスト / VU
 Iアーキテクト。\n主に事業会社を中心にAlexaを使った
 ビジネスサービスのコンサルティング、構築作業、 Ale
 xaを使用した新規ソリューションのR&D業務に従事する
 。  \n懇親会LT\nAPL使ってみた\n高馬宏典さん（株式会社
 アイエンター R&D テクニカルチーフ）\nNOID歴約2週間の
 人から見たNOID\nもっちー\nスポンサーLT\n株式会社イン
 ターネットイニシアティブ\nForkwell\n会場について\nIIJ
 本社\nIIJ様より本社会議室を会場提供頂いています。\n
 〒102-0071 東京都千代田区富士見2-10-2 飯田橋グラン・ブ
 ルーム 13F（受付は2Fで行います）\n地図: http://www.iij.ad.
 jp/company/about/map/head-office.html\n会場への道のり: https://sit
 es.google.com/site/iijbenkyokai/place/route\n受付について\n飯田
 橋グラン・ブルーム 2Fにて18:30～19:00まで受付を行いま
 す。\nconnpassより発行される「受付票」を印刷してご持
 参いただくか、スマートフォンの画面などでご提示く
 ださい。\n受付時間終了後（19:00以降）にお越しの方は
 ハッシュタグ「#スマートスピーカーを遊びたおす会 
 ＃ヘルプ」でツイートして頂くか（ハッシュタグをふ
 たつとも入力してください）、連絡用携帯番号を受付
 に掲示しますのでそちらにご連絡頂ければお迎えに参
 ります。\nスポンサー\n会場スポンサー　株式会社イン
 ターネットイニシアティブ(IIJ)\n\n懇親会スポンサー　F
 orkwell\n  \nForkwell（https://forkwell.com/）は、成長し続ける
 エンジニアを支援するサービスを複数運営しています
 。\nポートフォリオサービスにより、ITエンジニアのス
 キルや経験を可視化、成長のきっかけを提供し、"コー
 ドを書く人が評価される" 世界の実現を目指します。\n
 さらにエンジニアに特化した求人サイト「Forkwell Jobs」
 ・転職スカウトサービス「Forkwell Scout」では、"幸せに
 働く" きっかけとなる情報や場の提供を通じて、ITエン
 ジニアの幸せを追求しつづけます。  \n参加費\n無料\n
 諸注意\n\nイベント内容は一部変更になる可能性がござ
 います。\n参加できなくなった場合は、お早めにキャ
 ンセルをお願いいたします。\nイベントの写真撮影を
 させて頂きます。お顔などが映り込む可能性がござい
 ます。予めご了承ください。\n会場内は禁煙です。フ
 ロア内に喫煙所もございません。\n
LOCATION:IIJ本社会議室 〒102-0071 東京都千代田区富士見2-10-
 2 (飯田橋グラン・ブルーム 13F)
URL:https://techplay.jp/event/707833?utm_medium=referral&utm_source=ics&utm
 _campaign=ics
END:VEVENT
END:VCALENDAR
