BEGIN:VCALENDAR
VERSION:2.0
PRODID:-//https://techplay.jp//JP
CALSCALE:GREGORIAN
METHOD:PUBLISH
X-WR-CALDESC:【はじめて枠満員のため増枠！】初登壇の方
 大歓迎！エンジニアLT 〜 サーバーサイドエンジニアあ
 るある編
X-WR-CALNAME:【はじめて枠満員のため増枠！】初登壇の方
 大歓迎！エンジニアLT 〜 サーバーサイドエンジニアあ
 るある編
X-WR-TIMEZONE:Asia/Tokyo
BEGIN:VTIMEZONE
TZID:Asia/Tokyo
BEGIN:STANDARD
DTSTART:19700101T000000
TZOFFSETFROM:+0900
TZOFFSETTO:+0900
TZNAME:JST
END:STANDARD
END:VTIMEZONE
BEGIN:VEVENT
UID:707851@techplay.jp
SUMMARY:【はじめて枠満員のため増枠！】初登壇の方大歓
 迎！エンジニアLT 〜 サーバーサイドエンジニアあるあ
 る編
DTSTART;TZID=Asia/Tokyo:20181122T193000
DTEND;TZID=Asia/Tokyo:20181122T220000
DTSTAMP:20260419T161454Z
CREATED:20181112T085042Z
DESCRIPTION:イベント詳細はこちら\nhttps://techplay.jp/event/70785
 1?utm_medium=referral&utm_source=ics&utm_campaign=ics\n\n今回のテー
 マ\n\n⇨「サーバーサイドエンジニアあるある」\n\n前
 回に引き続いて開催しますエンジニアLTセッション。\n
 日々感じている"あるある"を共有する会です。\nLTが初
 めてという方も、意識高い話をする必要はありません
 。\n1番大事なのは"良いあるあるを言うこと"\n\n否定的
 ・批判的な話ではなく、前向きな話に繋がればテーマ
 はなんでもOK！\nみんなで悩みや考えを共有しながら解
 決に繋げられる場にしましょう！\n\nこんな方お待ちし
 ています！\n\n⇨LTはじめての方\n⇨U-29エンジニアの方
 （学生の方もOK!です）\n⇨サーバーサイドあるあるを
 とにかく言いたい方\n\n※一般参加枠はどの領域のエン
 ジニアさんでもOKです！\n\nLTテーマ例\n\n・アプリのサ
 ーバーサイド開発あるある\n・ベンチャーでのサーバ
 ーサイド開発あるある\n・小規模なサーバーサイド開
 発あるある　など\n※前回スマホアプリあるあるのレ
 ポートはこちらから！\n\n登壇者とLTテーマ（随時公開
 します）\n\n■はじめて枠\n\nryoji_satoさん・・・ゲーム
 運営＋長期運用プロダクトのサーバーサイドエンジニ
 アあるある\nToshiaki Hirohashiさん・・・ブラウザゲーム
 運営効率化あるある\nSally_42さん・・・TBD\nPanda_Programさ
 ん・・・TBD\nTakayuki Hazawaさん・・・画面依存症\n junichi_
 kiuchiさん・・・本番作業あるある\n\n■LT枠\n\ncpp0302さ
 ん [and factory]・・・Goサーバーサイドあるある\nToshihikoE
 sashiさん・・・自分含め誰かが色々やらかしたお話\ngos
 agawaさん [and factory]・・・ベンチャーのインフラあるあ
 る\n\n持ち物\n\n◎渾身のあるある\n◎まず楽しむという
 キモチ\n※参加費かかりません！軽食とお酒をご用意
 してお待ちしています！\n\n開催場所\n\n場所：and factory
 株式会社 &AND CAFEスペース\n住所：東京都目黒区青葉台3
 -6-28 住友不動産青葉台タワー2F\n最寄：渋谷駅徒歩約13
 分、池尻大橋駅徒歩約5分、神泉駅徒歩約7分\n地図：htt
 ps://goo.gl/maps/hd46YSpSiS52\n低層階用エレベーターに乗って
 2Fで降り、明るいエントランスのITIさん側に進みます
 。\nそのまま右に曲がり、奥から2枚目の扉がエントラ
 ンスです。\nわかりづらい場合がありますが、是非ご
 連絡ください。\n緊急連絡先：080-5489-7142\n\nSlackグルー
 プできました\n\n当日はコミュニケーション手段として
 Slackを活用します。\n事前にこちらのフォームからSlack
 にご参加頂いておくとやり取りがスムーズです。\nJoin 
 and factory Beer Bash イベント on Slack\n\nタイムテーブル\n\n|
  19:00〜   　 　 |  開場\n| 19:30〜19:35 | ご挨拶と乾杯 |\n| 
 19:35〜20:35 | LT枠＝10名*5分 ※ 途中休憩をはさむ予定で
 す |\n| 20:35〜22:00 | 懇親会\n| 22:00頃　　　| 終わりの挨
 拶 |\n\n補足事項\n\n・批判や悪口はNGです！前向きに楽
 しくやりましょう！\n・初めての方もいますので、始
 まりと終わりの拍手は盛大にお願いします！\n・多少
 噛んでも気にしない！楽しむことが大事です！\n・開
 催時刻などが変更となる可能性もございます。\n・先
 着としている都合上、キャンセルの場合には早めにお
 願いします。\n
LOCATION:and factory株式会社 東京都目黒区青葉台3-6-28 住友
 不動産青葉台タワー2F
URL:https://techplay.jp/event/707851?utm_medium=referral&utm_source=ics&utm
 _campaign=ics
END:VEVENT
END:VCALENDAR
