BEGIN:VCALENDAR
VERSION:2.0
PRODID:-//https://techplay.jp//JP
CALSCALE:GREGORIAN
METHOD:PUBLISH
X-WR-CALDESC:テクノロジーで業界の未来を変える #04 - 大企
 業の「本気の挑戦」が見据える未来 -
X-WR-CALNAME:テクノロジーで業界の未来を変える #04 - 大企
 業の「本気の挑戦」が見据える未来 -
X-WR-TIMEZONE:Asia/Tokyo
BEGIN:VTIMEZONE
TZID:Asia/Tokyo
BEGIN:STANDARD
DTSTART:19700101T000000
TZOFFSETFROM:+0900
TZOFFSETTO:+0900
TZNAME:JST
END:STANDARD
END:VTIMEZONE
BEGIN:VEVENT
UID:707973@techplay.jp
SUMMARY:テクノロジーで業界の未来を変える #04 - 大企業の
 「本気の挑戦」が見据える未来 -
DTSTART;TZID=Asia/Tokyo:20181206T193000
DTEND;TZID=Asia/Tokyo:20181206T220000
DTSTAMP:20260422T045220Z
CREATED:20181113T001513Z
DESCRIPTION:イベント詳細はこちら\nhttps://techplay.jp/event/70797
 3?utm_medium=referral&utm_source=ics&utm_campaign=ics\n\n概要\n商慣
 習のできあがっている業界をテクノロジーで変革する
 。\nその実現には、業界のプレイヤーやステークホル
 ダーを巻き込むビジネス構造や、運用が完成している
 ワークフロー、利用することが当たり前として染み付
 いているユーザーの生活など、超えなければいけない
 常識の壁がいくつもあります。\nデジタルトランスフ
 ォーメーションやオープンイノベーションがバズワー
 ドとなり、スタートアップの挑戦に注目が集まりがち
 ですが、この時代の中で大企業が取り組む「本気の挑
 戦」が生み出すインパクトは計り知れません。\n今回
 は、「本気の挑戦」をテーマに各社の取り組み事例と
 今後の未来展望を聞いていきます。\n\nタイムスケジュ
 ール\n\n    \n        \n            時間\n            内容\n       
  \n        \n            19:00〜\n            受付開始\n        \n  
       \n            19:30〜19:35\n            オープニング\n      
   \n        \n            19:35〜20:00\n            \n                
 ニトリのビジョンを支えるITの今と未来／ニトリの海
 外での取り組み\n                株式会社ニトリホールデ
 ィングス 藤家 晋／浅野 秀朗\n                ・ニトリの
 ビジョン\n                    ・ビジョンを支える情報シス
 テム改革室の現在と未来について\n                    ・ニ
 トリ流ビッグプロジェクトのまわし方\n                    
 ・ニトリ中国でのIT技術導入の取り組みについて\n      
       \n        \n        \n            20:00〜20:25\n            \n    
             モビリティ革命に本気で挑戦するパーク２４
 のアプリケーション開発\n                パーク２４株式
 会社 佐々木 太一朗\n                ・パーク２４グルー
 プのプラットフォーム\n                    ・パーク２４グ
 ループのMaaS\n                    ・タイムズカープラスの
 データ活用\n            \n        \n        \n            20:25〜20
 :50\n            \n                銀行が取り組む本気の挑戦(
 仮)\n                株式会社三井住友銀行　島崎 貴次\n   
              \n            \n        \n        \n            20:50〜21:0
 5\n            Q&A\n        \n        \n            21:05〜21:10\n      
       アンケート\n        \n        \n            21:10〜22:00\n   
          懇親会\n        \n    \n\n※ 当日予告なく時間配分
 ・内容が変更になる可能性がございます。\n\n登壇者\n\
 n    \n        \n        \n            藤家 晋\n            株式会
 社ニトリホールディングスプロジェクト推進チーム 統
 括ディレクター\n            SIer、ユーザー企業に勤めた
 後、2008年株式会社ニトリに入社。店舗系システム、人
 事システムなどのIT企画を担当。現在、IT企画担当チー
 ムの責任者としてプロジェクトを推進。\n        \n    \n 
    \n        \n        \n            浅野 秀朗\n            株式会
 社ニトリホールディングスプロジェクト推進チーム\n  
           SIer勤務の後、2005年株式会社ニトリに入社。店
 舗系、会計系のIT企画や開発部門のリーダを担当後、20
 16年より中国販売会社のIT部門責任者を担当。2018年に
 帰任し、現在、IT企画担当チームでO2O関連プロジェク
 トを推進。\n        \n    \n    \n        \n        \n            
 佐々木 太一朗\n            パーク２４株式会社ICT推進本
 部 事業システム開発部 部長\n            2000年に株式会
 社CSK(現SCSK)入社。2004年ドライバーズネット株式会社(
 現タイムズコミュニケーション)入社し、タイムズクラ
 ブ(ポイントプログラム)などのシステム開発に従事。
 その後、2007年にパーク２４株式会社に転籍しパーク２
 ４グループが保有する WEB システムの開発に従事。2010
 年よりカーシェアリングシステムを全面刷新、プロジ
 ェクト全体を統括。業務推進本部 事業システム開発部
 長を経て、現職（ICT推進本部 事業システム開発部長）
 \n        \n    \n    \n        \n        \n            島崎 貴次\n  
           株式会社三井住友銀行　リテールIT戦略部 戦略
 企画グループ長\n            2000年　株式会社住友銀行（
 現：三井住友銀行）に入社。ファイナンシャルコンサ
 ルタントとしてリテール顧客の営業を経験の後、銀行
 業務のデジタル化やインターネットバンキングの推進
 に従事。現在は、ＳＮＳやＷＥＢプロモーション等の
 デジタルマーケティング企画も統括。\n\n        \n    \n\n
 \n参加対象\n\n    SIerのPL\,PM\n    事業開発経験者\n    コ
 ンサルタント\n\n\n持ち物\n名刺\n※ 受付時にお渡しく
 ださい。\n\n参加費\n無料\n\n
LOCATION:TECH PLAY SHIBUYA 東京都渋谷区宇田川町20-17 NMF渋谷公
 園通りビル 8F
URL:https://techplay.jp/event/707973?utm_medium=referral&utm_source=ics&utm
 _campaign=ics
END:VEVENT
END:VCALENDAR
