BEGIN:VCALENDAR
VERSION:2.0
PRODID:-//https://techplay.jp//JP
CALSCALE:GREGORIAN
METHOD:PUBLISH
X-WR-CALDESC:JAWS-UG 初心者支部#15 AWS re:Invent 2018 re:Cap !!
X-WR-CALNAME:JAWS-UG 初心者支部#15 AWS re:Invent 2018 re:Cap !!
X-WR-TIMEZONE:Asia/Tokyo
BEGIN:VTIMEZONE
TZID:Asia/Tokyo
BEGIN:STANDARD
DTSTART:19700101T000000
TZOFFSETFROM:+0900
TZOFFSETTO:+0900
TZNAME:JST
END:STANDARD
END:VTIMEZONE
BEGIN:VEVENT
UID:708006@techplay.jp
SUMMARY:JAWS-UG 初心者支部#15 AWS re:Invent 2018 re:Cap !!
DTSTART;TZID=Asia/Tokyo:20181207T190000
DTEND;TZID=Asia/Tokyo:20181207T210000
DTSTAMP:20260423T044419Z
CREATED:20181113T061441Z
DESCRIPTION:イベント詳細はこちら\nhttps://techplay.jp/event/70800
 6?utm_medium=referral&utm_source=ics&utm_campaign=ics\n\nJAWS-UG初心者
 支部第15回勉強会開催！\n今回はre:Invent 2018報告会を開
 催します！\n初心者支部らしく、re:Invent とは？といっ
 たところから、会場の様子までわかりやすく伝えられ
 たらと考えてます！\nJAWS-UG初心者とは？\nAWSをこれか
 ら活用したい人や一緒に勉強する仲間が欲しい人を主
 なターゲットとしています。 ・AWSへの理解を深めてい
 ただくお手伝いをすることはもちろんのこと、みなさ
 まがより楽しく学び、よりステップアップしていくた
 めには不可欠となる、初心者支部の卒業→JAWSの他支部
 へと巣立つためのお手伝いをします。\n会場\nアマゾン
  ウェブ サービス ジャパン株式会社(新オフィス）\n東
 京都品川区上大崎3-1-1(目黒セントラルスクエア21F)\n入
 館方法および受付\n\n受付は18:30を予定しています。\n
 アマゾンウェブサービス社新オフィスになりますので
 お間違えのないようご注意ください。\n入館と受付方
 法はこちらを参考にしてください。\n受付時はconnpassの
 受付番号をご提示ください。\n会場はAWSJ様のご厚意で
 使用させて頂いています。会場の注意事項守っていた
 だきますようお願いします。\n\nタイムテーブル（LT順
 序は変更になる可能性があります）\n\n\n\n時間\n内容\n
 講師\n\n\n\n\n18:30〜\n受付開始\n-\n\n\n19:00-19:10\n会場諸注
 意/初心者支部とは\nJAWS-UG 初心者支部運営\n\n\n19:10-19:30
 \n「（仮）初めてのre:invent ～若造目線の楽しみ方～」\
 nYu Otsubo\n\n\n19:30-19:50\n「（仮）re:Inventの事前準備と当
 日の動き方」\n北野 佑一\n\n\n19:50-20:00\nバッファ＆休憩
 \n\n\n\n20:00-20:20\n「re:Invent皆勤賞(7回目)のレジェンドが
 見た 今年のre:Inventが示す近未来と注目セッション、新
 サービスやビジネスの話(超仮タイトル)」\n吉田 真吾\n
 \n\n20:20-20:25\nLT1：「3 stories of re:Invent」\nSteve Kasuya\n\n\n20
 :25-20:30\nLT2：「re:invent初参加者が体験したre:invent2018」\
 njkkch\n\n\n20:30-20:35\nLT3：「初めてのre:Invent ～現地での
 コミュニケーション～」\nknmatsumoto\n\n\n20:35-20:40\nLT4：
 「ALB+Lambdaを使ってみた」\nyanyansk\n\n\n20:40-20:50\n他支部
 紹介\nAWSJ沼口さん\n\n\n20:50-20:55\nバッファ\n\n\n\n20:55-\n
 撤収\n懇親会へGO!!\n\n\n\nリモート参加枠\n大好評のリモ
 ート参加枠今回もご用意します！別イベントで公開し
 ていますのでこちらから申込ください。\nLT参加希望の
 方へ\n以下にご了承頂いた上で参加申込みをお願い致
 します\n\n［重要］今回は「re:Invent 2018報告会」です。
 メインテーマに沿ったLTをお願いします。\n［重要］初
 心者支部ですので、初心者向けのLTをお願いします。\n
 極力重複しないようなテーマでトーク頂けるように1週
 間前までにLTテーマのご連絡を運営宛にご連絡くださ
 い。\nLTは5分間となります。時間オーバーせずスムー
 ズな進行にご協力ください\nLT完了後にはスライドの公
 開にご協力ください。connpassページへの資料アップロ
 ードをお願い致します。\nLT の登壇者名や題目などの
 情報は公式ブログにて紹介させて頂きます\n過度な宣
 伝はお控えください\n\n参加者の皆さんから以下のよう
 なコメントを頂いています！参考にしてください\n\n「
 学習のコツを伝授してほしい、資格コンプされた方の
 勉強方、勉強の仕方のロードマップ知りたい」\n「VPC
 、S3、RDS、API Gateway、lambda、AWSIoT\, Elasticsearch Service\, Pol
 ly\, Rekognitionに興味があります」\n「VPC／IAMなど、本当
 に最初に必要になるサービスの基本的なことが知りた
 い」\n「S3かDynamoDBの使い方事例教えてほしい」\n「Dev
 視点から見たAWS聞きたい」\n「初心者支部なのにちょ
 っと内容が難しいかも…」\n\n\n\nこんなテーマを大募
 集中！\n\n「非エンジニアだけどXXXしてみた」\n「エン
 ジニアになって何年目だけどXXXしてみた」\n「AWSを初
 めて使って、こんな勉強法でXXXやってみた」\n「初心
 者向け　XXX入門」\n「AWS勉強法」\n\n\n\n参加者交流のた
 めのFBグループ\n交流の場や情報交換する場として是非
 FBグループにご参加ください\nhttps://www.facebook.com/groups/1
 568052690139353\n初心者支部のブログはこちら\n注意事項な
 ど\n\n当日、ブログ用に撮影担当が入る場合がございま
 す。極力参加者の方のお顔が入らないようにする等配
 慮いたしますが、ご了承くださいませ。\nセキュリテ
 ィ上、本名とメールアドレスのご記入をお願いします
 。また、ご本人確認のために名刺、IDの提示をお願い
 することがあることをご了承ください。\nリクルーテ
 ィング、勧誘、採用活動、人の話を聞かないなど、目
 的に沿わない行為につきまして、主催者が相応しくな
 いと判断した場合は退出頂く場合があります。全員が
 気持ちよく過ごすことが出来るよう、ご協力をお願い
 致します。\n大きなシャッター音はスピーカーの話に
 集中する環境を壊しがちです。撮影する場合は「Microso
 ft Pix」のような無音カメラを使うなど周囲への配慮を
 しましょう。\n\n\n【編集履歴】\n2018/11/13 作成&公開
LOCATION:目黒セントラルスクエア 21階 東京都品川区上大
 崎3-1-1
URL:https://techplay.jp/event/708006?utm_medium=referral&utm_source=ics&utm
 _campaign=ics
END:VEVENT
END:VCALENDAR
