BEGIN:VCALENDAR
VERSION:2.0
PRODID:-//https://techplay.jp//JP
CALSCALE:GREGORIAN
METHOD:PUBLISH
X-WR-CALDESC:JAWS-UG 初心者支部#15「AWS re:Invent 2018 re:Cap」リ
 モート枠
X-WR-CALNAME:JAWS-UG 初心者支部#15「AWS re:Invent 2018 re:Cap」リ
 モート枠
X-WR-TIMEZONE:Asia/Tokyo
BEGIN:VTIMEZONE
TZID:Asia/Tokyo
BEGIN:STANDARD
DTSTART:19700101T000000
TZOFFSETFROM:+0900
TZOFFSETTO:+0900
TZNAME:JST
END:STANDARD
END:VTIMEZONE
BEGIN:VEVENT
UID:708007@techplay.jp
SUMMARY:JAWS-UG 初心者支部#15「AWS re:Invent 2018 re:Cap」リモー
 ト枠
DTSTART;TZID=Asia/Tokyo:20181207T190000
DTEND;TZID=Asia/Tokyo:20181207T210000
DTSTAMP:20260421T214501Z
CREATED:20181113T061443Z
DESCRIPTION:イベント詳細はこちら\nhttps://techplay.jp/event/70800
 7?utm_medium=referral&utm_source=ics&utm_campaign=ics\n\nJAWS-UG初心者
 支部第15回勉強会のオンライン参加イベント版です！\n
 JAWS-UG初心者とは？\nAWSをこれから活用したい人や一緒
 に勉強する仲間が欲しい人を主なターゲットとしてい
 ます。 AWSへの理解を深めていただくお手伝いをするこ
 とはもちろんのこと、みなさまがより楽しく学び、よ
 りステップアップしていくためには不可欠となる、初
 心者支部の卒業→JAWSの他支部へと巣立つためのお手伝
 いをします。\nリモート参加方法\n\nAmazon Chimeにてオン
 ライン参加頂きます。\nイベント直前にconnpassアカウン
 ト登録メールアドレス宛にMeetingID含んだURLを送信しま
 す。\n特にアカウント作成などは不要で、Webブラウザ
 経由、ChimeモバイルアプリからMeetingIDを入力すること
 で参加することが可能です。\nChime利用に関するFAQはこ
 ちら\n\nタイムテーブル\n詳細はこちらのイベントペー
 ジをご確認ください。\n\n\n\n時間\n内容\n講師\n\n\n\n\n18:
 30〜\n受付開始\n-\n\n\n19:00-19:10\n会場諸注意/初心者支部
 とは\nJAWS-UG 初心者支部運営\n\n\n19:10-19:30\n「（仮）初
 めてのre:invent ～若造目線の楽しみ方～」\nYu Otsubo\n\n\n1
 9:30-19:50\n「（仮）re:Inventの事前準備と当日の動き方」\
 n北野 佑一\n\n\n19:50-20:00\nバッファ＆休憩\n\n\n\n20:00-20:20
 \n「re:Invent皆勤賞(7回目)のレジェンドが見た 今年のre:I
 nventが示す近未来と注目セッション、新サービスやビ
 ジネスの話(超仮タイトル)」\n吉田 真吾\n\n\n20:20-20:25\nL
 T1：「3 stories of re:Invent」\nSteve Kasuya\n\n\n20:25-20:30\nLT2：
 「re:invent初参加者が体験したre:invent2018」\njkkch\n\n\n20:30
 -20:35\nLT3：「初めてのre:Invent ～現地でのコミュニケー
 ション～」\nknmatsumoto\n\n\n20:35-20:40\nLT4：「ALB+Lambdaを使
 ってみた」\nyanyansk\n\n\n20:40-20:50\n他支部紹介\nAWSJ沼口
 さん\n\n\n20:50-20:55\nバッファ\n\n\n\n20:55-\n撤収\n懇親会へ
 GO!!\n\n\n\n参加者交流のためのFBグループ\n交流の場や情
 報交換する場として是非FBグループにご参加ください\n
 https://www.facebook.com/groups/1568052690139353\n初心者支部のブ
 ログはこちら\n\n【編集履歴】\n2018/11/13 作成＆公開
LOCATION:目黒セントラルスクエア 21階 東京都品川区上大
 崎3-1-1
URL:https://techplay.jp/event/708007?utm_medium=referral&utm_source=ics&utm
 _campaign=ics
END:VEVENT
END:VCALENDAR
