BEGIN:VCALENDAR
VERSION:2.0
PRODID:-//https://techplay.jp//JP
CALSCALE:GREGORIAN
METHOD:PUBLISH
X-WR-CALDESC:Firebase Meetup #8 @FiNC Technologies
X-WR-CALNAME:Firebase Meetup #8 @FiNC Technologies
X-WR-TIMEZONE:Asia/Tokyo
BEGIN:VTIMEZONE
TZID:Asia/Tokyo
BEGIN:STANDARD
DTSTART:19700101T000000
TZOFFSETFROM:+0900
TZOFFSETTO:+0900
TZNAME:JST
END:STANDARD
END:VTIMEZONE
BEGIN:VEVENT
UID:708336@techplay.jp
SUMMARY:Firebase Meetup #8 @FiNC Technologies
DTSTART;TZID=Asia/Tokyo:20181210T190000
DTEND;TZID=Asia/Tokyo:20181210T213000
DTSTAMP:20260421T050324Z
CREATED:20181115T061637Z
DESCRIPTION:イベント詳細はこちら\nhttps://techplay.jp/event/70833
 6?utm_medium=referral&utm_source=ics&utm_campaign=ics\n\nFirebase meetup 
 #8 @FiNC Technologies\nFirebase meetupは国内最大のFirebaseコミュ
 ニティ Firebase Japan User Group（FJUG）が主催する。ナレッ
 ジ共有イベントです。\nFJUGはFirebaseに興味をもつ全て
 の人を歓迎いたします。\n募集枠について\n\n\n\n枠につ
 いて\n説明\n\n\n\n\nLT枠\nFirebaseについてのLTをお願いし
 ます。Firebaseについてならなんでも大丈夫です。 時間
 は最大１０分でお願いします。\n\n\nBlog枠\nMeetupの内容
 をブログにて配信をお願いします。\n\n\nTwitter枠\nMeetup
 の内容を実況中継をお願いします。\n\n\nU26\nFirebaseに興
 味をもつ若手エンジニアが優先的に参加して頂ける枠
 です。\n\n\nスタッフ参加枠\nスタッフ枠を募集します
 。 運営やイベントをサポートしたい方を募集します。
  既にスタッフの人で参加される方も新たにスタッフと
 して参加されたい方もこの枠で登録をお願いします。\
 n\n\n\nスケジュール\n\n\n\n時間\n内容\nスピーカー\n\n\n\n\
 n19:00 ~ 20:00\n開場/受付 （受付は19:20まで）\n\n\n\n19:30 ~ 1
 9:35\nコミュニティ、会場説明\nFJUG\n\n\n19:35 ~ 19:45\nスポ
 ンサートーク\nFiNC Technologies\n\n\n19:45 ~ 19:50\n乾杯・スポ
 ンサートーク\n転職ドラフト\n\n\n19:50 ~ 20:30\nFirebase\nMike
  McDonald\n\n\n20:30 ~ 20:40\nBreak\n-\n\n\n20:40 ~ 20:50\nLT\n-\n\n\n20:
 50 ~ 21:00\nLT\n-\n\n\n21:00 ~ 21:05\nスポンサートーク\nメルカ
 リ\n\n\n21:05 ~ 21:45\nAfter party\n-\n\n\n\nSpeaker\nGoogle\n\nMichael 
  McDonald  @asciimike\n設備\n\nWiFi\n\nアクセス\n株式会社FiNC T
 echnologies オフィス\n東京都千代田区有楽町1-12-1 新有楽
 町ビル7F\nJR 有楽町駅 徒歩1分 (ビックカメラ向かい)\nht
 tps://goo.gl/maps/3AQEf6TAPTk \nGoogle Map\n会場諸注意\n会場内は
 禁煙です。 会場内では無線LANがご利用できます。 イ
 ベントの様子を撮影・録画し、ブログやSNSなどで公開
 することがあります。その際、来場者の姿も公開され
 ることがあることをご了承ください。\n注意事項\n\nナ
 レッジの共有、参加者同士の交流を目的としない参加
 はお断りしております。\n参加目的が不適切だと判断
 される場合、運営側で参加をキャンセルさせていただ
 きます。\n
LOCATION:株式会社 FiNC Technologies 〒100-0006　東京都千代田区
 有楽町1丁目12-1　新有楽町ビル 7F
URL:https://techplay.jp/event/708336?utm_medium=referral&utm_source=ics&utm
 _campaign=ics
END:VEVENT
END:VCALENDAR
