BEGIN:VCALENDAR
VERSION:2.0
PRODID:-//https://techplay.jp//JP
CALSCALE:GREGORIAN
METHOD:PUBLISH
X-WR-CALDESC:2019年 特別回「WEB TOUCH MEETING＋ Adobe XD」
X-WR-CALNAME:2019年 特別回「WEB TOUCH MEETING＋ Adobe XD」
X-WR-TIMEZONE:Asia/Tokyo
BEGIN:VTIMEZONE
TZID:Asia/Tokyo
BEGIN:STANDARD
DTSTART:19700101T000000
TZOFFSETFROM:+0900
TZOFFSETTO:+0900
TZNAME:JST
END:STANDARD
END:VTIMEZONE
BEGIN:VEVENT
UID:708440@techplay.jp
SUMMARY:2019年 特別回「WEB TOUCH MEETING＋ Adobe XD」
DTSTART;TZID=Asia/Tokyo:20190119T173000
DTEND;TZID=Asia/Tokyo:20190119T205000
DTSTAMP:20260419T120645Z
CREATED:20181115T211600Z
DESCRIPTION:イベント詳細はこちら\nhttps://techplay.jp/event/70844
 0?utm_medium=referral&utm_source=ics&utm_campaign=ics\n\n※順番と内
 容は調整中です。変わる可能性があります。\n\nイベン
 ト後に懇親会も予定しています。\nhttps://wtm.connpass.com/e
 vent/110075/\n公式サイト\nWEB TOUCH MEETING\nhttp://www.webtouchmeet
 ing.com\n趣旨\nウェブ周りの技術や知識に関して自分は
 知ってる当たり前のことが他の分野の人にとっては話
 を聞きたいものかもしれません。\nまずはそういうさ
 わりの部分をお互いにしあいましょうという会です。\
 n現在予定している内容\n＜主な内容＞\nWTM100回目の最
 終回で大変盛り上がりましたLT連発を1夜限りで復活。\
 nとにかくたくさんの人の話を聞きつつ、Adobeさんをお
 呼びしXDの最新情報を聞けるというよくわかったよう
 なわからない特別回です。\n＜LTテーマ・注意事項＞\n
 ・LTしゃべりたい人にとにかく出てもらう企画を一夜
 限りで復活。\n・Webやネット周りの話ならなんでもOK(Ad
 obeさん関係なくてもOK)！\n・どんな話をしてもらうか
 は本人に任せます。\n・持ち時間：5分〜7分(人数次第
 で調整さん)\n・WTMと縁がある人もそうでない人も最後
 に一言どうぞ！\nライトニングトーク(一人持ち時間5〜
 10分)\nオープニングアクト\n・『To be an Adobe master』ハイ
 パ・メティア・トランスレータのNyohoさん\n＜グループ
 １＞\n・『Microsoft Azure Logic Appsから始める業務改善』株
 式会社ドリーム・アーツの大杉将輝さん\n・『専門学
 校で始めるAdobe入門から学生へのAdobe製品の販促まで』
 lemonteの佐々木順昭さん\n・『IoTデザインガールに参加
 してる話』KDDIウェブコミュニケーションズの長嶋亜紀
 さん\n・『そのヒアリングシートで大丈夫？はじめの
 一歩が大きな一歩』デザイン事務所Style A+の金政さん\n
 ・『ロゴの重要性とブランディング』EGG DESIGNの山崎 
 寛子さん\n・『Adobe Illustrator とファブ』カンドウコー
 ポレーション/シェアフルの柳谷さん\n＜グループ２＞\
 n・『gulpやめてLaravel Mixはじめた話』ファナフェクト株
 式会社の井上拓さん\n・『VRゲームをいろいろなイベン
 トに出してみた話』トライポットの藤田健一さん\n・
 『Adobe Mixamo で始めるお手軽リギング』こぐるみの中奥
 貴浩さん\n・『古いSEO手法のせいで80位以下だったボロ
 ボロに傷ついたサイトを10位以内まで改善したお話ダ
 イジェスト』\n　所属LEAD Space株式会社/銀ねこアトリエ
  神守 由里子さん\n・『高速でクリエイティブツールが
 使え』株式会社インターロジックの村上圭さん\n・『We
 bブランディングについて～音楽による新たな価値の創
 造～』株式会社MIRAIの西中政和さん\n＜Adobe XDセッショ
 ン＞\nセッション１『Adobe XD超入門！XDを導入すべきメ
 リットと基本機能をご紹介』(30分)\n株式会社MIRAI マス
 ベサチさん\n＜セッション内容＞\nわたしの所属する株
 式会社MIRAIでは、2016年末頃から実際のプロジェクトに
 おいてAdobe XDを導入しております。そこで今回はXDを導
 入するメリットを、実際に案件を重ねて実感したリア
 ルな声とともにお届けします。\nそしてXD使ってみたい
 な、と思っていただけた方には今日から使っていただ
 けるよう、簡単なデモンストレーションで基本機能を
 ご紹介いたします。\n＜マスベさんの紹介＞\n株式会社
 MIRAI所属。\nWebサイト・動画・CI/VI開発といった多様な
 デザインに携わる。\n最近では、ディレクター・ライ
 ター・セミナー講師など、デザインを通じた活躍の場
 が広がっている。\nWebサイト制作においては2016年よりA
 dobe XDを実務導入し、現在までに多くのディレクション
 業務・デザイン業務で活用している。\n講演実績に、
 デジタルハリウッド広島校でのオープンセミナー「育
 児と仕事を両立する！デジタル時代のワーキングマザ
 ー」など。\nセッション２『UI/UXデザインを変えるAdobe 
 XDの誕生から今後の進化まで』(40分)\n＜セッション内
 容＞\nAdobe XDは2017年の正式版リリースから1年が経ち、
 毎月のアップデートで進化を続け、ユーザー数やコミ
 ュニティも確実に増えてきました。\nこのセッション
 では、多くのユーザーに支持されるツールになった理
 由がわかるXDの開発経緯から、今後の進化の方向性に
 ついてお話します。また、作業効率を上げてくれる便
 利なプラグインも紹介していきます。\n＜轟さんの紹
 介＞\nアドビ システムズ 株式会社\nマーケティングマ
 ネージャー\n轟 啓介\n1999年、早稲田大学理工学部を卒
 業後、大手印刷会社に勤務。主にEC分野でJ2EEによるWeb
 アプリ開発に携わるが、Adobe Flexとの衝撃的な出会いを
 機にリッチクライアントの世界へ。\n2008年4月、アドビ
 入社。アドビのWebツール全般のマーケティングを担当
 。その他、Adobe MAX Japanの統括やCreative Station Blogの運営
 、Creative Cloud道場の番組ディレクターも兼任。家電や
 車など、世の中のデザインがヒドいもの全てを憎んで
 いる。 \nタイムスケジュール\n\n\n\n時間\nセッション名
 \n発表者\n\n\n\n\n17:00 - 17:25 (25分)\n準備＆名刺交換\n\n\n\n
 17:25 - 17:40 (5分)\nオープニングアクト\n『To be an Adobe mast
 er』ハイパ・メティア・トランスレータのNyohoさん\n\n\n
 17:30 - 18:15 (45分)\nLTグループ１(転換入れて一人7分×6人)
 \n『Microsoft Azure Logic Appsから始める業務改善』株式会社
 ドリーム・アーツの大杉将輝さん『専門学校で始めるA
 dobe入門から学生へのAdobe製品の販促まで』lemonteの佐々
 木順昭さん『IoTデザインガールに参加してる話』KDDIウ
 ェブコミュニケーションズの長嶋亜紀さん『そのヒア
 リングシートで大丈夫？はじめの一歩が大きな一歩』
 デザイン事務所Style A+の金政さん『ロゴの重要性とブ
 ランディング』EGG DESIGNの山崎 寛子さん『Adobe Illustrator
  とファブ』カンドウコーポレーション/シェアフルの
 柳谷さん\n\n\n18:15 - 18:25 (10分)\n休憩\n\n\n\n18:25 - 19:10 (45
 分)\nLTグループ２(転換入れて一人7分×6人)\n『gulpやめ
 てLaravel Mixはじめた話』ファナフェクト株式会社の井
 上拓さん『VRゲームをいろいろなイベントに出してみ
 た話』トライポットの藤田健一さん『Adobe Mixamo で始め
 るお手軽リギング』こぐるみの中奥貴浩さん『古いSEO
 手法のせいで80位以下だったボロボロに傷ついたサイ
 トを10位以内まで改善したお話ダイジェスト』LEAD Space
 株式会社/銀ねこアトリエ 神守 由里子さん『高速でク
 リエイティブツールが使え』株式会社インターロジッ
 クの村上圭さん『Webブランディングについて～音楽に
 よる新たな価値の創造～』株式会社MIRAIの西中政和さ
 ん\n\n\n19:10 - 19:20 (10分)\n休憩\n\n\n\n19:20 - 19:50 (30分)\nAdob
 e XDセッション\n『Adobe XD超入門！XDを導入すべきメリッ
 トと基本機能をご紹介』株式会社MIRAI マスベサチさん\
 n\n\n19:50 - 20:30 (40分)\nAdobe XDセッション\n『UI/UXデザイン
 を変えるAdobe XDの誕生から今後の進化まで』アドビ シ
 ステムズ 株式会社 轟啓介さん\n\n\n20:30 - 20:40 (10分)\n片
 付け\n\n\n\n20:50\n退室\n\n\n\n21:00-\n懇親会（事前予約必要
 ）\n\n\n\n\n協力：HiBiS UI/UX研究部会(一般社団法人広島県
 情報産業協会 特別委員会)\nhttps://www.hibis.jp/
LOCATION:合人社ウェンディひと・まちプラザ 研修室A＋B 
 広島市中区袋町６−３６
URL:https://techplay.jp/event/708440?utm_medium=referral&utm_source=ics&utm
 _campaign=ics
END:VEVENT
END:VCALENDAR
