BEGIN:VCALENDAR
VERSION:2.0
PRODID:-//https://techplay.jp//JP
CALSCALE:GREGORIAN
METHOD:PUBLISH
X-WR-CALDESC:C＋＋マスター講座（全6回）
X-WR-CALNAME:C＋＋マスター講座（全6回）
X-WR-TIMEZONE:Asia/Tokyo
BEGIN:VTIMEZONE
TZID:Asia/Tokyo
BEGIN:STANDARD
DTSTART:19700101T000000
TZOFFSETFROM:+0900
TZOFFSETTO:+0900
TZNAME:JST
END:STANDARD
END:VTIMEZONE
BEGIN:VEVENT
UID:708612@techplay.jp
SUMMARY:C＋＋マスター講座（全6回）
DTSTART;TZID=Asia/Tokyo:20181127T190000
DTEND;TZID=Asia/Tokyo:20181127T220000
DTSTAMP:20260420T035100Z
CREATED:20181117T130633Z
DESCRIPTION:イベント詳細はこちら\nhttps://techplay.jp/event/70861
 2?utm_medium=referral&utm_source=ics&utm_campaign=ics\n\nC++マスター
 講座（全6回）\n\n日程\n\n講座\n\n【1日目】11月27日(火)
 　19:00~22:00\n【2日目】12月04日(火)　19:00~22:00\n【3日目】
 12月11日(火)　19:00~22:00\n【4日目】12月18日(火)　19:00~22:00
 \n【5日目】12月25日(火)　19:00~22:00\n【6日目】01月08日(火
 )　19:00~22:00\n\n※講座の動画を復習用に撮ります。もし
 参加できない日程がございましても、後ほど共有する
 ようにいたしますので、ご安心ください。\n※1/1の週
 は元旦につき休みになります\n\n演習回　\n\n【1回目】1
 2月08日(土)　14:00~17:00\n【2回目】12月22日(土)　19:00~22:00\
 n【3回目】01月07日(月)　19:00~22:00\n\n講義とは別に以上
 の演習回を設けております。\n質問し放題ですので、
 ぜひご参加ください。\n\n概要\n\n「プログラミング言
 語C++を体系的に理解して、実務に活かしたい」という
 方を対象に本講座を開講いたします！講座内では、基
 本的な文法から実用レベルのコードの書き方までを取
 り扱います。演習を交えてハンズオン形式で行います
 ので、PCの持参が必要です。\nまた、期間を通してご自
 分で設定した一つの課題について取り組んで頂きます
 。C++を用いた実際の問題解決するプログラムをゼロか
 ら作り、最終日に発表します。\n\nC＋＋は、強力なラ
 イブラリを含む多機能を備えたC言語の上位互換言語で
 す。その演算速度と強力さゆえ長年人気言語ランキン
 グのトップクラスに君臨し続けていますが、その強力
 さと引き換えに、C＋＋はトップレベルに難しいと言わ
 れています。当講座は３つのアプローチでC＋＋をマス
 ターして頂けます。\n\n１．初心者にわかりやすく\n２
 ．手を動かして学習\n３．実用上優先度の高いものを
 扱う\n\n希望者には、受講後に試験問題を解いていただ
 き、一定の点数を超えることで本講座を修了したとい
 う証明書を当社で発行いたします。\n\n講座を通じて得
 られること\n\n\nC＋＋基本から実用レベルの文法の習得
 \nオブジェクト指向の理論\n良いコードの書き方と速い
 コードの書き方\nIT企業の採用試験問題の演習\n全期間
 を通して一つのプロジェクトを開発\n\n\nカリキュラム\
 n\n【第一回】C++基礎１\n\n11月27日(火)　19:00~22:00\n目的
 ：C＋＋の特徴、コンパイルと実行及び基本文法の習得
 \n\n\n（C++インストール）\nC++導入\nコンパイルと実行\n
 標準入出力\n変数と型\n演算子\n配列とvector\nアドレス
 とポインタ\n分岐とループ\n\n\n自宅課題：\n\n作るプロ
 グラムを決める\n演習問題\n\n\n【第二回】C++基礎２\n\n1
 2月  4日(火)　19:00~22:00\n目的：C++の常用文法の習得\n\n\n
 関数\n分岐とループ応用\n関数応用（コピーと参照、再
 帰）\nSTL\n\n\n自宅課題：\n\nプロダクトの大枠を考える\
 n演習問題\n\n\n【第三回】C++クラス１\n\n12月11日(火)　19
 :00~22:00\n目的：オブジェクト指向とC++におけるクラス
 の概念\n\n\nクラスとは\nオブジェクトとは\nクラスを使
 う関数\nメンバ変数とメンバ関数\nコンストラクタとデ
 ストラクタ\nprivateとpublic\nカプセル化\n\n\n自宅課題：\n
 \nプロダクトの大枠を作る\n\n\n【第四回】C++基礎３\n\n1
 2月18日(火)　19:00~22:00\n目的：C++の実用的な中上級文法
 、手法及びテクニックの習得\n\n\nファイル入出力\nstruc
 t、union、enum\nヘッダとソースファイル\n修飾子\nオーバ
 ーロード\n型のキャスト\nSTL応用\nラムダ関数\n\n\n自宅
 課題：\n\nプロダクト作成\n演習\n\n\n【第五回】C++クラ
 ス２\n\n12月25日(火)　19:00~22:00\n目的：C++のオブジェク
 ト指向をマスターする\n\n\n継承\n関数オブジェクト\n仮
 想関数\nアップキャスト\nプロジェクト演習\n\n\n自宅課
 題：\n\nプロダクト作成\n\n\n【第六回】C++応用演習\n\n1
 月8日(火)　19:00~22:00\n目的：IT企業採用問題のコーディ
 ング演習とプロダクト発表\n\n\n問題演習\nプロダクト
 発表\n\n\n※ 当日予告なく時間配分・内容が変更になる
 可能性がございます。\n\nこんな人にオススメ\n\n\nはじ
 めてプログラミングを勉強する方\n高速かつ応用の効
 くプログラミング言語を習得したい方\nC++の文法本を
 読み解くのが効率悪いと感じる方\nエンジニアの方、
 エンジニアを目指される方\n\n\n受講するにあたっての
 前提基礎知識\n\n必要ありません。内容はかなり充実し
 ていますが、プログラミング初心者の方でもご理解い
 ただけるように丁寧に進めながら、演習や宿題を十分
 に用意しております。\n\n事前準備\n\nC++コンパイル環
 境のインストールをお願いいたします。\n環境の構築
 方法は以下のリンクに簡潔に書いてあります。所要時
 間はどちらも15分程度になります。\n\n\nWindowsにC++をイ
 ンストールする方法\nhttps://to-kei.net/cpp/cpp-install-windows/\
 nMacにC++をインストールする方法\nhttps://to-kei.net/cpp/cpp-i
 nstall-mac/\n\n\nご不明点等あれば、可能な範囲で対応い
 たしますので、info@to-kei.netまでご連絡ください。\n環
 境構築でお困りの方は初日30分前からいらして頂けれ
 ば対応致します。\n\n講師\n\n吉田 拓真\n東京大学大学
 院にてシステム開発の研究に従事。C++を用いて、ライ
 ブラリを使わずに独自に深層強化学習を実装したこと
 をきっかけに機械学習に携わっている。現在はリクル
 ートテクノロジーズでAIを利用したデータ分析に従事
 している。\n\n鈴木香一\n東京理科大学大学院修士課程 
 C++によるゲーム作成、Androidアプリ開発を行いマーケッ
 トに公開している。純粋数学に興味があり、現在有限
 群論に関する研究を行っている。数学の研究にはプロ
 グラミングによる計算を用いている。\n\n\n持ち物\n\n・
 C++のコンパイル環境をインストール済みのPC(windows Mac)\
 n\n※講座では「VSCode」を使います。同じ実行環境で受
 講したい方は、インストールをお勧めします。\n\n参加
 費\n\n前払い\n45000円\n\n※やむを得ずキャンセルされる
 場合は、開催初日の7日前までのご連絡に限り、払い戻
 し手数料を差し引いた金額を払い戻し致します。以降
 は払い戻しをできませんのでご注意ください。\n\n領収
 書について\n\n決済処理後にPaypalから送付されるメール
 内容、またはPaypalの取引履歴から該当項目を確認の上
 、「詳細」をご覧ください。それらが領収書の代わり
 となります。また、クレジットカード会社発行の利用
 明細書も領収書としてご利用いただけます。（当社よ
 り重複しての領収書発行は行えません)\n\n受付・入場
 時間\n\n開始の15分前から\n\n※なるべく5分前までにお
 入りください。\n※途中参加も可能です。\n\nお問い合
 わせ\n\nイベントに関するお問い合わせは info@to-kei.net
 \nまでご連絡ください。\n\n講座の詳細に関する質問な
 ども受け付けております。\n\n注意事項\n\n\nリクルーテ
 ィング、勧誘、採用活動など、目的に沿わない行為に
 つきまして、主催者が相応しくないと判断した場合は
 即刻退出処分とします。全員が気持ちよく過ごすこと
 が出来るよう、ご協力をお願い致します。\n講座内で
 扱うコンテンツは全て「全人類がわかる統計学」に帰
 属しています。複製はご遠慮ください。\n個人ブログ
 への講義コンテンツの掲載はご遠慮ください。\n\n\n全
 人類がわかる統計学とは\n\n統計学の学習サイト、全人
 類がわかる統計学を運営、管理している団体です。統
 計学とその関連分野について、出来るだけわかりやす
 く多くの人々に届けるということを目指して活動して
 います。\n
LOCATION:秋葉原徒歩5分 台東区台東１丁目11番4号 誠心Oビ
 ル 3F
URL:https://techplay.jp/event/708612?utm_medium=referral&utm_source=ics&utm
 _campaign=ics
END:VEVENT
END:VCALENDAR
