BEGIN:VCALENDAR
VERSION:2.0
PRODID:-//https://techplay.jp//JP
CALSCALE:GREGORIAN
METHOD:PUBLISH
X-WR-CALDESC:Baseball Play Study 2018 冬 (BPStudy#136)
X-WR-CALNAME:Baseball Play Study 2018 冬 (BPStudy#136)
X-WR-TIMEZONE:Asia/Tokyo
BEGIN:VTIMEZONE
TZID:Asia/Tokyo
BEGIN:STANDARD
DTSTART:19700101T000000
TZOFFSETFROM:+0900
TZOFFSETTO:+0900
TZNAME:JST
END:STANDARD
END:VTIMEZONE
BEGIN:VEVENT
UID:708801@techplay.jp
SUMMARY:Baseball Play Study 2018 冬 (BPStudy#136)
DTSTART;TZID=Asia/Tokyo:20181212T190000
DTEND;TZID=Asia/Tokyo:20181212T210000
DTSTAMP:20260420T223916Z
CREATED:20181119T061415Z
DESCRIPTION:イベント詳細はこちら\nhttps://techplay.jp/event/70880
 1?utm_medium=referral&utm_source=ics&utm_campaign=ics\n\nBaseball Play St
 udy 2018 冬 NPB振り返りスペシャル\n野球シーズンも終わ
 り、野球成分が不足してきている頃ではないでしょう
 か。\n今回は、18人の野球好きたちが登板するマシンガ
 ン継投LTを企画しました。\n年の瀬に野球トークで大い
 に盛り上がりましょう。\n野球懇親会あります。\n懇親
 会も野球トークオンリーで毎回盛り上がります。是非
 ともご参加ください。\nオープニング\n(18:52〜19:00)\n第
 １部 2018年シーズン振り返り 大LT大会\n「スタジアムを
 雑誌に例えたら？」野球場の稼ぎ方を分析する\n(19:00
 〜19:06)\n最所あさみ （Twitter: @qzqrnln）\nスタジアムやド
 ームには広告が所狭しと並んでいますが、これって雑
 誌に例えると純広告だよな〜と思ったところから端を
 発した今回の研究テーマ。\n球場価値を最大化し、稼
 ぐための戦略を考えます。\n自己紹介\nホークス生まれ
 ヤクルト育ち、守備がうまいやつはだいたい推しメン
 。ホークス福田の話をするときだけアホになります。
 将来の夢は菅野の半生記を出版すること。\n猛虎戦士
 が専用応援歌を貰うためのTips\n(19:08〜19:14)\nあわな （T
 witter: @a_w_a_n_a）\n日本野球の名物といえば鳴り物応援
 、そして応援歌。自分専用の応援歌がある選手だって
 います。\nこの専用応援歌がどうやったら貰えるのか
 、阪神の事例で調査します！\n2019年シーズン、専用応
 援歌を獲得できる猛虎戦士は誰だ！\n自己紹介\nやきう
 が好きすぎるインフラエンジニア。\n兵庫県出身、物
 心ついたころから阪神ファン。上本博紀さん残留あり
 がとうございます！！！\n数字から読む左右病の罹患
 率と対処法\n(19:16〜19:22)\nささきじゅん （Twitter:  @dankic
 hi ）\n中二病とともにこじらせると取り返しのつかな
 いと言われる左右病。\nただ現実にそのような病気が
 あるのか疑問視されている声もあります。\n左右病の
 定義から具体的な症状まで数字から検証してみます。\
 n自己紹介\nささきじゅん＠dankichi ドラおた（ドラゴン
 ズおたく）なWebエンジニア。\nスピード熱いぜ与田剛
 。neoドラゴンズは（今年こそ）期待できそうです。\n
 地方球場って楽しいよね！～NPB地方球場ゲームのスス
 メ～\n(19:24〜19:30)\nぴちゃー （Twitter: @S_mizusashi）\n昨今
 、減少しつつあるNPB地方球場ゲームについて、斜め上
 からの視点で魅力を伝えていきます！\n自己紹介\n野球
 のことを語ってよいと聞いて、ITとかクラウドとかよ
 く分からないのに門戸を叩いてしまった無謀者。\nHNの
 由来は椎野茂の実況から。MAZDA Zoom-Zoomスタジアムを好
 まないカープファン。\n現地に居てもたまに試合を見
 ていなかったり。\n主婦がPythonでカピバラ判定機を作
 ってみた\n(19:32〜19:38)\ntomoko_and （Twitter: @tomoko_and）\nカ
 ープの今村選手、一岡選手、大瀬良選手は3人の顔が似
 ていること、そして全体的にカピバラに似ていること
 は一部のファンの間で有名です。Pythonで3人の画像判定
 をするプログラムをノンプログラマーの主婦が作って
 みた話です。ご期待下さい！\n自己紹介\n夫の影響でカ
 ープファンになる。入社したら会社のSlackでカープChann
 elを作るのが趣味。昨年からBaseball Play Studyに参加し、
 機械学習のすごさに衝撃を受ける。ノンプログラマで
 あるが今回の登板でPythonに挑戦中。\nテキストマイニ
 ングによる応援歌の分析\n(19:40〜19:46)\n長谷場 潤也（Tw
 itter:  @7pairs ）\n球場の空気を変え、試合の展開を左右
 することすらあるファンの声援。\nその中心である応
 援歌の歌詞を分析し、先日のドラフトで入団が決まっ
 たルーキーたちの応援歌の自動生成を試みます。\n自
 己紹介\nPythonとJavaとらいにょんをこよなく愛する、Andr
 oidエンジニアのようなWebエンジニアのような何か。ち
 な猫。\nシチュエーションから探すプロ野球\n(19:48〜19:
 54)\n内野宏俊（Twitter:  @ucn_hiro ）\n試合中の特定のシチ
 ュエーション(例: 5回裏2アウト1\,2塁)を入力すると、そ
 のシチュエーションが存在した試合を検索できるWebア
 プリを作成しました。\n作成経緯とともにアプリを紹
 介します！\n自己紹介\n関西在住の見習いエンジニア。
 野球、将棋、筋トレ好き。\n野球のウェアラブルデバ
 イスを使ってみた\n(19:56〜20:00)\n法林浩之（Twitter:  @hour
 in ）\nプロ野球の試合情報入手や応援用に作られたウ
 ェアラブルデバイス「funband」(ファンバンド)をたまた
 ま手に入れたので1シーズン使ってみました。\n使用感
 などをお話しします。\n自己紹介\n2008年にFA宣言しフリ
 ーランスエンジニアとして活動しながら、日本UNIXユー
 ザ会で多彩なITイベントを企画・運営している。\n関西
 人の阪神ファンだが本業はプロレスファン。\n2018MLB メ
 ジャーリーガーが空振りする大谷翔平のボールの正体\
 n(20:02〜20:08)\n川上貴傳（Twitter:  @ bafun_uni_23 ）\n2018MLB 
 において、大谷翔平の投球結果から空振りを奪ったボ
 ールとそうでないボールとの違いを投球の「質」から
 分析した結果を発表します。\n自己紹介\n普段は大阪在
 住、時々新宿の野球好きエンジニア。\n贔屓チームは
 贔屓選手の在籍数によるので結構流動的、最近はDeNAと
 広島が好み。\n実家がそろばん塾なので暗算が得意。
 将棋も指します。\nホームランでしか点が入らないル
 ールなら優勝するのDeNA説\n(20:10〜20:16)\n難波大輔（Twitt
 er:  @ Dan_Namba ）\nもし「ホームラン以外は得点とみなさ
 ない」というルールが存在した場合、今シーズンの結
 果がどうなるかをシミュレートしました。\n過程でみ
 えてきた面白要素に加えて、シミュレーションのプロ
 セスや苦労したポイントも簡単に紹介します。\n初LTな
 ので暖かく見守って下さい！\n自己紹介\nラミレスが監
 督就任した頃からの古参DeNAファンです。\n野球経験は
 小学校の頃に3ヶ月と社会人草野球2試合。\n普段はITの
 会社で、事業企画やってます。\n野球の事を話せる友
 だちがいないので、是非仲良くなって下さい。（Twitter
 始めました。）\n球道者、筒香嘉智の魅力\n(20:18〜20:24)
 \n天明優太\n2015年よりベイスターズのキャプテンを務
 める筒香嘉智。\nスーパールーキーとして鮮烈なデビ
 ューを飾った1年目から、順風満帆とはいかなかった時
 代を経て、WBC日本代表の4番に至るまでの日々を振り返
 り、彼の球道者としての魅力をお伝えします。\n自己
 紹介\n若手でポジることが日課。ちなDe。2003年～2011年
 まで、ほぼプロ野球の記憶が欠落している。\n職人好
 きで、最近のブームは宮崎敏郎のライト前ヒット。\nBe
 st Hit NPB ~ 登場曲アーティストヒットチャート！\n(20:31
 〜20:37)\n名前 〜エピソードⅢ\n(20:26〜20:32)\n高崎 健太
 郎（Twitter:  @ ken_takasaki ）\n過去、「高さ危険太郎」、
 「健大高崎」と「名前」に関する発表を過去に2 回し
 てきました。\n世の中、三冠王、トリプルスリーや、
 スターウォーズも 3部作、ドラクエも 3つでロト伝説が
 終わり、匠Method の価値デザインモデルのコンセプトも
  3 つと、3 つ揃うといい感じです。\nとなると、この名
 前シリーズの発表もエピソードⅢで完結させねばと思
 ったのですが、、、流石にネタが無い。\nこの状況の
 中、発表当日までに仕上げられるのか！？とドキドキ
 、ハラハラの展開間違いなしです！（<- 自分が）\n自
 己紹介\n株式会社アクティア COO。 匠塾 塾長等、各種
 コミュニティやってます。\n弊社自社サービス 営業支
 援サービス かけるくん のロゴマークカラーがオレン
 ジなのは、社長と僕の推し球団の影響。\n推し球団の 5
  年 30 億という大盤振る舞いなお金は、新聞が衰退し
 ている中どこから出てくるのだろうというのが目下気
 になることです。\n気軽に手に入る成績データで野球
 分析をしてみた 〜山田哲人の復活とフライボール革命
 を添えて〜\n(20:34〜20:40)\nくまぴ（Twitter:  @ kumappp27 ）\n
 昨今、MLBではスタットキャストなどによってえたデー
 タを公開することにより、データ好きが気軽に野球分
 析を行えるようになりました。一方日本では、そのよ
 うなデータは一般の方ではアクセスできません。\n今
 回は、「遊ゴ」「見三振」ような誰でも見れる結果、
 成績のデータからなんとか野球分析をしてみたいと思
 います。\n分析テーマは、「山田哲人の復活の理由」
 と、「日本でもフライボール革命は起きているのか？
 」です。\n自己紹介\n今年パリーグTVの動画をみるとト
 ップにロゴが出てくる会社所属のWebエンジニア。Python
 とJavaが好きです。\nちなヤク。古田と誕生日が同じな
 のと、それを知ったタイミングでPMになってからのフ
 ァン。\n来年はぜひとも、村上宗隆に注目あれ。\n炎上
 ドラゴンズ！与田剛新監督に2019年への提言\n(20:42〜20:4
 8)\n佐藤治夫（Twitter:  @haru860 ）\n6年連続Bクラスに沈ん
 だ中日ドラゴンズ。\nなぜ低迷しているのかを経営者
 の視点から分析し、2019年シーズンに向け僭越ながら提
 言できればとおもいます。\n自己紹介\n中日ドラゴンズ
 が優勝した年に生まれ、小松辰雄に憧れ、中日ファン
 になる。\n2006年、中日が優勝した年にビープラウドを
 設立する。\n「人生は野球そのものだ」をモットーに
 日々生活し、仕事においては尊敬する落合博満の野球
 論を経営に注入している。\nBaseball Play Study主催。\n第
 ２部 公募LT大会\n(20:50〜20:56)\nページ公開後の枠を１枠
 用意しました。奮ってご登板ください！\n当日の飛び
 込み参加もお待ちしています。\n※登板いただいた方
 は無料です。\n過去の開催\n\nBPStudy#127：Baseball Play Study 
 2018 春 NPB開幕スペシャル\nBPStudy#124：Baseball Play Study 2017
  冬 野球振返りスペシャル\nBPStudy#115：Baseball Play Study 20
 17 春\nBPStudy#112：Baseball Play Study 2016冬 プロ野球シーズ
 ン開幕直前スペシャル\nBPStudy#103：Baseball Play Study 2016 
 プロ野球シーズン開幕直前スペシャル\nBPStudy#100：Baseba
 ll Play Study 2015 プロ野球ふりかえりスペシャル\nBPStudy#91
 ：Baseball Play Study 2015 NPB開幕直前スペシャル\nBPStudy#79：
 Baseball Play Study 2014\n\nメディア掲載\nマイナビに2015年の
 開催について掲載いただきました。\nWEBエンジニアた
 ちが勉強会で野球を語る!? 　IT業界のTEDを目指す「BPStu
 dy」とは\n会場\n※※注意※※ 場所はDRT（東京八重洲）
 です。\n懇親会\n野球懇親会あります。\n懇親会も野球
 トークオンリーで毎回盛り上がります。是非ともご参
 加ください。\nマッサージ枠について\nゴッドハンドの
 女性マッサージ師が、勉強会に参加しているあなたの
 頭、首、肩をほぐします。話を聞きながら、マッサー
 ジを受けるのはいかがでしょうか（一石二鳥！）。\n1
 枠20分3000円（参加費1000円は別）です。２枠以上（40分
 以上)を申し込まれる方は参加時のコメント欄に記入を
 お願いします。\n参加枠で５人分を用意していますが
 、枠がすべてなくなった段階（20分×５=100分）で受付
 終了となりますのでご了承ください。\nまた、１９時
 以前にお越しいただければ、先にマッサージを受ける
 ことも可能です。参加時のコメント欄に記載をお願い
 します。\n※マッサージをしていただく方に、会場に
 お越しいただいているので、当日のキャンセルは避け
 てください。※
LOCATION:DIAGONAL RUN TOKYO 東京都中央区八重洲2丁目8-7(福岡ビ
 ル4F)
URL:https://techplay.jp/event/708801?utm_medium=referral&utm_source=ics&utm
 _campaign=ics
END:VEVENT
END:VCALENDAR
