BEGIN:VCALENDAR
VERSION:2.0
PRODID:-//https://techplay.jp//JP
CALSCALE:GREGORIAN
METHOD:PUBLISH
X-WR-CALDESC:12/6（木）「ＩＴで社会的養護者を支援するプ
 ロジェクト」説明会【参加費無料】
X-WR-CALNAME:12/6（木）「ＩＴで社会的養護者を支援するプ
 ロジェクト」説明会【参加費無料】
X-WR-TIMEZONE:Asia/Tokyo
BEGIN:VTIMEZONE
TZID:Asia/Tokyo
BEGIN:STANDARD
DTSTART:19700101T000000
TZOFFSETFROM:+0900
TZOFFSETTO:+0900
TZNAME:JST
END:STANDARD
END:VTIMEZONE
BEGIN:VEVENT
UID:708845@techplay.jp
SUMMARY:12/6（木）「ＩＴで社会的養護者を支援するプロジ
 ェクト」説明会【参加費無料】
DTSTART;TZID=Asia/Tokyo:20181206T150000
DTEND;TZID=Asia/Tokyo:20181206T170000
DTSTAMP:20260421T182116Z
CREATED:20181119T062043Z
DESCRIPTION:イベント詳細はこちら\nhttps://techplay.jp/event/70884
 5?utm_medium=referral&utm_source=ics&utm_campaign=ics\n\n一般社団法
 人グローバル･ベンチャー協会\nならびにＩＴサービ
 ス企業の株式会社うえじま企画は、「ＩＴを活用して
 社会に貢献する」という経営理念のもと共催で、ＩＴ
 エンジニアの育成と高度ＩＴ人財の成長を支援するた
 め、「ITビジネス大学」を開校致しております。\n\nIT
 ビジネス大学では、ＩＴエンジニア育成研修（３ヶ月
 ）と、高度ＩＴ人財を育成する研修(ＡＩ・ブロックチ
 ェーン・クラウド等)を実施しております。\n\nまた、
 社会的養護の必要な孤児ならびに成人未就労者には無
 料で、研修機会を提供し、就転職の支援を実施致して
 おります。\n\nＩＴサービス企業の㈱うえじま企画は、
 既にＩＴビジネススクールとして、２０年以上継続し
 たＩＴ教育研修を実施しており、５０００名以上の方
 が受講し、ＩＴ業界への就転職を実現しております。\
 n\n是非、「ＩＴで社会的養護者を支援するプロジェク
 ト」説明会に\nご参加ください。\n\n背景\n\n平成２９年
 １２月厚生労働省「社会的養護の現状について（参考
 資料）」によると、社会的養護の必要性がある孤児は
 、「高校進学率は高くなったが、高校卒業後の進路は
 、一般に比べ進学率は低く、就職が多くなっている」
 と報告しております。 平成２７年度における高等学校
 等卒業後の進路データでは児童養護施設児[１\,８１８
 人、大学進学２２６人（１２．４％）・専修学校等２
 １１人（１１％）]となっております。\n\n一方、全高
 卒者[１\,１３７千人、大学進学５９３千人（５２．２
 ％）・専修学校等２４９千人（２１．９％）]となって
 おります。\n\n上記データから、児童養護施設児の高校
 卒業後の進学率が低い状況が、確認できます。\n\nまた
 、文部科学省ＨＰ「家計負担の現状と教育投資の水準
 学歴別生涯賃金の比較」からは、高卒者（男性、約２
 億５千万円）と大卒者（男性、約３億）の生涯賃金の
 差が５\,０００万以上あるのが報告されております。\n
 \n高校卒業後の進学率が低い児童養護施設児には、厳
 しい現状となっております。\n当協会では、ＩＴで社
 会的養護者を支援する活動を推進しております。\n\nタ
 イムスケジュール\n\n１４：４５～　受付開始\n\n１５
 ：００～　「ＩＴで社会的養護者を支援するプロジェ
 クト」説明会\n\n　　　　　　　・一般社団法人グロー
 バルベンチャー協会のご紹介\n\n　　　　　　　・ＩＴ
 サービス企業　㈱うえじま企画のご紹介\n\n　　　　　
 　　・社会的養護者の現状と課題について\n\n　　　　
 　　　・ＩＴビジネス大学のご紹介\n\n　　　　　　　
 ・ＩＴ業界とＩＴエンジニアの仕事のご説明\n\n　　　
 　　　　・プロジェクトのご説明\n\n　　　　　　　　
 （受講費無料で、昼食を無料でご提供致します）\n\n１
 ６：００～　個別相談会\n\n※ 当日予告なく時間配分
 ・内容が変更になる可能性がございます。\n\n参加対象
 \n\n■IT企業の採用担当者様\n\n■概ね30歳以下で、下記
 のいずれかにあてはまる方\n\n　・ＩＴ業界への就転職
 を目指す方\n\n　・社会的養護の必要な孤児ならびに成
 人未就労者の方でＩＴエンジニアを目指す方\n\n　・社
 会的養護者を支援している団体、個人の方\n\n運営\n\n
 一般社団法人グローバル･ベンチャー協会\n\n株式会社
 うえじま企画　ＩＴビジネス大学\n\n代表者　略歴\n\n
 注意事項\n\n・イベント当日の様子は後日なんらかの媒
 体に掲載させていただく場合がございます。\n\n・勧誘
 などの目的に沿わない行為につきまして、主催者が相
 応しくないと判断した場合は退場して頂くことが御座
 います。全員が気持ちよく過ごすことが出来るよう、
 ご協力をお願い致します。\n\n・参加希望者が５名様以
 上集まらない場合はイベントの開催を見送らせて頂き
 ますので、ご了承ください。\n\n(他サイトでも募集し
 ております。本サイトが５名様に満たない場合でも、
 実施致します)\n
LOCATION:田端オフィス５F 東京都北区東田端１－１３－１
 ０　ツインビル田端A棟 
URL:https://techplay.jp/event/708845?utm_medium=referral&utm_source=ics&utm
 _campaign=ics
END:VEVENT
END:VCALENDAR
