BEGIN:VCALENDAR
VERSION:2.0
PRODID:-//https://techplay.jp//JP
CALSCALE:GREGORIAN
METHOD:PUBLISH
X-WR-CALDESC:3D クリエイター座談会 Unity Japan ✕ ピクシブ
X-WR-CALNAME:3D クリエイター座談会 Unity Japan ✕ ピクシブ
X-WR-TIMEZONE:Asia/Tokyo
BEGIN:VTIMEZONE
TZID:Asia/Tokyo
BEGIN:STANDARD
DTSTART:19700101T000000
TZOFFSETFROM:+0900
TZOFFSETTO:+0900
TZNAME:JST
END:STANDARD
END:VTIMEZONE
BEGIN:VEVENT
UID:708875@techplay.jp
SUMMARY:3D クリエイター座談会 Unity Japan ✕ ピクシブ
DTSTART;TZID=Asia/Tokyo:20181130T190000
DTEND;TZID=Asia/Tokyo:20181130T223000
DTSTAMP:20260420T110852Z
CREATED:20181119T141300Z
DESCRIPTION:イベント詳細はこちら\nhttps://techplay.jp/event/70887
 5?utm_medium=referral&utm_source=ics&utm_campaign=ics\n\nイベント内
 容\nVRChat、VTuber、VR即売会、VRM…ここ１年の間で、VRを
 中心とした3DCGを取り巻くシーンは激変し、さまざまな
 ムーブメントが発生しました。\nそんな中、3Dグラフィ
 ックの制作に携わる方や、3Dを活用したソフトウェア
 を開発する方々のまわりで、これまで存在しなかった
 ような新しい経済圏が産まれつつあります。\nそこで
 、本イベントでは、VR即売会に携わる3Dモデラーや、VRo
 id・VRM対応ゲーム等の開発者、バーチャルアーティス
 ト、BOOTHやUnityのアセットストアの担当者などが一同に
 介し、現在産まれつつある新しい「マネタイズ」の話
 や、今後のVRや3DCGのシーンがどうなっていくかなどに
 ついて、座談会を開催することといたしました！\n「
 面白かったね」で終わらない、ディープで役立つ情報
 をたくさんお話する予定です！\nYouTube配信します！\n
 今回の「3Dクリエイター座談会」を、pixiv公式YouTubeア
 カウントにてライブ配信いたします。\nUnity・BOOTH・VRM
 ・VRoidなどの単語にピンと来る方で、当日会場に来れ
 ない…という方は、ぜひこちらでご参加ください！\n
 コメントも受け付ける予定です。\nhttps://www.youtube.com/wa
 tch?v=4QG9X6tbG4U\n福岡でライブビューイングも実施！\nピ
 クシブ福岡オフィス (キャナルシティ博多横) にて、会
 場を開放して今回のイベントのライブビューイングを
 行います！\n是非、お気軽にお越しください！\nお申し
 込みはこちらから　https://connpass.com/event/110875/\n登壇者
 紹介\n司会：ユニティ・テクノロジーズ・ジャパン合
 同会社 常名隆司（Unity Asset Store 日本担当者）\n\n2014年
 からアセットストア担当としてUnity Technologies Japan入社
 。現在はアセットやアセット作家さんを増やすための
 活動、アセットを活用するために必要な情報の発信者
 を増やす活動などを行っている。\nまた、個人活動でVT
 uberハッカソン全国ツアー2018の主催・企画・運営を行
 っている。\nバーチャル登壇者：鴨見カモミ（バーチ
 ャルアーティスト）\n\n2018年6-7月に活動開始したバー
 チャル世界の絵描き。 YouTubeやテレビなどマルチな媒
 体で活躍中。 3Dの体の作成や撮影用のセットアップは
 すべて本人が準備している。 目標は「クリエイティブ
 の新境地を開拓すること」。\n登壇者：NABY（個人ゲー
 ム開発者）\n\nVRM対応オンラインコミュニケーションゲ
 ーム「Vワールド」、同人PCゲームソフト「けものフレ
 ンズRPG」の個人開発を行っている。\n登壇者：ユニテ
 ィ・テクノロジーズ・ジャパン合同会社 コミュニティ
 サポートデザイナー 京野 光平 a.k.a ntny\n\nUnity Technologie
 s Japanでは主にユニティちゃんのアートを担当。自著と
 して「ローポリスーパーテクニック」を執筆。\nデザ
 イナーとして（株）FlightUNITで9年間コンシューマー向
 けゲームの製作に携わり、主にキャラクターのデザイ
 ンやモデリングを担当。ゲーム内ムービー等の製作も
 手がけており、デザインからモデリング、アニメーシ
 ョンまで幅広くこなす。\n登壇者：ピクシブ株式会社 
 清水智雄（VRoid 開発責任者）\n\n絵を描くように人型キ
 ャラクターの3Dモデルを作成できる「VRoid Studio」のプ
 ロジェクトマネージャー。「BOOTH」「pixivFACTORY」「pixiv
  Sketch」等、さまざまな新規サービスを立ち上げてきた
 。\n登壇者：ピクシブ株式会社 重松裕三（BOOTH 開発責
 任者）\n\nクリエイター向けCtoCマーケットプレイス「BO
 OTH」、イラスト1枚でグッズが作成できる「pixivFACTORY」
 、イベント向けスマホ決済アプリ「pixiv PAY」のプロダ
 クトマネージャー。\nこんな方におすすめです\n\n3Dモ
 デルの創作をされている方\nUnity Asset StoreやBOOTHなどで3
 Dモデルを販売している方\n3Dモデルを使用したゲーム
 を作成している方\n\nイベント詳細\nタイムテーブル\n20
 18年11月30日（金）19:30〜22:30\n\n19:00　開場・受付開始\n1
 9:30　開演・座談会開始\n21:00　座談会終了\n21:15　懇親
 会開始・挨拶＆乾杯\n22:15　閉会\n22:30　閉場\n\n持ち物\
 n\n名刺\n参加費用500円\n以上ご持参ください。\n\n懇親
 会でより活発な交流を！\nソフトドリンクやアルコー
 ル、軽食をご用意してお待ちしております。\n懇親会
 からのご参加でも構いません。是非、お気軽にお越し
 ください！\n会場・入館方法について\n当日は会場に直
 接お越しください。\nビルのセキュリティ上、20:30以降
 は従業員以外の入場ができなくなります。 \nご来場が2
 0:30以降になる場合は、下記お問い合せ先に事前にご連
 絡いただけますと幸いです。\n問い合わせ先\nご不明な
 点がございましたら、mary@pixiv.comまでメールにてお問
 い合わせください。\n諸注意\n会場は社員の業務スペー
 スと一体化しております。業務スペースの撮影と立ち
 入りはご遠慮ください。\n主催\nユニティ・テクノロジ
 ーズ・ジャパン合同会社\nピクシブ株式会社
LOCATION:ピクシブ株式会社 渋谷区千駄ヶ谷4-23-5 JPR千駄ヶ
 谷ビル2F
URL:https://techplay.jp/event/708875?utm_medium=referral&utm_source=ics&utm
 _campaign=ics
END:VEVENT
END:VCALENDAR
