BEGIN:VCALENDAR
VERSION:2.0
PRODID:-//https://techplay.jp//JP
CALSCALE:GREGORIAN
METHOD:PUBLISH
X-WR-CALDESC:ハンズオンで学ぶサイバーセキュリティ ―こ
 れから始める脆弱性検査の内製化―
X-WR-CALNAME:ハンズオンで学ぶサイバーセキュリティ ―こ
 れから始める脆弱性検査の内製化―
X-WR-TIMEZONE:Asia/Tokyo
BEGIN:VTIMEZONE
TZID:Asia/Tokyo
BEGIN:STANDARD
DTSTART:19700101T000000
TZOFFSETFROM:+0900
TZOFFSETTO:+0900
TZNAME:JST
END:STANDARD
END:VTIMEZONE
BEGIN:VEVENT
UID:709762@techplay.jp
SUMMARY:ハンズオンで学ぶサイバーセキュリティ ―これか
 ら始める脆弱性検査の内製化―
DTSTART;TZID=Asia/Tokyo:20181207T140000
DTEND;TZID=Asia/Tokyo:20181207T163000
DTSTAMP:20260420T105639Z
CREATED:20181126T064405Z
DESCRIPTION:イベント詳細はこちら\nhttps://techplay.jp/event/70976
 2?utm_medium=referral&utm_source=ics&utm_campaign=ics\n\nハンズオン
 で学ぶサイバーセキュリティ ―これから始める脆弱性
 検査の内製化―\n\n概要\n\nあなたの運営しているWebサ
 イトは\n「危険なWebサイト」かもしれません\n\n欧州で
 はGDPR（EU一般データ保護規則）が施行され、個人情報
 の取り扱いがより厳格化されることになりました。\n
 その影響は欧州だけでなく、米国、日本にも及んでお
 り、セキュリティ対策の重要性は一層高まっています
 。\n\nそうした背景も踏まえてセキュリティに関するセ
 ミナー企画を強化する中で、\n今回は、経営者、企業
 のシステム管理者、総務部、あるいはWebサイト制作者
 に向けて、\nサーバーの脆弱性（セキュリティ上の問
 題点）検査手法が学べるセミナーをご用意しました。\
 n\n今回のセミナーでは、よくあるWebサイトの脆弱性を
 知ると共に、\nセキュリティのプロフェッショナルも
 利用する脆弱性検査ソフトの無料版を用い、\n擬似的
 に用意した危険なWebサイトを診断することで、\n\n・脆
 弱性の発見\n・実際に問題があるかの検証\n・問題があ
 った場合に想定されるリスク\n・対策\n\nなどについて
 学びます。\n\n大企業から中小零細企業まで、\nほとん
 どの企業がWebサイトを持つようになって久しいですが
 、\nWebサイトのセキュリティについて日頃から注意し
 、\n対策を取られている企業はまだまだ少ないようで
 す。\n\n改ざんや情報漏洩を引き起こすような\n悪意を
 持ったハッキング手法は日進月歩で巧妙になっていま
 すが、\n残念ながら、高度な手口など使うまでもない
 「危険なWebサイト」が\n世の中には溢れかえっていま
 す。\n\n当セミナーを通じて基本的な脆弱性検査を内製
 化することで、\nコストを抑えながら、セキュリティ
 リスクに備えてください。\n\n登壇者\n\n\n\n桝谷　昌史 
 氏　（ますたに　まさふみ）\n\n神戸デジタル・ラボ\n
 サービス推進本部\nセキュリティソリューション事業
 部\n\nWebセキュリティ診断や標的型攻撃メール訓練、イ
 ンターンシップカリキュラムに従事。\n最近では、標
 的型攻撃メール訓練のASP化のメンバーとして、診断業
 務で身に着けた知識を元にセキュアなWebアプリケーシ
 ョンの構築に取り組み、サービス運営側が実際に抱い
 ている苦悩への理解を深めている。\n\n\n\n\n\n\n梅津　
 直弥 氏（うめづ　なおや）\n\n株式会社神戸デジタル
 ・ラボ\nサービス推進本部\nセキュリティソリューショ
 ン事業部\n\n2013年に神戸デジタル・ラボ入社。\nWeb、ス
 マホアプリ、サーバなど様々なセキュリティ診断業務
 に従事。ミドルウェアをはじめとする様々なソフトウ
 ェアの脆弱性情報配信サービス「PD SecInfo」の立ち上げ
 に携わる。現在はWAFなどの対策製品の導入支援を通し
 てお客様の課題や予算、状況などに合わせた解決策を
 提供できるよう奮闘中。\n\n\n\n\n参加対象\n\n・セキュ
 リティに興味がある方\n・企業の情報システム担当の
 方や総務部の方\n・Webサイト制作に関わる方\n\n※ リク
 ルーティング、勧誘など、採用目的でのイベント参加
 はお断りしております。\n※ 飲食のみを目的としたご
 応募・ご来場はご遠慮ください。\n※ 補欠者の方は、
 ご来場いただいてもご入場いただくことが出来ません
 のでご了承ください。\n※ 欠席される場合は、お手数
 ですが速やかにキャンセル処理をお願い致します。\n\n
 参加費\n\n8\,000円／名　\n\nハッシュタグ\n\n#techplayjp\n
LOCATION:TEQS　PCトレーニングルーム （アジア太平洋トレ
 ードセンター（ATC）内ITM棟6階） 〒559-0034 大阪市住之
 江区南港北2-1-10ATCビルITM棟 6階
URL:https://techplay.jp/event/709762?utm_medium=referral&utm_source=ics&utm
 _campaign=ics
END:VEVENT
END:VCALENDAR
