BEGIN:VCALENDAR
VERSION:2.0
PRODID:-//https://techplay.jp//JP
CALSCALE:GREGORIAN
METHOD:PUBLISH
X-WR-CALDESC:PyLadies Caravan in 福岡
X-WR-CALNAME:PyLadies Caravan in 福岡
X-WR-TIMEZONE:Asia/Tokyo
BEGIN:VTIMEZONE
TZID:Asia/Tokyo
BEGIN:STANDARD
DTSTART:19700101T000000
TZOFFSETFROM:+0900
TZOFFSETTO:+0900
TZNAME:JST
END:STANDARD
END:VTIMEZONE
BEGIN:VEVENT
UID:710565@techplay.jp
SUMMARY:PyLadies Caravan in 福岡
DTSTART;TZID=Asia/Tokyo:20190113T140000
DTEND;TZID=Asia/Tokyo:20190113T170000
DTSTAMP:20260426T033545Z
CREATED:20181201T141154Z
DESCRIPTION:イベント詳細はこちら\nhttps://techplay.jp/event/71056
 5?utm_medium=referral&utm_source=ics&utm_campaign=ics\n\n福岡にてPyLa
 dies caravan開催決定！\nPyLadies caravanとは？\nPythonを通じ
 てプログラミングを学んだり、現役エンジニア、Pythoni
 staと交流したりして、女性同士新たなPython仲間と出会
 う場になればという思いで企画したイベントです。\n
 プログラミングってなんだろうという方、Pythonを新た
 に学んでみたい方、No Python\, No Life!な方、などを対象
 に、各回テーマを決めて開催していきます。\nPyLadies ca
 ravan in 福岡\n以下三本立てでお送りする予定です。\n子
 ども向けハンズオンはJava女子部よりコンテンツをお借
 りして実施いたします。イベント開催後援をしてくれ
 たJava女子部の皆様、ありがとうございます。\n\n\n子ど
 も向けハンズオン（ママも一緒に)  \n現代社会におい
 てITはなくてはならないものです。\nそんな中、子ども
 たちのプログラミング教育への注目が高まっています
 。\nそこで、JavaScript（enchant.js）で作成したプログラミ
 ング学習ツールを使用して、子どもたちに楽しくプロ
 グラミングの概念を学んで貰います。また、enchant.jsや
 Javaを直接触らずに体験して頂きますので、保護者の方
 も子どももプログラミング言語知識がなくても参加頂
 けます。\nブラウザ上に用意した学習ツールを使用し
 、テキストボックスに様々な値を入力することでゲー
 ムの動きを変えたり、簡単な操作でゲームを作ったり
 して、プログラミングへの第一歩を体験して頂きます
 。\n本セッションを通してプログラミングの概念や楽
 しさ、面白さを知ることで、ゲームやツールなどを『
 利用する側』から、『つくる側』への変化のきっかけ
 となればと思います。\nGithub: https://github.com/java-women/Han
 dsOnContentsForKids/tree/master/JavajoTeachingForKids  \n\n\n大人のた
 めのPython入門\nPythonをはじめたばかりの方、これから
 はじめたい方向けに、Pythonの基礎知識や使い方などな
 どをお話します。\n\n\n懇親会\n懇親会はセミナー時間
 枠内で開催します。\nセミナー終了後にもう少し懇親
 会延長を希望の方がいれば街に繰り出しましょう。\n\n
 \nタイムテーブル\n\n\n\n時間\n題目\n発表者\n\n\n\n\n13:30 -
 \n開場・受付開始\n\n\n\n14:00 - 14:05\nオープニング：PyLadi
 es Caravanについて\nPyLadies Tokyoスタッフ\n\n\n14:05 - 14:15\n
 自己紹介タイム\n全員\n\n\n14:15 - 15:30\n子供向けハンズ
 オン（ママも一緒に）\n@maaya8585\n\n\n15:30 - 15:40\n休憩\n\n
 \n\n15:40 - 16:30\n大人のためのPython入門\n@kanan\n\n\n16:30 - 17
 :00\n懇親会\n-\n\n\n\nイベント対象者\n今回の福岡caravanで
 は、以下のようなみなさんを対象に開催いたします。\
 n(お子様は小学生以下男女対象です)\n\nプログラミング
 やってみたい、Python学んでみたいというお子様のママ\
 n小学校でプログラミング必修になるけど親としてどう
 関わっていけばいいんだろうとお悩みのママ\nこれか
 らプログラミングを始めて仕事に活かしたいママ など
   \n\n小学生くらい（難易度としては、だいたい3-4年生
 くらいが楽しめるレベルとなります）\n※上記の年齢
 に当てはまらなくても、キーボード入力が出来る方な
 らどなたでも参加可能です。\n言語知識がない方でも
 参加頂けます！  \nご来場について\n保護者同伴でも、
 子どものみの参加でもどちらでも構いません。\n託児
 スペース等はありませんが、小さなお子様をお連れの
 場合、イベント会場内にて保護者の方とお待ち頂けま
 す。  \n持ち物\n\nPC\n　キーボードがついているもの。\
 n　マウスがあると操作しやすいかと思います。\n　会
 場には電源タップとwifiのご用意がありますのでご利用
 ください。\nおやつ\n　1家族1品のおやつの持ち寄りを
 お願いします。\n　個包装されているお菓子がオスス
 メ！\n　パソコンを触るので手が汚れないおやつがオ
 ススメ！！  \n飲み物\n\n事前準備\n参加にあたり、Window
 s / Mac / Ubuntu のいずれかのPCをご用意いただき、各事前
 準備をお願いします。    \nわからないことなどありま
 したら PyLadies JapanのSlackもしくは @PyLadiesTokyo もしくは
 本イベントのお問い合わせページからご質問いただけ
 ればスタッフが対応いたします。おきがるにどうぞ。 
    \nPyLadies Japan Slack参加申請はこちら    \n子供向けハン
 ズオン（ママも一緒に）\nChromeのインストールを事前
 にしておいて下さい。  \n大人のためのPython入門\nPython
 のインストールをしてきて下さい。    \nPython（バージ
 ョンは3.7）    \nhttps://www.python.org/    \n上記ページ内「do
 wnloads」からpython3.7を入手し、インストールしましょう
 。  \nやり方がよくわからないと言う方は以下のページ
 が参考になると思います。  \nhttp://bootcamp-text.readthedocs.
 io/textbook/1_install.html    \nスポンサー\n日本マイクロソフ
 ト 様\n会場とお子様用PCのご提供をいただいておりま
 す。ありがとうございます。\n後援\n\nPyCon JP\nJava女子
 部\n\n会場について\n本イベントは日本マイクロソフト
 様にて開催いたします。\n日本マイクロソフト株式会
 社 九州支社  \n福岡県福岡市博多区上川端町 12-20 ふく
 ぎん博多ビル10 F  \n福岡市営地下鉄 中洲川端駅 5 番出
 口直結\n休日のため正面玄関が利用できません。下記UR
 Lから入館方法の確認をお願いします!!\nhttps://gist.github.
 com/mahya8585/3c45653d0a1b33932de4bc8b29a62207\nPyLadies Tokyoとは？\n
 PyLadies Tokyo は，PyLadies の東京支部として，Pythonが好き
 な女性同士をつなぐために活動しています．\n本コミ
 ュニティでは Python が好きな女性の参加者を絶賛募集
 中です^^！\n初心者／熟練者問いませんので，Pythonでコ
 ードを書いたことがない・・・という方でも，Pythonに
 興味があればお気軽にご参加下さい．（男性は参加出
 来ません．あらかじめご了承下さい）\n行動規範\nPyLaid
 es のイベントに参加する、発表する、スタッフとして
 イベントを運営するなどPyLadiesにかかわる全ての人は
 以下のCode Of Conduct (行動規範) を守る必要があります。
 参加者がお互いに敬意を払って楽しい時間を過ごせる
 よう、ご理解ご協力をお願いいたします。\nhttps://pyladi
 estokyo.github.io/handbook/member/coc.html
LOCATION:日本マイクロソフト株式会社 九州支店 福岡県福
 岡市博多区上川端町 12-20 ふくぎん博多ビル10 F
URL:https://techplay.jp/event/710565?utm_medium=referral&utm_source=ics&utm
 _campaign=ics
END:VEVENT
END:VCALENDAR
