BEGIN:VCALENDAR
VERSION:2.0
PRODID:-//https://techplay.jp//JP
CALSCALE:GREGORIAN
METHOD:PUBLISH
X-WR-CALDESC:PythonによるWebスクレイピング入門
X-WR-CALNAME:PythonによるWebスクレイピング入門
X-WR-TIMEZONE:Asia/Tokyo
BEGIN:VTIMEZONE
TZID:Asia/Tokyo
BEGIN:STANDARD
DTSTART:19700101T000000
TZOFFSETFROM:+0900
TZOFFSETTO:+0900
TZNAME:JST
END:STANDARD
END:VTIMEZONE
BEGIN:VEVENT
UID:710690@techplay.jp
SUMMARY:PythonによるWebスクレイピング入門
DTSTART;TZID=Asia/Tokyo:20181215T130000
DTEND;TZID=Asia/Tokyo:20181215T150000
DTSTAMP:20260420T105004Z
CREATED:20181203T061945Z
DESCRIPTION:イベント詳細はこちら\nhttps://techplay.jp/event/71069
 0?utm_medium=referral&utm_source=ics&utm_campaign=ics\n\nPythonによるW
 ebスクレイピング入門\n\n手作業でデータを集めていた
 りしていませんか？\nクローリング技術を学ぶことで
 、時間のかかっているデータの収集を自動化できます
 ！\n\nまた、機械学習やディープラーニングを使うため
 にもデータが必要です。\nそんなデータの収集を自動
 でWebから収集するプログラムをPythonを使って学習しま
 す。\nWebスクレイピングという技術を使い、インター
 ネットにあるデータを収集することができるようにな
 ります！\n\n今回は、スクレイピングを学びデータ収集
 から始めたい方向けの内容になります。\n\n※スクレイ
 ピング初心者向けの内容です。\nPythonの文法学習は省
 略しますので、予習して頂けますと幸いです。\n〜AI Ac
 ademyでPythonやスクレイピングの基礎を今だけ無料で学
 べます！〜\nhttps://aiacademy.jp/sign_up/\n\nまた、HTML/CSSも当
 日講義致しますが、予習して頂けますと理解が進みま
 す。\nプロゲートやドットインストールなどをご利用
 ください。\n\n対象者\n\n・Pythonの文法の基本はわかっ
 ている方\n\n・Webからデータを自動で収集するプログラ
 ムを作りたいという方\n\n・スクレイピングの基本を学
 びたい方\n\nオススメではない方\n\n・既に業務または
 、独学でスクレイピングを進めれている方\n\n・Pythonプ
 ログラミングが全くの初心者の方(当日はPython文法は既
 知として進めます。文法を学びたい方は他『Python文法
 速習』に別途ご参加ください。\n\n参加する上での事前
 知識と環境構築に関して\n\n参加する上での事前知識と
 しまして、HTML/CSSとPython3系の基本文法を知っているこ
 とが前提です。\nまた環境構築として、普段お使いのPC
 にGoogle Chromeブラウザ及びPython3系が動作する環境が構
 築していることが前提になります。\n\n当日お話する内
 容\n\nWebスクレイピング基礎-> Webスクレピング実践とい
 った具合にステップアップして行きます。\n\nまずは、
 Webスクレイピングの基本を学習します。\n最終的に、
 多くの画像を収集するプログラムが作れます。\n\n最後
 にWebスクレイピング実践です。\nSeleniumを使うことでよ
 り高度にWebスクレイピングを行うことが出来ます。\n
 最終的に、会員サイトに自動でログインしスクレイピ
 ングするプログラムが作れます。\n\n当イベントの特徴
 \n\n・ハンズオン形式で手を動かしながら学んで行きま
 す。\n\n・実際に作る事で知識を学ぶだけよりも圧倒的
 な理解が出来ます。\n\n登壇者プロフィール\n\n谷一徳
 　サイバーブレイン株式会社 Founder&代表取締役\nベン
 チャー企業にて、約2年間CTO(最高技術責任者)を担当。\
 nその後、サイバーブレイン株式会社を設立。\nディッ
 プ株式会社による、日本初のAI・人工知能ベンチャー
 支援制度\n「AI.Accelerator」の1期採択企業\nhttps://www.dip-ne
 t.co.jp/news/press-release/2017/08/aiaiaccelerator-1-828.html \nこれま
 でに2000名以上にプログラミングやディープラーニング
 をオフライン・オンラインで教える。\n過去に、Flask+HT
 ML/CSS/JS+MySQL/MongDB+BeautifulSoup/selenium + AWSにて、Web上の管
 理画面から取りたいページからCSVデータなどに出力し
 たり、時間設定で並列にデータをクローリングするWeb
 アプリケーションの開発などを開発する。\n\nスケジュ
 ール\n\n\n\n\n  時刻\n  内容\n\n\n\n\n  12:50\n  開場受付開始
 \n\n\n  13:10\n  開始（自己紹介等）\n\n\n  13:20\n  Pythonによ
 るWebスクレイピング基礎\n\n\n  14:10\n  5分~10分休憩\n\n\n 
  14:20\n  スクレイピング応用（画像データなどの収集）
 \n\n\n  14:50\n  質疑応答/アンケート回答 (終了)\n\n\n\n\n※
 終了時間は予定より早くなったり、遅くなったりする
 場合がございますのでご了承ください。\n\n持ち物\n\nWi
 fiが繋がるノートPC必須です。\nまた各自ノートや筆記
 用具は自由持参です。\n\n※受付時にお名刺を1枚ご用
 意願います。ご持参お願い致します。\nまた、学生の
 方の参加の場合は、お持ちであれば名刺をお持ちくだ
 さい。\n\nこのイベントで得られるもの\n\n・Pythonを使
 ってWebスクレイピングが始められるようになる。\n・
 基本的な内容を学ぶのではなく、実際にデータを取れ
 る動くものを作って帰れる。\n\nAI Academy(エーアイ アカ
 デミー）とは？\n\nオンラインによるマンツーマンレッ
 スンでAIプログラミングが学べるスクール。\nhttp://aiaca
 demy.jp\n「AI(人工知能)技術をかつてないほどに多くの人
 々にとって身近にし、AI時代にAIを活用できる人材を創
 出する」\nことを掲げ、AIエンジニア育成をしている。
 \n\n過去イベント実績\n\n過去に次のようなイベントを
 開催致しました。\n\n・DeepLeraning(CNN)を使って画像認識A
 Iの実装\n\nhttps://learningvesper.doorkeeper.jp/events/59500\n\n・Dee
 pLeraning(LSTM)を使って株価予測システムの基礎となるsin\
 ,cosの波形予測を実装\n[https://connpass.com/event/55095/](http://
  "Link title")\n\n・DeepLearning(LSTM)を使って会話ができるチ
 ャットボットを実装\n[https://learningvesper.doorkeeper.jp/events
 /59956](http:// "Link title")\n\n・Pythonで作る初心者のための
 ニューラルネットワーク実装\nhttps://connpass.com/event/59048
 /\n\n・pythonでレコメンドシステム開発\nhttps://connpass.com/
 event/59585/\n\n過去スクレイピングイベントの参加者のほ
 ぼ全員が、\n大変満足！とお答え頂いております。\nそ
 れ以外は、まぁまぁ、満足！と答えて頂いております
 。\n受講生の声を掲載致します。\n\n・タイトな時間で
 内容が濃いので満足です。\n・大変満足です。実際に
 コードを打って試せたので良かった。\n・短い時間に
 もり沢山教えて頂けるのでよかった。\n・講師の専門
 性が高く色々教えて頂けた。\n・難しかったところ、
 わからなかったところもなくちょうど良かったです。\
 n\nその他・注意事項\n\n・領収書の発行は可能です。当
 日お申し付け下さい。\nまた、事前にaiacademy@cyberbra.in
 宛に、お名前と当日領収書発行希望です。\nと一言添
 えてメールして頂けるとよりスムーズです。\n\n・本イ
 ベント、セミナーでの内容その類似内容を\n無償・有
 償問わず商材として利用することをお断りしておりま
 す。\n\n・イベント開催1時間前以降のキャンセルの場
 合、返金は出来ませんので予めご了下さい。\n・イベ
 ントの様子を撮影もしくは録画し、ブログやSNSなどで
 公開することがあります。\nその際、来場者の姿を公
 開されることがあることをご了承ください。\n\nイベン
 ト開催最小遂行人数に関して\n\n当日10:00までに、参加
 者が5名に満たない場合は、中止させて頂きます。\n次
 回開催にご参加宜しくお願いいたします。\n\nAI Academy C
 ommunity\n\nAI Academy CommunityはオープンなFacebookグループで
 す。\nAIに関する情報をお届けします。\n定期的にAIに
 関する情報を知りたい方は、是非参加してください！\
 nお待ちしております！\n https://www.facebook.com/groups/1892746
 874314837/\n※参加するには、Facebookアカウントが必要で
 す。\n
LOCATION:〒169-0075 東京都新宿区高田馬場４丁目１８−２ 
 冨久正ビル 204 新宿区高田馬場4-18-2 ふくせい（富久正
 ）ビル 204号
URL:https://techplay.jp/event/710690?utm_medium=referral&utm_source=ics&utm
 _campaign=ics
END:VEVENT
END:VCALENDAR
