BEGIN:VCALENDAR
VERSION:2.0
PRODID:-//https://techplay.jp//JP
CALSCALE:GREGORIAN
METHOD:PUBLISH
X-WR-CALDESC:micro:bit もくもく会#4
X-WR-CALNAME:micro:bit もくもく会#4
X-WR-TIMEZONE:Asia/Tokyo
BEGIN:VTIMEZONE
TZID:Asia/Tokyo
BEGIN:STANDARD
DTSTART:19700101T000000
TZOFFSETFROM:+0900
TZOFFSETTO:+0900
TZNAME:JST
END:STANDARD
END:VTIMEZONE
BEGIN:VEVENT
UID:710835@techplay.jp
SUMMARY:micro:bit もくもく会#4
DTSTART;TZID=Asia/Tokyo:20190120T140000
DTEND;TZID=Asia/Tokyo:20190120T160000
DTSTAMP:20260423T075903Z
CREATED:20181204T061357Z
DESCRIPTION:イベント詳細はこちら\nhttps://techplay.jp/event/71083
 5?utm_medium=referral&utm_source=ics&utm_campaign=ics\n\n学校の先生
 など平日の夜は...という方向けに日曜日の開催です！\
 nmicro:bit もくもく触ってみよう会から、早１年...\nWDLC 
 でも小学校や教育団体に学校のプログラミング教育の
 活性化ということで配布されたりしています。\nふた
 たび、もくもく触るところから定期開催してみようと
 ！\n初めて触る方でも大丈夫です。\nみんなでワイワイ
 もくもくと楽しみましょう！\nmicro:bit の貸し出し可能
 ですので、micro:bit をお持ちでない方も参加できます。
 \n貸し出し希望の方は、貸し出し枠でお申し込みくだ
 さい。\nmicro:bit のプログラムを行うための PCはご持参
 ください。\nまたはスマホでもプログラミングできま
 す。その場合は、 https://microbit.org/ja/guide/mobile/ よりア
 プリをダウンロードしてください\n日時\n2019年1月20日 (
 日) 14:00 - 16:00\n場所\n合同会社ねこもり　秋葉原オフィ
 ス 千代田区外神田2丁目15-8　長坂第三ビル 3階\nWi-Fi、
 電源の利用可能です！\n当日のスケジュール\n\n\n\n時間
 \n内容\n\n\n\n\n13:45\n開場\n\n\n14:00 - 15:50\n情報交換等、自
 由にもくもくやりましょう！\n\n\n15:50 - 16:00\nおかたづ
 け・閉場\n\n\n\n参加費\n1\,000円(会場費 - 当日会場で徴
 収します)\nmicro:bit 貸し出し料: 100円(当日会場で徴収し
 ます)\nmicro：bitについて\nmicro:bit（マイクロビット）は
 プログラミングして操れる小さなコンピューターです
 。25個のLED、2個のボタンスイッチのほか、加速度セン
 サーと磁力センサー、無線通信機能がついています。\
 nイギリスで生まれた教育向けのマイコンボードで、イ
 ギリスでは11歳～12歳の子供全員に配布されていて、授
 業での活用が進んでいます。\nhttps://switch-education.com/pro
 ducts/microbit/\nhttp://microbit.org/ja/
LOCATION:合同会社ねこもり　秋葉原オフィス 千代田区外
 神田2丁目15-8　長坂第三ビル 3階
URL:https://techplay.jp/event/710835?utm_medium=referral&utm_source=ics&utm
 _campaign=ics
END:VEVENT
END:VCALENDAR
