BEGIN:VCALENDAR
VERSION:2.0
PRODID:-//https://techplay.jp//JP
CALSCALE:GREGORIAN
METHOD:PUBLISH
X-WR-CALDESC:Webサイトの制作・改善ってどうやる？無料相
 談会
X-WR-CALNAME:Webサイトの制作・改善ってどうやる？無料相
 談会
X-WR-TIMEZONE:Asia/Tokyo
BEGIN:VTIMEZONE
TZID:Asia/Tokyo
BEGIN:STANDARD
DTSTART:19700101T000000
TZOFFSETFROM:+0900
TZOFFSETTO:+0900
TZNAME:JST
END:STANDARD
END:VTIMEZONE
BEGIN:VEVENT
UID:711364@techplay.jp
SUMMARY:Webサイトの制作・改善ってどうやる？無料相談会
DTSTART;TZID=Asia/Tokyo:20181213T140000
DTEND;TZID=Asia/Tokyo:20181221T180000
DTSTAMP:20260422T042903Z
CREATED:20181208T055650Z
DESCRIPTION:イベント詳細はこちら\nhttps://techplay.jp/event/71136
 4?utm_medium=referral&utm_source=ics&utm_campaign=ics\n\nWebサイト制
 作無料相談会とは\n\n会社のホームページをリニューア
 ルしたいけど、なにから相談すればいいの？サイトの
 改善をしたいけれど、なにからはじめればいいの？Web
 サイトってなに？ 本当に必要なの？\nなど、\n\n「Webサ
 イト制作に興味はあるけれど、お問い合わせするのは
 気が引ける……」そんなクライアントさまやWeb担当者
 さまのために「この日程・時間帯であれば、いつお越
 しいただいてもLIGのWebディレクターが相談にのります
 」というイベントです。\n\n新しいオフィスに移転した
 こともあり、そちらも併せてご覧いただければと思っ
 ています！\n\n\n\nこんな方におすすめ！\n\n□ 経営者さ
 ま、マーケティングや広報のご担当者さま\n\n□ 自社
 ホームページの担当になった方\n\n□ 競合他社がおし
 ゃれなホームページ作ったから、なんとなく悔しい方\
 n\n□ Web制作に興味を持っている方\n\n□ 3月の決算期と
 聞いて、ピンときた方\n\n□ Webサイトってそもそも必
 要なの？ と考えている方\n\n「1つでも当てはまるな…
 …」と思った、そこのあなた。ぜひお越しください！\
 n\nいつ開催するの？\n\n平成最後の冬、下記の日程で開
 催いたします。一組につき30分程度、ざっくばらんに
 お話しましょう！\n\n\n12月13日（木） 14:00〜18:00\n12月14
 日（金） 15:00〜19:00\n12月20日（木） 14:00〜18:00\n12月21日
 （金） 14:00〜18:00\n\n\n\n\nLIGに相談するメリットってな
 に？\n\nいくら無料とはいえ、相談するからには、みな
 さまの貴重なお時間をいただくことになります。です
 ので、みなさまにとって有意義な時間であってほしい
 と願っております……！\n\nそこで、私たちLIGにご相談
 いただくメリットを3つご紹介します。\n\n1.オモシロ系
 の会社だと思われていますが、実は……！\n\n「面白い
 ことをしている、新しい会社」と思ってくださる方も
 多いのですが、弊社は創業2007年。つまり、今年で12年
 目の会社です。\n\n最近ではWeb制作以外にも、さまざま
 事業を展開しておりますが、やはりWeb制作は弊社の売
 り上げを占める大きな部分。お客様のご要望をしっか
 り伺い、Webサイトのご提案、そして制作までおこなっ
 ているため、幅広いジャンルにも対応可能です。\n\n制
 作実績：http://creative.liginc.co.jp/\n\n2.Webサイト制作に対
 して熱い想いを持ったメンバーたち\n\nコーポレートサ
 イト兼オウンドメディアである弊社の「LIGブログ」は
 、「自分たちが日々の業務で学んだことをアウトプッ
 トするだけでなく、いろいろな人にシェアしていこう
 」をモットーに運営しております。\n\nそういった社風
 から、メンバー同士においても情報共有するミーティ
 ングを定期的におこない、「より良いサイトになるに
 は？」と日々インプットとアウトプットを繰り返して
 います。\n\nどんな熱い想いを持ったメンバーがいるの
 か気になる方は、こちらをご覧ください！\n\nメンバー
 ページ：https://liginc.co.jp/member\n\n3.国内外での評価を受
 けている\n\nおかげさまで昨年も国内外合わせて14個の
 賞をいただくなど、Webサイト制作において高い評価を
 得ております。「表現」「手段」「事例」の幅広さを
 フル活用し、貴社のWebサイト制作のお悩みを解決しま
 す！\n\n最近の受賞：https://www.designawards.asia/ja/\n\nぜひWe
 bサイト制作相談会にお越しください！\n\n毎年やって
 くる決算期のこの時期に、Webサイト制作を考えるきっ
 かけとして、この無料相談会を利用してみてはいかが
 でしょうか。\n\n少しでも興味を持たれた方はぜひ、LIG
 本社オフィスにお越しください！ それでは、みなさま
 にお目にかかれるのを、楽しみにしております。\n\n\n
LOCATION:株式会社LIG 本社 東京都台東区小島２丁目２０−
 １１
URL:https://techplay.jp/event/711364?utm_medium=referral&utm_source=ics&utm
 _campaign=ics
END:VEVENT
END:VCALENDAR
