BEGIN:VCALENDAR
VERSION:2.0
PRODID:-//https://techplay.jp//JP
CALSCALE:GREGORIAN
METHOD:PUBLISH
X-WR-CALDESC:【初心者歓迎】C++環境構築・超入門
X-WR-CALNAME:【初心者歓迎】C++環境構築・超入門
X-WR-TIMEZONE:Asia/Tokyo
BEGIN:VTIMEZONE
TZID:Asia/Tokyo
BEGIN:STANDARD
DTSTART:19700101T000000
TZOFFSETFROM:+0900
TZOFFSETTO:+0900
TZNAME:JST
END:STANDARD
END:VTIMEZONE
BEGIN:VEVENT
UID:711451@techplay.jp
SUMMARY:【初心者歓迎】C++環境構築・超入門
DTSTART;TZID=Asia/Tokyo:20190111T193000
DTEND;TZID=Asia/Tokyo:20190111T213000
DTSTAMP:20260420T110339Z
CREATED:20181209T083106Z
DESCRIPTION:イベント詳細はこちら\nhttps://techplay.jp/event/71145
 1?utm_medium=referral&utm_source=ics&utm_campaign=ics\n\n【初心者歓
 迎】C++環境構築・超入門\n\n概要\n\n当講座では、受講
 者様に個人PCを持参いただき、C++が動く環境の構築と
 、C++の超入門を行います。\n\nC言語はプログラミング
 言語の元となる言語であり、その学習を通して、C言語
 だけでなくPython\, Java\, JavaScript\, C#\, Objective-Cなどの言
 語も簡単に理解できるようになります。今回扱うC++は
 、強力なライブラリを含む多機能を備えたC言語の上位
 互換言語です。その演算速度と強力さゆえ長年人気言
 語ランキングのトップクラスに君臨し続けています。\
 n\n当講座を受講していただけると、C++の第一歩を踏み
 出すことができます。また、プログラミングとは何か
 ？という疑問を持っていらっしゃる方にとっても、オ
 ススメな内容となっております。\nまた当講座を受講
 後、さらに実用的なレベルへとステップアップしたい
 方は、下記のC++体系講座の受講もお勧めいたします。\
 n\n関連講座\n【11/20から毎週火曜日】C++を体系的に学べ
 る講座\n\n当日はPCを持参してください。\n\n講座を通じ
 て得られること\n\n\nC++の実行・コンパイル環境・エデ
 ィタの整備\nC++の最も基本的な文法の習得\n\n\n講座一
 覧のフローチャート\n\nどの講座から受講したら良いの
 かわからないというような方は、下記のフローチャー
 トを参考にしていただければと思います。\n\n\n\n内容\n
 \n\nC++の特徴\nC++のコンパイル環境の整備\nC++のエディ
 タの整備(VSCode)\nC++の基本的な文法\n\n\n※ 各項目に演
 習問題をもうけていますので、理解度を確認しながら
 受講いただけます。※ 当日予告なく時間配分・内容が
 変更になる可能性がございます。\n\nこんな人におすす
 め\n\n\nC++の始め方を知りたい方\n煩雑なインストール
 を２時間で完璧にしたい方\n\n\n講師\n\n吉川武文\n東京
 大学大学院にて機械学習を用いた生物データ解析の研
 究を行う。学部では生物情報科学を専攻。生物から得
 られるビッグデータの解析や生物学における理論のシ
 ミュレーション、モデリングなどにも精通。東京大学
 理科二類最高点合格、日本生物学オリンピック金賞・
 本選一位などの受賞歴を持つ。\n\n\n\n\n持ち物\n\n\nPC\n\n
 \n領収書\n\n【Stripeで事前決済の方】\nクレジットカー
 ド会社が発行する明細を領収書の代わりとしてご利用
 ください。当社より重複しての領収書発行は行なって
 おりません。\n\n【当日払いの方】\n講座後のアンケー
 トにて、「領収書が必要」にチェックを入れるように
 お願いいたします。領収書をメールにて送付させてい
 ただきます。\n\n【Paypalの方】\n決済処理後にPaypalから
 送付されるメール内容、またはPaypalの取引履歴から該
 当項目を確認の上、「詳細」をご覧ください。それら
 が領収書の代わりとなります。また、クレジットカー
 ド会社発行の利用明細書も領収書としてご利用いただ
 けます。（当社より重複しての発行は行えません)\n\n\n
 \n受付・入場時間\n\n開始の15分前から\n\n問い合わせ\n\n
 イベントに関するお問い合わせはinfo@to-kei.netまでご連
 絡ください。\n\n注意事項\n\n・リクルーティング、勧
 誘、採用活動など、目的に沿わない行為につきまして
 、主催者が相応しくないと判断した場合は即刻退出処
 分とします。全員が気持ちよく過ごすことが出来るよ
 う、ご協力をお願い致します。\n・講座内で扱うコン
 テンツは全て「全人類がわかる統計学」に帰属してい
 ます。複製はご遠慮ください。\n・個人ブログへの講
 義コンテンツの掲載はご遠慮ください。\n\n全人類がわ
 かる統計学とは\n\n統計学の学習サイト、全人類がわか
 る統計学を運営、管理している団体です。統計学とそ
 の関連分野について、出来るだけわかりやすく多くの
 人々に届けるということを目指して活動しています。\
 n
LOCATION:秋葉原駅徒歩５分 東京都台東区台東１丁目１１
 番地 4号誠心Oビル3階
URL:https://techplay.jp/event/711451?utm_medium=referral&utm_source=ics&utm
 _campaign=ics
END:VEVENT
END:VCALENDAR
