BEGIN:VCALENDAR
VERSION:2.0
PRODID:-//https://techplay.jp//JP
CALSCALE:GREGORIAN
METHOD:PUBLISH
X-WR-CALDESC:JAWS-UG CLI専門支部 #123 (祝日スペシャル)
X-WR-CALNAME:JAWS-UG CLI専門支部 #123 (祝日スペシャル)
X-WR-TIMEZONE:Asia/Tokyo
BEGIN:VTIMEZONE
TZID:Asia/Tokyo
BEGIN:STANDARD
DTSTART:19700101T000000
TZOFFSETFROM:+0900
TZOFFSETTO:+0900
TZNAME:JST
END:STANDARD
END:VTIMEZONE
BEGIN:VEVENT
UID:711681@techplay.jp
SUMMARY:JAWS-UG CLI専門支部 #123 (祝日スペシャル)
DTSTART;TZID=Asia/Tokyo:20190114T103000
DTEND;TZID=Asia/Tokyo:20190114T170000
DTSTAMP:20260424T210441Z
CREATED:20181211T061403Z
DESCRIPTION:イベント詳細はこちら\nhttps://techplay.jp/event/71168
 1?utm_medium=referral&utm_source=ics&utm_campaign=ics\n\n(#122終了後
 に受付開始の予定です。)\n\nAWS CLIの使い方の基礎を理
 解し、活用方法について議論しましょう。\n\n概要\n\n
 スケジュールは以下を予定しています。\n\n概要\n\nス
 ケジュールは以下を予定しています。\n\n\n10:30-11:00 雑
 談タイム\n11:00-16:00 ハンズオンの概要説明、ハンズオ
 ン (随時休憩)\n16:00-16:45 ドリンクタイム\n\n\nドリンク
 はご持参ください。アルコールもOKです。\nライトニン
 グトーク(5分枠 x 1〜2つ程度)\nAWS CLIに関する雑談\n\n16:4
 5-17:00 撤収\n\n\n対象者\n\n次のような方々にとくにお勧
 めです\n\n\nAWS CLIに興味ある\nAWS CLIを使いこなしたい (
 一緒に議論しましょう)\nAWS CLIを広めたい\n\n\nハンズオ
 ン環境の準備について\n\n当日ハンズオンや議論に集中
 できるように、環境構築などについては(前日が日曜日
 ですし)事前に各自実施をお願いします。\n\nこの勉強
 会は、有志による互助的なものと考えておりますので
 、当日の手厚いサポートみたいなものは期待しないで
 ください^^\;)\n\n事前準備の詳細は、[JAWS-UG CLI] 総合案
 内をご覧ください。\nhttp://qiita.com/tcsh/items/14c3278f69ab073a
 fe0f\n\n注意点\n\n\n遅刻早退自由です\n定員は増やせない
 ので、出席できなくなった場合は当日でも良いので必
 ずキャンセルをお願いします。\n貸し切りではないの
 で、周囲ががやがやするかもしれません。\nAWSアカウ
 ントと、作業用のPCはご持参ください。\nネットワーク
 への接続などITの基礎的な部分は自助でお願いします
 。\n懇親会は予定していません。(有志でお願いします)
 \n\n\nFacebook\n\nFacebookにアカウントをお持ちの方は、 http
 s://www.facebook.com/groups/jaswug.cli/ \nで相談事などをしてい
 るので、ご参加いただければと思います。\n\n最小催行
 人数\n\n\n3人参加登録があれば開催します。\n
LOCATION:コワーキングスペース茅場町 Co-Edo 東京都中央区
 新川1-3-4 PAビル5F
URL:https://techplay.jp/event/711681?utm_medium=referral&utm_source=ics&utm
 _campaign=ics
END:VEVENT
END:VCALENDAR
