BEGIN:VCALENDAR
VERSION:2.0
PRODID:-//https://techplay.jp//JP
CALSCALE:GREGORIAN
METHOD:PUBLISH
X-WR-CALDESC:「PythonとKerasによるディープラーニング」輪読
 会#3
X-WR-CALNAME:「PythonとKerasによるディープラーニング」輪読
 会#3
X-WR-TIMEZONE:Asia/Tokyo
BEGIN:VTIMEZONE
TZID:Asia/Tokyo
BEGIN:STANDARD
DTSTART:19700101T000000
TZOFFSETFROM:+0900
TZOFFSETTO:+0900
TZNAME:JST
END:STANDARD
END:VTIMEZONE
BEGIN:VEVENT
UID:712340@techplay.jp
SUMMARY:「PythonとKerasによるディープラーニング」輪読会#3
DTSTART;TZID=Asia/Tokyo:20190117T190000
DTEND;TZID=Asia/Tokyo:20190117T213000
DTSTAMP:20260421T072209Z
CREATED:20181217T211515Z
DESCRIPTION:イベント詳細はこちら\nhttps://techplay.jp/event/71234
 0?utm_medium=referral&utm_source=ics&utm_campaign=ics\n\n勉強会の概
 要\nマイナビ出版 - PythonとKerasによるディープラーニン
 グを輪読し、ディープラーニングについて理解を深め
 る勉強会です。（毎週木曜日を予定）\n開始時間\n\n19:2
 0開始となっているので、ご注意ください。\n開場は19:0
 5です。\n\n参加費\n無料。懇親会参加者は500円となりま
 す。\n予定\n19:05　開場\n\n\n\n章\n内容\n時間\n発表者\n\n\
 n\n\n3\n入門:ニューラルネットワーク\n19:20~\nkaido\n\n\n\nLT
 \n\nNakasoneYu\n\n\n\n\n時間は仮で入力しています。\n\n今後
 の日程等\n\n毎週木曜日の開催を予定しております。\n
 登壇、LT大歓迎です！\n
LOCATION:秋葉原虎ビル 4階レンタルスペース 東京都千代田
 区外神田4-7-3秋葉原虎ビル4階
URL:https://techplay.jp/event/712340?utm_medium=referral&utm_source=ics&utm
 _campaign=ics
END:VEVENT
END:VCALENDAR
