BEGIN:VCALENDAR
VERSION:2.0
PRODID:-//https://techplay.jp//JP
CALSCALE:GREGORIAN
METHOD:PUBLISH
X-WR-CALDESC:Cloud Native Meetup Tokyo #6 KubeCon + CNCon Recap
X-WR-CALNAME:Cloud Native Meetup Tokyo #6 KubeCon + CNCon Recap
X-WR-TIMEZONE:Asia/Tokyo
BEGIN:VTIMEZONE
TZID:Asia/Tokyo
BEGIN:STANDARD
DTSTART:19700101T000000
TZOFFSETFROM:+0900
TZOFFSETTO:+0900
TZNAME:JST
END:STANDARD
END:VTIMEZONE
BEGIN:VEVENT
UID:712559@techplay.jp
SUMMARY:Cloud Native Meetup Tokyo #6 KubeCon + CNCon Recap
DTSTART;TZID=Asia/Tokyo:20190109T190000
DTEND;TZID=Asia/Tokyo:20190109T220000
DTSTAMP:20260422T031703Z
CREATED:20181219T061532Z
DESCRIPTION:イベント詳細はこちら\nhttps://techplay.jp/event/71255
 9?utm_medium=referral&utm_source=ics&utm_campaign=ics\n\n今回は KubeCo
 n + CloudNativeCon Recap 会です！\n主にCloudNativeCon側のKubernet
 esと連携する様なプロダクトに関連するセッションや
 、それについて考えることについて発表してもらいま
 す。\nまた、お土産として KubeCon 2018 NA 参加者限定Tシ
 ャツなどをコミュニティ用にに貰ってきたため、抽選
 で数名にプレゼントします！\nCloud Native に近しい技術
 や CNCF がホストするプロジェクトについて共有し合う
 会です！\n昨今はコンテナ関係のエコシステムが大量
 に増えてきましたが、それらの技術検証結果などを発
 表しあう場として利用していきたいと思っており、仲
 間を募集しております。\nおしらせ\nCNCF のSlackにぜひ
 ご参加ください！\n\nhttps://slack.cncf.io/\n\nCNCF の公式meetu
 pに認定されましたメンバー登録お願いいたします！\n\
 nhttp://bit.ly/cncfmeetupjp\n\nイベント概要\n\n\n\n\n\n\n\n\n\n日
 時\n2019 年 1 月 9 日 (水)\n\n\n時間\n19:00-21:50 (18:30 開場)\n
 \n\n会場\n株式会社サイバーエージェント 17F セミナー
 ルーム説明は 13 階になっていますが、直接 17 階のセ
 ミナールーム前の受付までお越し下さい。\n\n\n住所\n
 東京都渋谷区道玄坂1丁目12番1号\n\n\n\nアジェンダ\n\n\n\
 nDate\nTheme\nSpeaker\n\n\n\n\n19:00-19:05 (5 min)\nOpening\n\n\n\n19:05-
 19:25 (20 min)\nCortexの話をKubeConで聞きたかったっていう
 話\nShinya Uemura @uesyn (KDDI & Creationline)\n\n\n19:25-19:45 (20 min)
 \nKubeCon+CNConに見るetcdの未来\nAkihiro Ikezoe @ zoetro (Cybozu)\n
 \n\n19:45-20:05 (20 min)\nMonitoring Kubernetes Audit Log By Falco\nMakot
 o Hasegawa @makocchi (CyberAgent)\n\n\n20:05-20:25 (20 min)\nKubeCon + Cl
 oudNativeCon 2018 NA Recap 〜Vitess〜\nYutaka Ichikawa @cyberblack28 (A
 PC)\n\n\n20:25-20:45 (20 min)\nKubeCon + CNConで見たPrometheusの今
 後\nYoshi Shota @yosshi_ (NTT Communications)\n\n\n20:50-21:50 (60 min)\
 n新年会 兼 懇親会\nSponsored by CyberAgent\n\n\n\n発表者\nCorte
 xの話をKubeConで聞きたかったっていう話\n\nShinya Uemura @u
 esyn (KDDI & Creationline)\n\nKubeCon + CNConに見るetcdの未来\n\nAk
 ihiro Ikezoe @ zoetro (Cybozu)\n\nKubeCon + CloudNativeCon North America 
 2018のセッションを振り返り、今後のetcdに追加される
 予定のRaft LearnerやCluster init、etcdの新しい管理ツールで
 あるetcdadmなどを紹介します。\nMonitoring Kubernetes Audit Log
  By Falco\n\nMakoto Hasegawa @makocchi (CyberAgent)\n\nKubeCon + CloudNat
 iveCon 2018 NA Recap 〜Vitess〜\n\nYutaka Ichikawa @cyberblack28 (APC)\
 n\nKubeCon + CNConで見たPrometheusの今後\n\nYoshi Shota @yosshi_ (N
 TT Communications)\n\n懇親会 (Sponsored by CyberAgent)\n軽食、ビ
 ールを囲んでの懇親会となります。未成年の方や運転
 される方のアルコールの摂取は絶対におやめ下さい。\
 nぜひネットワーキングの時間や相互の情報共有の時間
 に当てて頂ければと思います。\n参加枠\n一般枠（抽選
 ）\n一般の参加者枠です。\n設備\n\nWi-Fi: 利用可\n電源: 
 利用可（数に限りがあります）\n\n注意事項・備考\n当
 日の受付時に Connpass の受付情報を確認する場合があり
 ます。ご了承下さい。\ncrash.academy 様のご協力により、
 後日動画が配信されます。動画に顔が映り込む場合が
 ございますので、ご注意下さい。\n登壇希望の方（次
 回以降）\n技術検証などが好きな方をお待ちしており
 ます。\nこのフォームから是非ご連絡をお願いいたし
 ます。
LOCATION:株式会社サイバーエージェント 17F セミナールー
 ム 東京都渋谷区道玄坂1丁目12番1号 （渋谷マークシテ
 ィ ウエスト 17F セミナールーム）
URL:https://techplay.jp/event/712559?utm_medium=referral&utm_source=ics&utm
 _campaign=ics
END:VEVENT
END:VCALENDAR
