BEGIN:VCALENDAR
VERSION:2.0
PRODID:-//https://techplay.jp//JP
CALSCALE:GREGORIAN
METHOD:PUBLISH
X-WR-CALDESC:Effective SQL 読書会(9)
X-WR-CALNAME:Effective SQL 読書会(9)
X-WR-TIMEZONE:Asia/Tokyo
BEGIN:VTIMEZONE
TZID:Asia/Tokyo
BEGIN:STANDARD
DTSTART:19700101T000000
TZOFFSETFROM:+0900
TZOFFSETTO:+0900
TZNAME:JST
END:STANDARD
END:VTIMEZONE
BEGIN:VEVENT
UID:712799@techplay.jp
SUMMARY:Effective SQL 読書会(9)
DTSTART;TZID=Asia/Tokyo:20190117T193000
DTEND;TZID=Asia/Tokyo:20190117T213000
DTSTAMP:20260421T035703Z
CREATED:20181220T211513Z
DESCRIPTION:イベント詳細はこちら\nhttps://techplay.jp/event/71279
 9?utm_medium=referral&utm_source=ics&utm_campaign=ics\n\nJohnL.Viescas/Do
 uglasJ.Steele/BenG.Clothier 著\,株式会社クイープ 監訳の「Eff
 ective SQL」の読書会です。\n特に準備は不要ですが、参
 加者は各自「Effective SQL」をご用意ください。\n英語の
 原著ではなく、日本語訳の読書会ですので、日本語訳
 を御用意ください。\n以下のブログで予告(?) していた
 読書会です。\nEffective SQL 日本語版が発売されます\n参
 加者で順に読んでいき、不明点などを話し合います。(
 特に発表者はおかず、参加した人で愚直に読んでいき
 ます)\n月に1～2度目黒にて行う予定にしています。(月
 ・水・木・金いずれかの曜日になる予定)\n\n\n\n回\n日\n
 ページ\n項目\nタイトル\n\n\n\n\n今回\n2019-01-17(木)\n130\n32
 \n複雑な問題の解決にGROUP BYとHAVINGを利用する\n\n\n8\n201
 8-12-07(金)\n121\n30\nGROUP BYの仕組みを理解する\n\n\n7\n2018-1
 1-05(月)\n101\n25\n複数の条件を使用する問題の解決方法
 を理解する\n\n\n6\n2018-10-22(月)\n80\n21\nUNIONを使って非正
 規化データをアンピボットする\n\n\n5\n2018-09-10(月)\n62\n1
 7\n計算値をインデックスで使用する状況を理解する\n\n
 \n4\n2018-08-27(月)\n44\n12\nフィルタリング以外にもインデ
 ックスを利用する\n\n\n3\n2018-07-30(月)\n25\n8\n第三正規形
 で十分でなけれ ば、さらに正規化する\n\n\n2\n2018-05-24(
 木)\n8\n3\n繰り返しグループを取り除く\n\n\n1\n2018-05-14(
 月)\nix\nN/A\nはじめに\n\n\n延期\n2018-05-09(水)\nix\nN/A\nはじ
 めに\n\n\n
LOCATION:下目黒住区センター 第2会議室(定員24名) 東京都
 目黒区下目黒 2-20-19
URL:https://techplay.jp/event/712799?utm_medium=referral&utm_source=ics&utm
 _campaign=ics
END:VEVENT
END:VCALENDAR
