BEGIN:VCALENDAR
VERSION:2.0
PRODID:-//https://techplay.jp//JP
CALSCALE:GREGORIAN
METHOD:PUBLISH
X-WR-CALDESC:【増枠】ng-kyoto Angular Meetup #9
X-WR-CALNAME:【増枠】ng-kyoto Angular Meetup #9
X-WR-TIMEZONE:Asia/Tokyo
BEGIN:VTIMEZONE
TZID:Asia/Tokyo
BEGIN:STANDARD
DTSTART:19700101T000000
TZOFFSETFROM:+0900
TZOFFSETTO:+0900
TZNAME:JST
END:STANDARD
END:VTIMEZONE
BEGIN:VEVENT
UID:712800@techplay.jp
SUMMARY:【増枠】ng-kyoto Angular Meetup #9
DTSTART;TZID=Asia/Tokyo:20190118T190000
DTEND;TZID=Asia/Tokyo:20190118T210500
DTSTAMP:20260421T102403Z
CREATED:20181220T211514Z
DESCRIPTION:イベント詳細はこちら\nhttps://techplay.jp/event/71280
 0?utm_medium=referral&utm_source=ics&utm_campaign=ics\n\nng-kyoto Angular
  Meetup #9\nng-kyoto Angular Meetupの9回目を 2019/1/18（金）に行
 います！\nイベント概要\n"ng-kyoto Angular Meetup" はAngularの
 ユーザコミュニティng-kyotoが主催する "最先端のWeb技術
 を学び、発信する" 勉強会です。\n9回目の今回は、サ
 イボウズ株式会社様のご厚意により、サイボウズ株式
 会社様のオフィスにおじゃまして開催する運びとなり
 ました！\nタイムテーブル\n\n\n\n時刻\n内容\n発表者\n\n\
 n\n\n19:00\n開場\n\n\n\n19:30\nオープニング / サイボウズさ
 んから会場諸注意およびスポンサートーク\n\n\n\n19:40\nC
 anvasでスクロールを扱う際の座標計算と苦労\n@okunokentar
 o\n\n\n20:00\nAWS AppSync + ApolloではじめるGraphQL\n@N372Drag\n\n\n
 20:20\n休憩\n\n\n\n20:25\n初心者だからこそのAngular\n@rdlabo\n
 \n\n20:45\n雰囲気でやっている人向けのRedux再入門\n@jmblog
 \n\n\n21:05\n閉会\n\n\n\n\n閉会後、希望者で懇親会に繰り
 出します。\n参加希望の方は当日お気軽にどうぞ！\n会
 場について\n会場はサイボウズ株式会社さんからお借
 りしています。ありがとうございます！\n入館方法\n梅
 田阪急ビルのシャトルエレベーターで15階のスカイロ
 ビーに上がっていただき、そこから個別のエレベータ
 ーで35階に上がってください。エレベーターを降りま
 したら、入り口が見えます。\n飲食物の持ち込み\nお飲
 み物をお持ちいただくことは可能です。お食事はご遠
 慮ください。\nお問い合わせ先\nイベントに関する質問
 問い合わせはconnpass上\nまたは管理者Twitterアカウント
 にお願いいたします。
LOCATION:サイボウズ株式会社 大阪オフィス 大阪府大阪市
 北区角田町8番1号 梅田阪急ビルオフィスタワー 35階
URL:https://techplay.jp/event/712800?utm_medium=referral&utm_source=ics&utm
 _campaign=ics
END:VEVENT
END:VCALENDAR
