BEGIN:VCALENDAR
VERSION:2.0
PRODID:-//https://techplay.jp//JP
CALSCALE:GREGORIAN
METHOD:PUBLISH
X-WR-CALDESC:【札幌】LINE Developer Meetup #48
X-WR-CALNAME:【札幌】LINE Developer Meetup #48
X-WR-TIMEZONE:Asia/Tokyo
BEGIN:VTIMEZONE
TZID:Asia/Tokyo
BEGIN:STANDARD
DTSTART:19700101T000000
TZOFFSETFROM:+0900
TZOFFSETTO:+0900
TZNAME:JST
END:STANDARD
END:VTIMEZONE
BEGIN:VEVENT
UID:712842@techplay.jp
SUMMARY:【札幌】LINE Developer Meetup #48
DTSTART;TZID=Asia/Tokyo:20190117T190000
DTEND;TZID=Asia/Tokyo:20190117T213000
DTSTAMP:20260422T072211Z
CREATED:20181221T061448Z
DESCRIPTION:イベント詳細はこちら\nhttps://techplay.jp/event/71284
 2?utm_medium=referral&utm_source=ics&utm_campaign=ics\n\nLINE Developer M
 eetup #48 in Sapporo\nLINEが定期的に開催する技術者向けミ
 ートアップ「LINE Developer Meetup」 \n48回目となる今回は
 初の試みで【北海道/札幌】にて開催いたします。\n今
 回はLINEの様々な領域にて技術的な取り組みや実例も含
 めお話します。\n幅広いカテゴリの話を一度に聞ける
 機会になりますので、是非ご参加ください。\nセッシ
 ョン後は、スピーカーや参加者の方同士の交流のため
 、懇親会を予定しております。\nドリンクと軽食をと
 りながらLINEエンジニアとの交流もお楽しみいただけれ
 ばと思います。\n※参加費無料。軽食をご用意します
 。\n※ 現在エンジニアの方、またはエンジニア志望の
 学生など基本的にプログラミングに関わっているみな
 さまを対象としております。\n※ 参加が難しくなった
 場合は他の方に参加していただけるよう早めのキャン
 セルをお願いします。\n日時\n2019年1月17日（木）19:30〜
 22:00\n※開場は19:00～\n場所\nACU-A（アスティ45）\n札幌市
 中央区北4条西5丁目アスティ45　16F\n（JR札幌駅より徒
 歩5分、地下鉄さっぽろ駅より徒歩3分）\nhttps://www.acu-h.
 jp/sapporo/koutsu_access\n※ 受付にてconnpassのユーザIDもしく
 は受付番号を確認致します。\n予定\n\n\n\n時間\nコンテ
 ンツ\n登壇者\n\n\n\n\n19:00\n開場\n\n\n\n19:30\n乾杯挨拶\n福
 島 英児(LINE UIT室室長/LINE Growth Technology 取締役)\n\n\n19:35
 \n大規模サービスを支えるLINEフロントエンド開発の挑
 戦\n川崎 康平(LINE/UIT室 マネージャー)\n\n\n19:55\nLINEの金
 融サービスの展望\n池田 英和(LINE 執行役員/LINE Finalcial 
 開発室室長)\n\n\n20:15\n休憩\n―\n\n\n20:20\nLINEサーバーサ
 イドアプリケーションのトレンド\nきしだ なおき(LINE F
 ukuoka/Developer Relations)\n\n\n20:40\nLINEエンジニアカルチャ
 ーとその働き方\n櫛井 優介(LINE/Developer Relations)\n\n\n21:00
 \n懇親会\n\n\n\n21:45\nCLOSE\n―\n\n\n\nセッション内容\n大規
 模サービスを支えるLINEフロントエンド開発の挑戦\n川
 崎康平(LINE/UIT室 マネージャー)\nLINEがハイブリッドア
 プリケーションであることはよく知られているかと思
 いますが、より具体的にどんな場面で何故ウェブ技術
 が採用されているのか、また、フロントエンド開発の
 採用技術や挑戦について、いくつか事例を交えつつご
 紹介します。\nLINEの金融サービスの展望\n池田 英和(LIN
 E 執行役員/LINE Finalcial 開発室室長)\nこれまで「LINE」が
 コミュニケーションを変えてきたように、LINE Financial
 株式会社においては、「金融が変わる。LINEが変える。
 」をミッションとし、金融サービスの課題やユーザー
 ニーズにLINEらしく向き合い、人と金融の距離を縮めて
 います。\n今回のセッションではこれまでに培ってき
 た高いレベルのセキュリティに加え、ユーザーにとっ
 てより身近で革新的な金融サービスを提供しようとし
 ているその組織ビジョンをご紹介させて頂きます。\nLI
 NEサーバーサイドアプリケーションのトレンド\nきしだ
  なおき(LINE Fukuoka/Developer Relations)\nLINEのサーバーサイ
 ドではJavaが最も多く使われています。そしてそこでは
 、大量のアクセスをさばくため、多くのサービスを効
 率よく開発するために試行錯誤が行われています。\n
 このセッションでは、LINEのサーバーサイドを支えるア
 ーキテクチャと、いまなお続いているその変化につい
 てご紹介します。\nLINEエンジニアカルチャーとその働
 き方\n櫛井 優介(LINE/Developer Relations)\n複数の国や地域に
 開発拠点があるLINEにおいてエンジニアたちはどのよう
 な価値観を大事にして働いているのか、効率よくパフ
 ォーマンスを発揮できるよう用意している制度や環境
 などについてもご紹介します。\nSushi&Beerの簡単な軽食
 をご準備いたします。スピーカーや参加者の方同士の
 交流のため、セッションの後は懇親会を予定しており
 ます。是非お気軽にご参加ください。
LOCATION:ACU-A（アスティ45） 札幌市中央区北4条西5丁目ア
 スティ45
URL:https://techplay.jp/event/712842?utm_medium=referral&utm_source=ics&utm
 _campaign=ics
END:VEVENT
END:VCALENDAR
